From mboxrd@z Thu Jan 1 00:00:00 1970 Return-Path: Received: from mails.dpdk.org (mails.dpdk.org [217.70.189.124]) by inbox.dpdk.org (Postfix) with ESMTP id 3D04D461AE for ; Mon, 10 Feb 2025 18:03:17 +0100 (CET) Received: from mails.dpdk.org (localhost [127.0.0.1]) by mails.dpdk.org (Postfix) with ESMTP id 1A0B7427B2; Mon, 10 Feb 2025 18:03:17 +0100 (CET) Received: from mail-il1-f228.google.com (mail-il1-f228.google.com [209.85.166.228]) by mails.dpdk.org (Postfix) with ESMTP id 342C4427A0 for ; Mon, 10 Feb 2025 18:03:16 +0100 (CET) Received: by mail-il1-f228.google.com with SMTP id e9e14a558f8ab-3cfce97a3d9so16747475ab.2 for ; Mon, 10 Feb 2025 09:03:16 -0800 (PST) DKIM-Signature: v=1; a=rsa-sha256; c=relaxed/relaxed; d=iol.unh.edu; s=unh-iol; t=1739206995; x=1739811795; darn=dpdk.org; h=cc:to:from:subject:message-id:date:from:to:cc:subject:date :message-id:reply-to; bh=RgyvjeSANdeB1SmX9gh9wFkkCJk4Vjougq5bfDKOIJY=; b=jRQGch6U3II3O6U0mTZrl6Swr+BAYACpsiX6nDr9rZHqzZD4VBH5sl5ev2M8O6Mq/7 7S7bb/rhUVFFeFdnk5zeD65ZIf0U1M1Z+07o0TImeSkgWo5dnPKqQlGGuweja5DRtiYv Wwzk3uxrMyKzAgjmj8cyk381z1Jr4lw4/xlgk= X-Google-DKIM-Signature: v=1; a=rsa-sha256; c=relaxed/relaxed; d=1e100.net; s=20230601; t=1739206995; x=1739811795; h=cc:to:from:subject:message-id:date:x-gm-message-state:from:to:cc :subject:date:message-id:reply-to; bh=RgyvjeSANdeB1SmX9gh9wFkkCJk4Vjougq5bfDKOIJY=; b=TJiIQxmJSfTx5WLa2qPf2Fi6ZvveZvfx7vqc0cmTIuB8Ak5Z+p/UPeY6vNusVzg5RU kBxLTrC3tfPpvCBQBUMqliHr+8sWQqyKFlR38Io+hqVM0N0nRZDe2mX8TYS30y3RvkmV pPW96uzV3YL0xygZQU+CX0BG74qlD1Yy0yk65Cenh5VaAqMyJQTYIBV6Xh0iIf7SrXeL CfY5LcKgU9lEAJOQY6AzV6fcGZ31StxeUm3cl7WC3MgU7hnudqotC3IZLQzX0zTeSG31 udwxeMQFUOZda//TNN6NfOEzNchwsm2DTbaN7fM3znZDRMYLuKuPv1PqArCJKk+AAbra EdPw== X-Gm-Message-State: AOJu0YwSAhpHdq18t8GzEEcFKlLBMiiYWAX9rVP6+S5aLrPyDEnus0oI PKBwSjcQCLhCTNbm8T/VZK/s0sjbxg2tgD5fHlWnC6wYgLU2L7jYgx2EDGMs/b6hx464t8Ra8hP jlqmsTQg1uTxvH0qLdOdZA+mHZpJb2RchyOVv6B5B X-Gm-Gg: ASbGncs9oAlO6g+9m0YB6WUriMICj7VQdOgSliz8HIuhV+TiVcW+wsMOfafyAoJCBQT kkSuUwGDLq9CMTZ0+esUkaIeBPHx8iMWvz+iax6yh6qyPTMUAH+LIqYtlN147q0q+YWHdA/i/Uz cWVTDrGewXBkPmZ1OLzJ9/CpZ48YVscWZhaetSCtBMG9Dvn4M3lk/ENSOy1PXyg45eXIOxzuvy1 0Nj1ewGU5lwVB7Fbr90QQHqpD+vy2Xhnhsi+KP7wd3H3XO/S620lKEhAxWzSbJQdfI2WFuljCRW LnD+kHx2kYMEobCIKua+bzx7ybT/jQ== X-Google-Smtp-Source: AGHT+IEuU7z7SjwbBRjI6g07KyS2dhwSPc37Lple57jXa/CsFGjqNuVnfyWJa63/DgFtwJ+fMRoVFB9zCD6g X-Received: by 2002:a05:6e02:198a:b0:3d0:258e:484f with SMTP id e9e14a558f8ab-3d13df003dcmr112291885ab.16.1739206995312; Mon, 10 Feb 2025 09:03:15 -0800 (PST) Received: from postal.iol.unh.edu (postal.iol.unh.edu. [132.177.123.84]) by smtp-relay.gmail.com with ESMTPS id e9e14a558f8ab-3d161a40055sm1427325ab.4.2025.02.10.09.03.15 (version=TLS1_2 cipher=ECDHE-ECDSA-AES128-GCM-SHA256 bits=128/128); Mon, 10 Feb 2025 09:03:15 -0800 (PST) X-Relaying-Domain: iol.unh.edu Date: Mon, 10 Feb 2025 09:03:15 -0800 (PST) Message-ID: <67aa3153.050a0220.fa569.799dSMTPIN_ADDED_MISSING@mx.google.com> Received: from [172.17.0.3] (unknown [172.18.0.217]) by postal.iol.unh.edu (Postfix) with ESMTP id B3F956052471; Mon, 10 Feb 2025 12:03:14 -0500 (EST) Subject: |SUCCESS| [GIT MASTER] e26a9bdb3d79bfac47f2adb995b2ac9904b7222d From: dpdklab@iol.unh.edu To: Test Report Cc: dpdk-test-reports@iol.unh.edu, Bruce Richardson Content-Type: text/plain X-BeenThere: test-report@dpdk.org X-Mailman-Version: 2.1.29 Precedence: list List-Id: automatic DPDK test reports List-Unsubscribe: , List-Archive: List-Post: List-Help: List-Subscribe: , Errors-To: test-report-bounces@dpdk.org _Testing PASS_ Branch: dpdk-next-net-intel e26a9bdb3d79bfac47f2adb995b2ac9904b7222d --> testing pass Upstream job id: Generic-DPDK-Compile-Meson#360154 Test environment and result as below: +----------------------------------------+--------------------+ | Environment | dpdk_meson_compile | +========================================+====================+ | RHEL9 (ARM) | PASS | +----------------------------------------+--------------------+ | Ubuntu 20.04 ARM SVE | PASS | +----------------------------------------+--------------------+ | Ubuntu 20.04 ARM GCC Cross Compile | PASS | +----------------------------------------+--------------------+ | Debian 12 with MUSDK | PASS | +----------------------------------------+--------------------+ | Fedora 40 (ARM) | PASS | +----------------------------------------+--------------------+ | Fedora 41 (ARM) | PASS | +----------------------------------------+--------------------+ | Fedora 40 (ARM Clang) | PASS | +----------------------------------------+--------------------+ | Fedora 41 (ARM Clang) | PASS | +----------------------------------------+--------------------+ | Ubuntu 20.04 (ARM) | PASS | +----------------------------------------+--------------------+ | Ubuntu 22.04 (ARM) | PASS | +----------------------------------------+--------------------+ | CentOS Stream 9 (ARM) | PASS | +----------------------------------------+--------------------+ | Ubuntu 24.04 (ARM) | PASS | +----------------------------------------+--------------------+ | Debian 11 (Buster) (ARM) | PASS | +----------------------------------------+--------------------+ | Debian 12 (arm) | PASS | +----------------------------------------+--------------------+ | Ubuntu 20.04 ARM Clang Cross Compile | PASS | +----------------------------------------+--------------------+ | Ubuntu 20.04 aarch32 GCC Cross Compile | PASS | +----------------------------------------+--------------------+ RHEL9 (ARM) Kernel: Depends on container host Compiler: gcc 11.5.0 20240719 (Red Hat 11.5.0-2) Ubuntu 20.04 ARM SVE Kernel: Depends on container host Compiler: gcc (Ubuntu 10.5.0-1ubuntu1~20.04) 10.5.0 Ubuntu 20.04 ARM GCC Cross Compile Kernel: Depends on container host Compiler: aarch64-linux-gnu-gcc (Ubuntu 9.4.0-1ubuntu1~20.04.2) 9.4.0 Debian 12 with MUSDK Kernel: Depends on container host Compiler: gcc (Debian 12.2.0-14) 12.2.0 Fedora 40 (ARM) Kernel: Depends on container host Compiler: gcc 14.2.1 20240912 (Red Hat 14.2.1-3) Fedora 41 (ARM) Kernel: Depends on container host Compiler: gcc 14.2.1 20240912 (Red Hat 14.2.1-3) Fedora 40 (ARM Clang) Kernel: Depends on container host Compiler: clang 18.1.8 (Fedora 18.1.8-1.fc40) Fedora 41 (ARM Clang) Kernel: Depends on container host Compiler: clang 19.1.5 (Fedora 19.1.5-1.fc41) Ubuntu 20.04 (ARM) Kernel: Depends on container host Compiler: gcc (Ubuntu 9.4.0-1ubuntu1~20.04.2) 9.4.0 Ubuntu 22.04 (ARM) Kernel: Depends on container host Compiler: gcc (Ubuntu 11.4.0-1ubuntu1~22.04) 11.4.0 CentOS Stream 9 (ARM) Kernel: Depends on container host Compiler: gcc 11.5.0 20240719 (Red Hat 11.5.0-2) Ubuntu 24.04 (ARM) Kernel: Depends on container host Compiler: gcc (Ubuntu 13.3.0-6ubuntu2~24.04) 13.3.0 Debian 11 (Buster) (ARM) Kernel: Depends on container host Compiler: gcc (Debian 10.2.1-6) 10.2.1 20210110 Debian 12 (arm) Kernel: Depends on container host Compiler: gcc (Debian 12.2.0-14) 12.2.0 Ubuntu 20.04 ARM Clang Cross Compile Kernel: Depends on container host Compiler: clang 10.0.0-4ubuntu1 Ubuntu 20.04 aarch32 GCC Cross Compile Kernel: Depends on container host Compiler: gcc 9.4.0 To view detailed results, visit: https://lab.dpdk.org/results/dashboard/tarballs/32526/ UNH-IOL DPDK Community Lab To manage your email subscriptions, visit: https://lab.dpdk.org/results/dashboard/preferences/subscriptions/