From mboxrd@z Thu Jan 1 00:00:00 1970 Return-Path: Received: from mails.dpdk.org (mails.dpdk.org [217.70.189.124]) by inbox.dpdk.org (Postfix) with ESMTP id 8D2AB461EE for ; Mon, 10 Feb 2025 20:48:31 +0100 (CET) Received: from mails.dpdk.org (localhost [127.0.0.1]) by mails.dpdk.org (Postfix) with ESMTP id 89C32402A1; Mon, 10 Feb 2025 20:48:31 +0100 (CET) Received: from mail-oa1-f100.google.com (mail-oa1-f100.google.com [209.85.160.100]) by mails.dpdk.org (Postfix) with ESMTP id F13064021E for ; Mon, 10 Feb 2025 20:48:30 +0100 (CET) Received: by mail-oa1-f100.google.com with SMTP id 586e51a60fabf-2a9ef75a20dso5404982fac.2 for ; Mon, 10 Feb 2025 11:48:30 -0800 (PST) DKIM-Signature: v=1; a=rsa-sha256; c=relaxed/relaxed; d=iol.unh.edu; s=unh-iol; t=1739216910; x=1739821710; darn=dpdk.org; h=references:in-reply-to:cc:to:from:subject:message-id:date:from:to :cc:subject:date:message-id:reply-to; bh=qhKjl6hAKHw4cNX/VgX2YDXm2fX4abtcO3lCRhPtjWM=; b=LsNQReZ0KYYyR1qcqtKL/cmWBTZdoS5yBqQ+ieaT+hnXqA6Vd7jSe0g05U2PF75d9p nzPs17nLNCt7lOnKzTlNkkFsPP9kDpGDUW5xxd+b1A6KifpHQ5WpK1ucslZ3xeMYOWnr agTT9UZk6RTMj9mwdqFUY3Um2dT5g2Qd3i+tY= X-Google-DKIM-Signature: v=1; a=rsa-sha256; c=relaxed/relaxed; d=1e100.net; s=20230601; t=1739216910; x=1739821710; h=references:in-reply-to:cc:to:from:subject:message-id:date :x-gm-message-state:from:to:cc:subject:date:message-id:reply-to; bh=qhKjl6hAKHw4cNX/VgX2YDXm2fX4abtcO3lCRhPtjWM=; b=PLtdMy7aC+kYmWaD8R2KpfZUrQUXcuG0wcU3AOPQkJGJ7ST29MiDRREEKbdPPwZpiK Jzg0oPF3YLhT6fJ0le8vNxjdf3SxQ+Z9tbog25hjCrN7wH7LD0hUrn9QBidblkSzRrpo 6/PNZAa7kjOOL4g6Kum9aEe1mDbAurRxY6IE19vm4GS3yIBTt+9xU1CoCNNt1jj/2tIq eO6nPIVcMrWsSWi8BiT3+2rCQ81/cKUMiKvTjUKjDTetpr6OMuW4/IEHSpLPyI55KF4C NKO0yZpo4DlQIENFKCRlYOku3e8HydcSNyUl98r/dQftgGH2MdLSdgjCTHCzADNUGFA1 wlmQ== X-Gm-Message-State: AOJu0YwTwpD8pUtyRrkRKJKxX4J4MxuqJkPKLXdjnW/UQO3bmWmcQ4Uz Y7T6uIilM5oURGEyZDMy7zPgijNRPFLAjTQ0l6UCS3cyPcUt+DLLq0A5JyqDnME0XWUy+4nCOX1 YEb7fMUPgOVATH1pyvfeZoyeQGYPtliOCyRKHQ0OALKvkvmcI4nq/bXMr X-Gm-Gg: ASbGnctH51AV7SyJwn5IlshJ6W2j8UHiVTybog3CcxDbiHpde2ORHVQtIp37lPtK3Mc Ktj0JYPBsdHUOyD2dK3BVFAYGLqBysnG94hNUkgP8U36ysz+v1/i0LSmxfMK5hSf5zaSDZCitk2 rFsRCoGPfJASu6d+6jC7saS/65kSv6MnqdWpvfd1HYkYEKuVrVFH3w8xGs92bO3mODw22guhAaA 4YPhzUyjzIDSWj92wPKTNfzUoylkgbyvFBVS+iTqHE/+TLpbrv3OAzY99Ab1lpx1xSW6PRg0/Vz A5Bt3BGNPVIV0JhopCQUxHKGq70VXEcIhkJVhKTQ1Q== X-Google-Smtp-Source: AGHT+IFZkTaXb6eGquPMmEYZy2U5UkQl3zy0K9uULNANdFwrGHWDqE+EgR40STiHzwRG0AZlaHsb4u7/LgHL X-Received: by 2002:a05:6870:5691:b0:2a3:c59d:f09d with SMTP id 586e51a60fabf-2b83ec24d41mr10140538fac.14.1739216910171; Mon, 10 Feb 2025 11:48:30 -0800 (PST) Received: from postal.iol.unh.edu (postal.iol.unh.edu. [2606:4100:3880:1234::84]) by smtp-relay.gmail.com with ESMTPS id 586e51a60fabf-2b8a84f9fafsm64401fac.16.2025.02.10.11.48.30 (version=TLS1_2 cipher=ECDHE-ECDSA-AES128-GCM-SHA256 bits=128/128); Mon, 10 Feb 2025 11:48:30 -0800 (PST) X-Relaying-Domain: iol.unh.edu Date: Mon, 10 Feb 2025 11:48:30 -0800 (PST) Message-ID: <67aa580e.050a0220.3b3b85.3bacSMTPIN_ADDED_MISSING@mx.google.com> Received: from [172.21.0.5] (unknown [172.18.0.240]) by postal.iol.unh.edu (Postfix) with ESMTP id 9F4ED6052471; Mon, 10 Feb 2025 14:48:29 -0500 (EST) Subject: |SUCCESS| pw151283-151288 [PATCH] [v3,6/6] trace: fix undefined beha From: dpdklab@iol.unh.edu To: Test Report Cc: dpdk-test-reports@iol.unh.edu In-Reply-To: <20250210174424.3364021-7-david.marchand@redhat.com> References: <20250210174424.3364021-7-david.marchand@redhat.com> Content-Type: text/plain X-BeenThere: test-report@dpdk.org X-Mailman-Version: 2.1.29 Precedence: list List-Id: automatic DPDK test reports List-Unsubscribe: , List-Archive: List-Post: List-Help: List-Subscribe: , Errors-To: test-report-bounces@dpdk.org Test-Label: iol-unit-amd64-testing Test-Status: SUCCESS http://dpdk.org/patch/151288 _Testing PASS_ Submitter: David Marchand Date: Monday, February 10 2025 17:44:22 DPDK git baseline: Repo:dpdk Branch: master CommitID:3553897d84d8b54a1b1136cbf04dd7f1a40fd85b 151283-151288 --> testing pass Upstream job id: Generic-Unit-Test-DPDK#313727 Test environment and result as below: +---------------------+----------------+ | Environment | dpdk_unit_test | +=====================+================+ | CentOS Stream 10 | PASS | +---------------------+----------------+ | CentOS Stream 9 | PASS | +---------------------+----------------+ | Debian Bullseye | PASS | +---------------------+----------------+ | Fedora 40 | PASS | +---------------------+----------------+ | Debian 12 | PASS | +---------------------+----------------+ | RHEL8 | PASS | +---------------------+----------------+ | Fedora 41 | PASS | +---------------------+----------------+ | RHEL9 | PASS | +---------------------+----------------+ | Ubuntu 22.04 | PASS | +---------------------+----------------+ | Fedora 40 (Clang) | PASS | +---------------------+----------------+ | Ubuntu 20.04 | PASS | +---------------------+----------------+ | Fedora 41 (Clang) | PASS | +---------------------+----------------+ | Ubuntu 24.04 | PASS | +---------------------+----------------+ | Windows Server 2022 | PASS | +---------------------+----------------+ CentOS Stream 10 Kernel: Depends on container host Compiler: gcc 14.2.1 20241104 (Red Hat 14.2.1-6) CentOS Stream 9 Kernel: Depends on container host Compiler: gcc 11.5.0 20240719 (Red Hat 11.5.0-2) Debian Bullseye Kernel: Depends on container host Compiler: gcc (Debian 10.2.1-6) 10.2.1 20210110 Fedora 40 Kernel: Depends on container host Compiler: gcc 14.2.1 20240912 (Red Hat 14.2.1-3) Debian 12 Kernel: Depends on container host Compiler: gcc (Debian 12.2.0-14) 12.2.0 RHEL8 Kernel: Depends on container host Compiler: gcc 8.5.0 20210514 (Red Hat 8.5.0-22) Fedora 41 Kernel: Depends on container host Compiler: gcc 14.2.1 20240912 (Red Hat 14.2.1-3) RHEL9 Kernel: Depends on container host Compiler: gcc 11.5.0 20240719 (Red Hat 11.5.0-2) Ubuntu 22.04 Kernel: Depends on container host Compiler: gcc (Ubuntu 11.4.0-1ubuntu1~22.04) 11.4.0 Fedora 40 (Clang) Kernel: Depends on container host Compiler: clang 18.1.8 (Fedora 18.1.8-1.fc40) Ubuntu 20.04 Kernel: Depends on container host Compiler: gcc (Ubuntu 9.4.0-1ubuntu1~20.04.2) 9.4.0 Fedora 41 (Clang) Kernel: Depends on container host Compiler: clang 19.1.5 (Fedora 19.1.5-1.fc41) Ubuntu 24.04 Kernel: Depends on container host Compiler: gcc (Ubuntu 13.3.0-6ubuntu2~24.04) 13.3.0 Windows Server 2022 Kernel: 10.0.20348.2031 Compiler: clang 15.0.7, gcc 14.1.0 (MinGW), and MSVC VS 19.39.33521 To view detailed results, visit: https://lab.dpdk.org/results/dashboard/patchsets/32552/ UNH-IOL DPDK Community Lab To manage your email subscriptions, visit: https://lab.dpdk.org/results/dashboard/preferences/subscriptions/