From mboxrd@z Thu Jan 1 00:00:00 1970 Return-Path: Received: from mails.dpdk.org (mails.dpdk.org [217.70.189.124]) by inbox.dpdk.org (Postfix) with ESMTP id EDA24461EE for ; Mon, 10 Feb 2025 20:51:03 +0100 (CET) Received: from mails.dpdk.org (localhost [127.0.0.1]) by mails.dpdk.org (Postfix) with ESMTP id E9AF3402A1; Mon, 10 Feb 2025 20:51:03 +0100 (CET) Received: from mail-oa1-f98.google.com (mail-oa1-f98.google.com [209.85.160.98]) by mails.dpdk.org (Postfix) with ESMTP id 0472F4021E for ; Mon, 10 Feb 2025 20:51:03 +0100 (CET) Received: by mail-oa1-f98.google.com with SMTP id 586e51a60fabf-2b840a0cad9so1957524fac.3 for ; Mon, 10 Feb 2025 11:51:02 -0800 (PST) DKIM-Signature: v=1; a=rsa-sha256; c=relaxed/relaxed; d=iol.unh.edu; s=unh-iol; t=1739217062; x=1739821862; darn=dpdk.org; h=references:in-reply-to:cc:to:from:subject:message-id:date:from:to :cc:subject:date:message-id:reply-to; bh=2kf/dzeoZFzu7BlA9P5h0Zk+HA9uFR2yx5PkREYk8wY=; b=dbjoMdDvBEEqu/dp1xkPXUfFkjIrf122Fq2Pe/h/y7WDv90ZUMsXYFr1YvVEkJvnDQ z1NH2WYwcssE/QdmWf3CP1IVnmTRKWSUtcAsO/FGqotW6+ATzx8smj86vnmQ6h2ql7j5 6HgpCH0FF+vU42ND+OCbj+yLt65KlxwLW8v9k= X-Google-DKIM-Signature: v=1; a=rsa-sha256; c=relaxed/relaxed; d=1e100.net; s=20230601; t=1739217062; x=1739821862; h=references:in-reply-to:cc:to:from:subject:message-id:date :x-gm-message-state:from:to:cc:subject:date:message-id:reply-to; bh=2kf/dzeoZFzu7BlA9P5h0Zk+HA9uFR2yx5PkREYk8wY=; b=ow0IjDf7mhsX7dNT2Pe45Ch6yWF16snoOJNRMKLIYWqANO/RQe74f5V3VGHjKu+j39 YrXql4bXyV6BiD/MY7pagxp/oaWYRbqJMk0wOlBrBzl61lY0kuD3oluT4hQaSncCCPkY 074bEmZo9ETcJyy3PS+aCZ5A4YXMLM1vdrsF/q29UrWLbJByMwjwDgdd71LVNQijUQJZ PpKzFFgEsvrZVUKABlYjyDuF0v7UIPU1kfT6aqxJgEMn9pgob5aZOtlvTv2g0JOXALyg jPIVW/Lu+/iDvmGtDXogRzzaSM9A8mR15G5p082svl7d3jSQNeoKtcFbH5PhlnfZz6wf 9aJg== X-Gm-Message-State: AOJu0Yx49yqr+z+PjEauCuF9PiZYlKoKaH5u4nQfqBwZ82ENdzhT0PsQ w2XS5OZf/iA+po5Be8ZMRhiA+2xYraEQgAUCs7TmxCFLLC7mtCS/71X34PPciNnsknq47YutsDY wuKe/qTrKbbghS+dI+9WRefiNMQQ4WgVmv5+nw/hP X-Gm-Gg: ASbGncugZdTYhqyUWMvSGX+7jnM++FT1/4PbKR8FV1Ey3OMQFJ6VD8TNB9G1R/sW4wM HkqdSaGmEiZgoyVi73UOt/hr6B8PgcdkM/C57uHgWYmBivR46HqhU4H32bcWGffSM0SsGji6XEr bgVxJnouiv0G2jecKwN0DF6U8GrLQgbf0y/Ldxr+mPhP7b3hUWkx2h4x/c6aLbsebg+kU5/HavA NwVI7hobnLLFDjevxgFz00M5Y9mDzXLXCqSgugi35HSLlsOwy1Qevw+e4Zf+4KidSoQYh0GAdxM 2+SWWapk5KxoSjkAGd3iRiyFXPAo6w== X-Google-Smtp-Source: AGHT+IFUuvl1esXqmQs9lifscB39c62YR42sHJKFT05Jm9mT1tRdzt3UKg0hC8pwjnEs2yaqAm5pi68gYgPF X-Received: by 2002:a05:6871:6216:b0:29f:e9db:1715 with SMTP id 586e51a60fabf-2b83ec7785bmr7991990fac.16.1739217062204; Mon, 10 Feb 2025 11:51:02 -0800 (PST) Received: from postal.iol.unh.edu (postal.iol.unh.edu. [132.177.123.84]) by smtp-relay.gmail.com with ESMTPS id 586e51a60fabf-2b8ab64b4f9sm53281fac.1.2025.02.10.11.51.02 (version=TLS1_2 cipher=ECDHE-ECDSA-AES128-GCM-SHA256 bits=128/128); Mon, 10 Feb 2025 11:51:02 -0800 (PST) X-Relaying-Domain: iol.unh.edu Date: Mon, 10 Feb 2025 11:51:02 -0800 (PST) Message-ID: <67aa58a6.050a0220.f56f6.3427SMTPIN_ADDED_MISSING@mx.google.com> Received: from [172.21.0.8] (unknown [172.18.0.240]) by postal.iol.unh.edu (Postfix) with ESMTP id 9EF1D6052471; Mon, 10 Feb 2025 14:51:01 -0500 (EST) Subject: |SUCCESS| pw151283-151288 [PATCH] [v3,6/6] trace: fix undefined beha From: dpdklab@iol.unh.edu To: Test Report Cc: dpdk-test-reports@iol.unh.edu In-Reply-To: <20250210174424.3364021-7-david.marchand@redhat.com> References: <20250210174424.3364021-7-david.marchand@redhat.com> Content-Type: text/plain X-BeenThere: test-report@dpdk.org X-Mailman-Version: 2.1.29 Precedence: list List-Id: automatic DPDK test reports List-Unsubscribe: , List-Archive: List-Post: List-Help: List-Subscribe: , Errors-To: test-report-bounces@dpdk.org Test-Label: iol-abi-testing Test-Status: SUCCESS http://dpdk.org/patch/151288 _Testing PASS_ Submitter: David Marchand Date: Monday, February 10 2025 17:44:22 DPDK git baseline: Repo:dpdk Branch: master CommitID:3553897d84d8b54a1b1136cbf04dd7f1a40fd85b 151283-151288 --> testing pass Upstream job id: Generic-DPDK-Compile-ABI#115660 Test environment and result as below: +-------------------+----------+ | Environment | abi_test | +===================+==========+ | Fedora 41 (Clang) | PASS | +-------------------+----------+ | CentOS Stream 9 | PASS | +-------------------+----------+ | Debian Bullseye | PASS | +-------------------+----------+ | CentOS Stream 10 | PASS | +-------------------+----------+ | Fedora 41 | PASS | +-------------------+----------+ | RHEL9 | PASS | +-------------------+----------+ | Ubuntu 22.04 | PASS | +-------------------+----------+ | Fedora 40 (Clang) | PASS | +-------------------+----------+ | RHEL8 | PASS | +-------------------+----------+ | Debian 12 | PASS | +-------------------+----------+ | openSUSE Leap 15 | PASS | +-------------------+----------+ | Ubuntu 24.04 | PASS | +-------------------+----------+ | Fedora 40 | PASS | +-------------------+----------+ Fedora 41 (Clang) Kernel: Depends on container host Compiler: clang 19.1.5 (Fedora 19.1.5-1.fc41) CentOS Stream 9 Kernel: Depends on container host Compiler: gcc 11.5.0 20240719 (Red Hat 11.5.0-2) Debian Bullseye Kernel: Depends on container host Compiler: gcc (Debian 10.2.1-6) 10.2.1 20210110 CentOS Stream 10 Kernel: Depends on container host Compiler: gcc 14.2.1 20241104 (Red Hat 14.2.1-6) Fedora 41 Kernel: Depends on container host Compiler: gcc 14.2.1 20240912 (Red Hat 14.2.1-3) RHEL9 Kernel: Depends on container host Compiler: gcc 11.5.0 20240719 (Red Hat 11.5.0-2) Ubuntu 22.04 Kernel: Depends on container host Compiler: gcc (Ubuntu 11.4.0-1ubuntu1~22.04) 11.4.0 Fedora 40 (Clang) Kernel: Depends on container host Compiler: clang 18.1.8 (Fedora 18.1.8-1.fc40) RHEL8 Kernel: Depends on container host Compiler: gcc 8.5.0 20210514 (Red Hat 8.5.0-22) Debian 12 Kernel: Depends on container host Compiler: gcc (Debian 12.2.0-14) 12.2.0 openSUSE Leap 15 Kernel: Depends on container host Compiler: gcc (SUSE Linux) 7.5.0 Ubuntu 24.04 Kernel: Depends on container host Compiler: gcc (Ubuntu 13.3.0-6ubuntu2~24.04) 13.3.0 Fedora 40 Kernel: Depends on container host Compiler: gcc 14.2.1 20240912 (Red Hat 14.2.1-3) To view detailed results, visit: https://lab.dpdk.org/results/dashboard/patchsets/32552/ UNH-IOL DPDK Community Lab To manage your email subscriptions, visit: https://lab.dpdk.org/results/dashboard/preferences/subscriptions/