From mboxrd@z Thu Jan 1 00:00:00 1970 Return-Path: Received: from mails.dpdk.org (mails.dpdk.org [217.70.189.124]) by inbox.dpdk.org (Postfix) with ESMTP id 6B0F8461EE for ; Mon, 10 Feb 2025 21:07:00 +0100 (CET) Received: from mails.dpdk.org (localhost [127.0.0.1]) by mails.dpdk.org (Postfix) with ESMTP id 97C6A402C4; Mon, 10 Feb 2025 21:06:59 +0100 (CET) Received: from mail-yb1-f225.google.com (mail-yb1-f225.google.com [209.85.219.225]) by mails.dpdk.org (Postfix) with ESMTP id F1E88402A1 for ; Mon, 10 Feb 2025 21:06:57 +0100 (CET) Received: by mail-yb1-f225.google.com with SMTP id 3f1490d57ef6-e589c258663so5097034276.1 for ; Mon, 10 Feb 2025 12:06:57 -0800 (PST) DKIM-Signature: v=1; a=rsa-sha256; c=relaxed/relaxed; d=iol.unh.edu; s=unh-iol; t=1739218017; x=1739822817; darn=dpdk.org; h=references:in-reply-to:cc:to:from:subject:message-id:date:from:to :cc:subject:date:message-id:reply-to; bh=9EGEjYyuDHGA16C8IOGOZDlXN2IzvbAJLPXTbPn8yNk=; b=fB7rXnjsg6aZI5UM/NopSqOupgSmcb2QP77hhv0u06liyZwJ31eAJQ+NPiSg7SB1sV p9PuA3MqC15C0NcDHnFsobgLtY0o9ScJodQRx/ZMrC1YLYTFv/XFbEsbmVIRSwmtNhOq PVbBGYQylPDbe1h9dm9+e3pfhCTV6j2z7eyXE= X-Google-DKIM-Signature: v=1; a=rsa-sha256; c=relaxed/relaxed; d=1e100.net; s=20230601; t=1739218017; x=1739822817; h=references:in-reply-to:cc:to:from:subject:message-id:date :x-gm-message-state:from:to:cc:subject:date:message-id:reply-to; bh=9EGEjYyuDHGA16C8IOGOZDlXN2IzvbAJLPXTbPn8yNk=; b=WSSGLnOdRzuolg3Ls8DNS/VbRoqoCrsNMCFDxNXVT/c7JeB1hFs+vVZPtfeuI0WtqM Yt8S35zGq5hFFnqoJB/f/Fpj0DLcnwvlUBntXWYcnyFPMBTxhOckp81B/xoH5RwJq8Fq 7Y4GdJo476SO0wtw3Eed1Lf33V3HI7LXAIsa0+aM/bHyjmxcZcesJJqyRej0GETW293F Bm73Ooyf4rCmQ31KfrlTnt4GJLNX81RT/M+kjNAnmR/0jLE7AaR1nSOTE6ENE28JQaTw xV7ikpKpiCOfETpnovGuDjwx8pJmQ60e+ZX7morm+uct/FkZfF0Y4xzgaApnKefR27zt BS6A== X-Gm-Message-State: AOJu0YxyTIg/6anONi6pOGWB9V6RfsEvLfr3x/XkNB6M8JtZoumuGUzD udhAkUx1IA+3SspbWmst8ybD3Z7K1D9R5soSrgOMFINLFMe9kOkdw+hvdBRg9D4hD9Ws/fvwpBx ypTlVdQy4c+gip6r0OrotoDzGm3yh9xJqtjjeiAPgNUa91IdkUazuIKq0 X-Gm-Gg: ASbGncuL6mlGa3GQ2fQxwez6NSfZDqHXQKMs+2VGpZYGW8dlfQ8CAyVNGbqIH7uT9dM fdoJYIvKjIwESjUGDMK9YLT7o5KyVj9GWo/i6GP2a5I6OPbtC1Zlb6Q/EUO98A+vte7mvKW7Vfk QkpY1m0kjSRAFJ+8F63B9q/tN5Nz/aGxfoMUWQpac6DNDMVOQcY5QY7hAYxrp5hxrWLuv6X8Gbz PpELA3hYh3XZsp0oiKwCdvXiM/NP2KDsx2sFPDcgtLkkQaM7KKn6mOZoDE1KuBq/RO1lg+IdHyr eP04q4+hyx/+APJRLZ9RP1nw6PoPxCmnldMQFaJY5Q== X-Google-Smtp-Source: AGHT+IFALenLMaXqwceDak7sinUyOcoVbpZe41a5hm0Lv6t25Fl2s8LdBfeYy6ah8XqS9hThtLVh5rYjJQE2 X-Received: by 2002:a05:6902:154f:b0:e5b:33ce:53b1 with SMTP id 3f1490d57ef6-e5b461d0589mr11342265276.21.1739218017316; Mon, 10 Feb 2025 12:06:57 -0800 (PST) Received: from postal.iol.unh.edu (postal.iol.unh.edu. [2606:4100:3880:1234::84]) by smtp-relay.gmail.com with ESMTPS id 3f1490d57ef6-e5b3a1f225asm251902276.1.2025.02.10.12.06.57 (version=TLS1_2 cipher=ECDHE-ECDSA-AES128-GCM-SHA256 bits=128/128); Mon, 10 Feb 2025 12:06:57 -0800 (PST) X-Relaying-Domain: iol.unh.edu Date: Mon, 10 Feb 2025 12:06:57 -0800 (PST) Message-ID: <67aa5c61.5b0a0220.10df34.c5ddSMTPIN_ADDED_MISSING@mx.google.com> Received: from [172.21.0.6] (unknown [172.18.0.240]) by postal.iol.unh.edu (Postfix) with ESMTP id 05E506052471; Mon, 10 Feb 2025 15:06:57 -0500 (EST) Subject: |SUCCESS| pw151283-151288 [PATCH] [v3,6/6] trace: fix undefined beha From: dpdklab@iol.unh.edu To: Test Report Cc: dpdk-test-reports@iol.unh.edu In-Reply-To: <20250210174424.3364021-7-david.marchand@redhat.com> References: <20250210174424.3364021-7-david.marchand@redhat.com> Content-Type: text/plain X-BeenThere: test-report@dpdk.org X-Mailman-Version: 2.1.29 Precedence: list List-Id: automatic DPDK test reports List-Unsubscribe: , List-Archive: List-Post: List-Help: List-Subscribe: , Errors-To: test-report-bounces@dpdk.org Test-Label: iol-compile-amd64-testing Test-Status: SUCCESS http://dpdk.org/patch/151288 _Testing PASS_ Submitter: David Marchand Date: Monday, February 10 2025 17:44:22 DPDK git baseline: Repo:dpdk Branch: master CommitID:3553897d84d8b54a1b1136cbf04dd7f1a40fd85b 151283-151288 --> testing pass Upstream job id: Generic-DPDK-Compile-Meson#360207 Test environment and result as below: +---------------------+--------------------+-------------------+------------------+-------------------+-------------------------+----------------------+ | Environment | dpdk_meson_compile | dpdk_compile_spdk | dpdk_compile_ovs | dpdk_msvc_compile | dpdk_llvm_clang_compile | dpdk_mingw64_compile | +=====================+====================+===================+==================+===================+=========================+======================+ | CentOS Stream 9 | PASS | PASS | SKIPPED | SKIPPED | SKIPPED | SKIPPED | +---------------------+--------------------+-------------------+------------------+-------------------+-------------------------+----------------------+ | CentOS Stream 10 | PASS | SKIPPED | SKIPPED | SKIPPED | SKIPPED | SKIPPED | +---------------------+--------------------+-------------------+------------------+-------------------+-------------------------+----------------------+ | Debian Bullseye | PASS | PASS | SKIPPED | SKIPPED | SKIPPED | SKIPPED | +---------------------+--------------------+-------------------+------------------+-------------------+-------------------------+----------------------+ | Debian 12 | PASS | PASS | SKIPPED | SKIPPED | SKIPPED | SKIPPED | +---------------------+--------------------+-------------------+------------------+-------------------+-------------------------+----------------------+ | Fedora 40 (Clang) | PASS | PASS | SKIPPED | SKIPPED | SKIPPED | SKIPPED | +---------------------+--------------------+-------------------+------------------+-------------------+-------------------------+----------------------+ | Fedora 40 | PASS | PASS | SKIPPED | SKIPPED | SKIPPED | SKIPPED | +---------------------+--------------------+-------------------+------------------+-------------------+-------------------------+----------------------+ | Fedora 41 (Clang) | PASS | PASS | PASS | SKIPPED | SKIPPED | SKIPPED | +---------------------+--------------------+-------------------+------------------+-------------------+-------------------------+----------------------+ | openSUSE Leap 15 | PASS | SKIPPED | SKIPPED | SKIPPED | SKIPPED | SKIPPED | +---------------------+--------------------+-------------------+------------------+-------------------+-------------------------+----------------------+ | Fedora 41 | PASS | PASS | PASS | SKIPPED | SKIPPED | SKIPPED | +---------------------+--------------------+-------------------+------------------+-------------------+-------------------------+----------------------+ | RHEL8 | PASS | SKIPPED | SKIPPED | SKIPPED | SKIPPED | SKIPPED | +---------------------+--------------------+-------------------+------------------+-------------------+-------------------------+----------------------+ | RHEL9 | PASS | SKIPPED | SKIPPED | SKIPPED | SKIPPED | SKIPPED | +---------------------+--------------------+-------------------+------------------+-------------------+-------------------------+----------------------+ | Ubuntu 20.04 | PASS | SKIPPED | SKIPPED | SKIPPED | SKIPPED | SKIPPED | +---------------------+--------------------+-------------------+------------------+-------------------+-------------------------+----------------------+ | Ubuntu 24.04 | PASS | PASS | PASS | SKIPPED | SKIPPED | SKIPPED | +---------------------+--------------------+-------------------+------------------+-------------------+-------------------------+----------------------+ | Ubuntu 22.04 | PASS | PASS | SKIPPED | SKIPPED | SKIPPED | SKIPPED | +---------------------+--------------------+-------------------+------------------+-------------------+-------------------------+----------------------+ | Alpine | PASS | SKIPPED | SKIPPED | SKIPPED | SKIPPED | SKIPPED | +---------------------+--------------------+-------------------+------------------+-------------------+-------------------------+----------------------+ | FreeBSD 13.4 | PASS | SKIPPED | SKIPPED | SKIPPED | SKIPPED | SKIPPED | +---------------------+--------------------+-------------------+------------------+-------------------+-------------------------+----------------------+ | FreeBSD 14.2 | PASS | SKIPPED | SKIPPED | SKIPPED | SKIPPED | SKIPPED | +---------------------+--------------------+-------------------+------------------+-------------------+-------------------------+----------------------+ | Windows Server 2022 | SKIPPED | SKIPPED | SKIPPED | PASS | PASS | PASS | +---------------------+--------------------+-------------------+------------------+-------------------+-------------------------+----------------------+ CentOS Stream 9 Kernel: Depends on container host Compiler: gcc 11.5.0 20240719 (Red Hat 11.5.0-2) CentOS Stream 10 Kernel: Depends on container host Compiler: gcc 14.2.1 20241104 (Red Hat 14.2.1-6) Debian Bullseye Kernel: Depends on container host Compiler: gcc (Debian 10.2.1-6) 10.2.1 20210110 Debian 12 Kernel: Depends on container host Compiler: gcc (Debian 12.2.0-14) 12.2.0 Fedora 40 (Clang) Kernel: Depends on container host Compiler: clang 18.1.8 (Fedora 18.1.8-1.fc40) Fedora 40 Kernel: Depends on container host Compiler: gcc 14.2.1 20240912 (Red Hat 14.2.1-3) Fedora 41 (Clang) Kernel: Depends on container host Compiler: clang 19.1.5 (Fedora 19.1.5-1.fc41) openSUSE Leap 15 Kernel: Depends on container host Compiler: gcc (SUSE Linux) 7.5.0 Fedora 41 Kernel: Depends on container host Compiler: gcc 14.2.1 20240912 (Red Hat 14.2.1-3) RHEL8 Kernel: Depends on container host Compiler: gcc 8.5.0 20210514 (Red Hat 8.5.0-22) RHEL9 Kernel: Depends on container host Compiler: gcc 11.5.0 20240719 (Red Hat 11.5.0-2) Ubuntu 20.04 Kernel: Depends on container host Compiler: gcc (Ubuntu 9.4.0-1ubuntu1~20.04.2) 9.4.0 Ubuntu 24.04 Kernel: Depends on container host Compiler: gcc (Ubuntu 13.3.0-6ubuntu2~24.04) 13.3.0 Ubuntu 22.04 Kernel: Depends on container host Compiler: gcc (Ubuntu 11.4.0-1ubuntu1~22.04) 11.4.0 Alpine Kernel: Depends on container host Compiler: gcc (Alpine 14.2.0) 14.2.0 FreeBSD 13.4 Kernel: 13.4-RELEASE-p1 Compiler: clang 18.1.6 FreeBSD 14.2 Kernel: 14.2-RELEASE Compiler: clang 18.1.6 Windows Server 2022 Kernel: 10.0.20348.2031 Compiler: clang 15.0.7, gcc 14.1.0 (MinGW), and MSVC VS 19.39.33521 To view detailed results, visit: https://lab.dpdk.org/results/dashboard/patchsets/32552/ UNH-IOL DPDK Community Lab To manage your email subscriptions, visit: https://lab.dpdk.org/results/dashboard/preferences/subscriptions/