From mboxrd@z Thu Jan 1 00:00:00 1970 Return-Path: Received: from mails.dpdk.org (mails.dpdk.org [217.70.189.124]) by inbox.dpdk.org (Postfix) with ESMTP id B3E2F461EE for ; Mon, 10 Feb 2025 22:01:17 +0100 (CET) Received: from mails.dpdk.org (localhost [127.0.0.1]) by mails.dpdk.org (Postfix) with ESMTP id 8771D402A4; Mon, 10 Feb 2025 22:01:17 +0100 (CET) Received: from mail-io1-f99.google.com (mail-io1-f99.google.com [209.85.166.99]) by mails.dpdk.org (Postfix) with ESMTP id B7890402A1 for ; Mon, 10 Feb 2025 22:01:15 +0100 (CET) Received: by mail-io1-f99.google.com with SMTP id ca18e2360f4ac-85517db52a2so41804039f.3 for ; Mon, 10 Feb 2025 13:01:15 -0800 (PST) DKIM-Signature: v=1; a=rsa-sha256; c=relaxed/relaxed; d=iol.unh.edu; s=unh-iol; t=1739221275; x=1739826075; darn=dpdk.org; h=references:in-reply-to:cc:to:from:subject:message-id:date:from:to :cc:subject:date:message-id:reply-to; bh=3gBVL0kQP40GYI+MpBto6Y4eP16NULzl+udlDpuwuYs=; b=cB+HClqS5+kVVUWDgPbJwtlV7gKIhkz2RgpPH15fRlsxOlYUuDgLVbYnwH3izosRTY 2blxt1qe0TrvH1M4W4l5nrxskRFQgWl6uDwnjjPmSZAJa45eGnOXHg8X3Ltrk5E6fbgN QZH6JZ8yWk4J6BdIx0B3//uMDEkP9SZMLnk7w= X-Google-DKIM-Signature: v=1; a=rsa-sha256; c=relaxed/relaxed; d=1e100.net; s=20230601; t=1739221275; x=1739826075; h=references:in-reply-to:cc:to:from:subject:message-id:date :x-gm-message-state:from:to:cc:subject:date:message-id:reply-to; bh=3gBVL0kQP40GYI+MpBto6Y4eP16NULzl+udlDpuwuYs=; b=APsHUNSEqtaGkNZiOeOT20le9DmpX0fCJiOuV+5JJeok5I9L6wc19ittKXRK7a9wqG lKMuHPjvxGIw7B8zu9AEKRa7RoMSo0RXiPtNb0+GGT2dNQmXzw6EUarHrHGPDBCn8WZt M/gXB7RDo6fHzD0WoBUcOUS/g8yytat3SoEviHQCO26QeLB5qBmxuFsKHfA7YEPU6sU3 6DU4a+5hbmNgCjB95FHgY8808EQNU0cKggym201nXcjfHSqZfP5v014C440LvWS6E892 XOuD0UZse3+uocB4ziu/wUbNdWFQoDFw8cMg3Zxi1UUJx8apcU3xW2yABLTWjoL2CvTr YlnQ== X-Gm-Message-State: AOJu0YwiUyVzJ3TNxh3Hb0ARxDpB4Rua56Ek8Ub3H5TALExx1J6c8Ytp 46FI79TJfb1shjuxth/X4VPykrD55uxjounMsTwqLgOUJo7WmySzbJqzkedwX5aTyfwsktiHUVx NMTEH6PSEZU26Am8vQNcDG99CnNCB1PV3B/FuzRYwg7aa4EoACDaXFPwk X-Gm-Gg: ASbGncsTpgZ7+ffPKILjlycLN0HK4pUDcKtZgYFls9hPtKj2pm35CinZULS05ZfDp13 CKEnLcckUdRaxTj/ZMOXldlHYtJQpYS/luqkA9tEavNbizrkESIOHEtCkzCDiUZnhzOofQdjA/X 4ztURzNvFGKf3woNrNtT9EdUE8rLWeK7jLNDsdUIftcnQLJBFfdkLDwfFVCI51TdR1LBTaYvv77 UcL2z8uY/+4l+hJPTBG8XftUESi9dTGsDOkQbJCvFQRXGmB8RSZKl6Ei+GqrvhU+saf6ppO4P06 yt6VtADb0sTunOhOVdQVORAgcnoGmILBfFrgceaPTw== X-Google-Smtp-Source: AGHT+IHd0fpdqP5ZeXERWPwnnxZ3d73vTnnxoV9AQEjESzUYCR3fBk3h0ZPJyp1VU6In8zfXsitxCs0Eo7ai X-Received: by 2002:a05:6602:3807:b0:82c:d768:aa4d with SMTP id ca18e2360f4ac-854fd8f00cdmr1297903139f.9.1739221274978; Mon, 10 Feb 2025 13:01:14 -0800 (PST) Received: from postal.iol.unh.edu (postal.iol.unh.edu. [2606:4100:3880:1234::84]) by smtp-relay.gmail.com with ESMTPS id ca18e2360f4ac-854f669af2asm51532039f.18.2025.02.10.13.01.14 (version=TLS1_2 cipher=ECDHE-ECDSA-AES128-GCM-SHA256 bits=128/128); Mon, 10 Feb 2025 13:01:14 -0800 (PST) X-Relaying-Domain: iol.unh.edu Date: Mon, 10 Feb 2025 13:01:14 -0800 (PST) Message-ID: <67aa691a.050a0220.7247b.9fbbSMTPIN_ADDED_MISSING@mx.google.com> Received: from [172.21.0.6] (unknown [172.18.0.240]) by postal.iol.unh.edu (Postfix) with ESMTP id 6D21A6052471; Mon, 10 Feb 2025 16:01:14 -0500 (EST) Subject: |SUCCESS| pw151283-151288 [PATCH] [v3,6/6] trace: fix undefined beha From: dpdklab@iol.unh.edu To: Test Report Cc: dpdk-test-reports@iol.unh.edu In-Reply-To: <20250210174424.3364021-7-david.marchand@redhat.com> References: <20250210174424.3364021-7-david.marchand@redhat.com> Content-Type: text/plain X-BeenThere: test-report@dpdk.org X-Mailman-Version: 2.1.29 Precedence: list List-Id: automatic DPDK test reports List-Unsubscribe: , List-Archive: List-Post: List-Help: List-Subscribe: , Errors-To: test-report-bounces@dpdk.org Test-Label: iol-unit-arm64-testing Test-Status: SUCCESS http://dpdk.org/patch/151288 _Testing PASS_ Submitter: David Marchand Date: Monday, February 10 2025 17:44:22 DPDK git baseline: Repo:dpdk Branch: master CommitID:3553897d84d8b54a1b1136cbf04dd7f1a40fd85b 151283-151288 --> testing pass Upstream job id: Generic-Unit-Test-DPDK#313730 Test environment and result as below: +-----------------------------+----------------+--------------+---------------------------+------------------------------+ | Environment | dpdk_unit_test | lpm_autotest | cryptodev_sw_zuc_autotest | cryptodev_sw_snow3g_autotest | +=============================+================+==============+===========================+==============================+ | 32-bit Ubuntu 22.04.4 (ARM) | PASS | SKIPPED | SKIPPED | SKIPPED | +-----------------------------+----------------+--------------+---------------------------+------------------------------+ | CentOS Stream 9 (ARM) | PASS | SKIPPED | SKIPPED | SKIPPED | +-----------------------------+----------------+--------------+---------------------------+------------------------------+ | Debian 12 (arm) | PASS | SKIPPED | PASS | PASS | +-----------------------------+----------------+--------------+---------------------------+------------------------------+ | CentOS Stream 10 (ARM) | PASS | SKIPPED | SKIPPED | SKIPPED | +-----------------------------+----------------+--------------+---------------------------+------------------------------+ | Debian 11 (Buster) (ARM) | PASS | SKIPPED | SKIPPED | SKIPPED | +-----------------------------+----------------+--------------+---------------------------+------------------------------+ | Fedora 41 (ARM Clang) | PASS | SKIPPED | SKIPPED | SKIPPED | +-----------------------------+----------------+--------------+---------------------------+------------------------------+ | Fedora 40 (ARM Clang) | PASS | SKIPPED | SKIPPED | SKIPPED | +-----------------------------+----------------+--------------+---------------------------+------------------------------+ | Fedora 40 (ARM) | PASS | SKIPPED | SKIPPED | SKIPPED | +-----------------------------+----------------+--------------+---------------------------+------------------------------+ | RHEL9 (ARM) | PASS | SKIPPED | SKIPPED | SKIPPED | +-----------------------------+----------------+--------------+---------------------------+------------------------------+ | Ubuntu 24.04 (ARM) | PASS | SKIPPED | SKIPPED | SKIPPED | +-----------------------------+----------------+--------------+---------------------------+------------------------------+ | Ubuntu 20.04 (ARM) | PASS | SKIPPED | SKIPPED | SKIPPED | +-----------------------------+----------------+--------------+---------------------------+------------------------------+ | Fedora 41 (ARM) | PASS | SKIPPED | SKIPPED | SKIPPED | +-----------------------------+----------------+--------------+---------------------------+------------------------------+ | Ubuntu 22.04 (ARM) | PASS | SKIPPED | SKIPPED | SKIPPED | +-----------------------------+----------------+--------------+---------------------------+------------------------------+ | Ubuntu 20.04 ARM SVE | SKIPPED | PASS | SKIPPED | SKIPPED | +-----------------------------+----------------+--------------+---------------------------+------------------------------+ 32-bit Ubuntu 22.04.4 (ARM) Kernel: 5.15.83+ aarch64 Compiler: gcc (Ubuntu 11.4.0-1ubuntu1~22.04) 11.4.0 CentOS Stream 9 (ARM) Kernel: Depends on container host Compiler: gcc 11.5.0 20240719 (Red Hat 11.5.0-2) Debian 12 (arm) Kernel: Depends on container host Compiler: gcc (Debian 12.2.0-14) 12.2.0 CentOS Stream 10 (ARM) Kernel: Depends on container host Compiler: gcc 14.2.1 20241104 (Red Hat 14.2.1-6) Debian 11 (Buster) (ARM) Kernel: Depends on container host Compiler: gcc (Debian 10.2.1-6) 10.2.1 20210110 Fedora 41 (ARM Clang) Kernel: Depends on container host Compiler: clang 19.1.5 (Fedora 19.1.5-1.fc41) Fedora 40 (ARM Clang) Kernel: Depends on container host Compiler: clang 18.1.8 (Fedora 18.1.8-1.fc40) Fedora 40 (ARM) Kernel: Depends on container host Compiler: gcc 14.2.1 20240912 (Red Hat 14.2.1-3) RHEL9 (ARM) Kernel: Depends on container host Compiler: gcc 11.5.0 20240719 (Red Hat 11.5.0-2) Ubuntu 24.04 (ARM) Kernel: Depends on container host Compiler: gcc (Ubuntu 13.3.0-6ubuntu2~24.04) 13.3.0 Ubuntu 20.04 (ARM) Kernel: Depends on container host Compiler: gcc (Ubuntu 9.4.0-1ubuntu1~20.04.2) 9.4.0 Fedora 41 (ARM) Kernel: Depends on container host Compiler: gcc 14.2.1 20240912 (Red Hat 14.2.1-3) Ubuntu 22.04 (ARM) Kernel: Depends on container host Compiler: gcc (Ubuntu 11.4.0-1ubuntu1~22.04) 11.4.0 Ubuntu 20.04 ARM SVE Kernel: Depends on container host Compiler: gcc (Ubuntu 10.5.0-1ubuntu1~20.04) 10.5.0 To view detailed results, visit: https://lab.dpdk.org/results/dashboard/patchsets/32552/ UNH-IOL DPDK Community Lab To manage your email subscriptions, visit: https://lab.dpdk.org/results/dashboard/preferences/subscriptions/