From mboxrd@z Thu Jan 1 00:00:00 1970 Return-Path: Received: from mails.dpdk.org (mails.dpdk.org [217.70.189.124]) by inbox.dpdk.org (Postfix) with ESMTP id 47CD8461EE for ; Mon, 10 Feb 2025 22:06:41 +0100 (CET) Received: from mails.dpdk.org (localhost [127.0.0.1]) by mails.dpdk.org (Postfix) with ESMTP id 2462A402A4; Mon, 10 Feb 2025 22:06:41 +0100 (CET) Received: from mail-vs1-f97.google.com (mail-vs1-f97.google.com [209.85.217.97]) by mails.dpdk.org (Postfix) with ESMTP id 7D571402A1 for ; Mon, 10 Feb 2025 22:06:39 +0100 (CET) Received: by mail-vs1-f97.google.com with SMTP id ada2fe7eead31-4bbbaef28a5so604632137.0 for ; Mon, 10 Feb 2025 13:06:39 -0800 (PST) DKIM-Signature: v=1; a=rsa-sha256; c=relaxed/relaxed; d=iol.unh.edu; s=unh-iol; t=1739221598; x=1739826398; darn=dpdk.org; h=references:in-reply-to:cc:to:from:subject:message-id:date:from:to :cc:subject:date:message-id:reply-to; bh=IDwznFKHaP7JTl8uOeaCzjZNi8gWgmneMwP3cbO2bf4=; b=LOAQox9e/3zCuVpDvXGWmbB0C3M+rY5T1x9z3ogQNYP8BEFsrpzkkZNNAqBuJUXmPV hL+pt6SkGijgDdOc5EScZ1Spg1UBtgTDg8uyWyvnaY2rOPpPo0Jg7UAmtaubjDJ/9OSN fy6BpMKQ1Y1sZwPlzF4+HZ9Kb6QmW1q9QGMaI= X-Google-DKIM-Signature: v=1; a=rsa-sha256; c=relaxed/relaxed; d=1e100.net; s=20230601; t=1739221598; x=1739826398; h=references:in-reply-to:cc:to:from:subject:message-id:date :x-gm-message-state:from:to:cc:subject:date:message-id:reply-to; bh=IDwznFKHaP7JTl8uOeaCzjZNi8gWgmneMwP3cbO2bf4=; b=i1ARoFWTChv4h9pPOxcL1XfxumE1LytHvnt3kwEAiG5fOXe4l2TIpBsp2FmTuukLrs oM+1DAEFu/xqtfc706Mn0ZqL8NJxW1++yWcWr4luCtJ9vedPyrAgS1MJQ0+on0g+uWpA Pr/KMTuS3yp8nzQtFAEBCLws6uYcIByo7lMLONK2gCrKMd0fiYDwopbS8njAaXDjIkfC U3oIQ/TZ1A9y0P72fbQBo0s6j1Ynrpy2DUVcdscUDUWZ6E8Z9hy2nUaUFSCH3wAiCV9g 4GM2J7/W6EGDbFT7qwHQGckeBCASIuk/Yubx1SHZKqy3dBTQmZLP/sHGnSNPUQqRlnik wwng== X-Gm-Message-State: AOJu0Yxek7YXuua8/e6lOuYwf+UHrdYGdW9Aex+8Hytsb5ooo/SlNza7 MV6C8/4pdrFo4cBHj69fopdJa02e9hAIUNkVQogtqWQDfP2k37tiExURlzIbnf6ovP7gDO5vsPl EQlNCjQyJWjisCACFNCE20s5+wKKcIE3L54Y9KYvd X-Gm-Gg: ASbGncugjxNHFRhfh3e73aN607XAZrUfRLdUeWoNt6hQ6HmfVGboSFTUjx390aAzryh ipqDnrcNLaLuBJLWPpDyLx/TTtedBJPqyxkW++uwKMR9M3R4pU/zQRw0GN+bsCIT8Dj+Rac3Gek 1v4224457++w5JjS2NnmVhcKLqEBTEuw0dOyk0VBrTBRe679KzsPHTge0uo4EmeBRKdG0ZKYkLn wicCWS818+yCcsztQI9resF+fxAWRBfy3PjzVTbd0RXOr/hUm7JSHcZscGGGEucZVSw5uFagmik C2ZjFytqs9+C6mKHiNKpYk4X7VCEIg== X-Google-Smtp-Source: AGHT+IHVa18AMyGxCIYSN8YPq1vmvxOeFhDekZaN+bHz4bejjzb9QI00h/oW7lo7YrciFN50DRwLct2sFOB4 X-Received: by 2002:a05:6102:f0f:b0:4ba:7bfb:3bb5 with SMTP id ada2fe7eead31-4ba85f460cemr9764040137.21.1739221598713; Mon, 10 Feb 2025 13:06:38 -0800 (PST) Received: from postal.iol.unh.edu (postal.iol.unh.edu. [132.177.123.84]) by smtp-relay.gmail.com with ESMTPS id ada2fe7eead31-4ba7af42d47sm228729137.1.2025.02.10.13.06.38 (version=TLS1_2 cipher=ECDHE-ECDSA-AES128-GCM-SHA256 bits=128/128); Mon, 10 Feb 2025 13:06:38 -0800 (PST) X-Relaying-Domain: iol.unh.edu Date: Mon, 10 Feb 2025 13:06:38 -0800 (PST) Message-ID: <67aa6a5e.050a0220.162ccb.9c7aSMTPIN_ADDED_MISSING@mx.google.com> Received: from [172.21.0.7] (unknown [172.18.0.240]) by postal.iol.unh.edu (Postfix) with ESMTP id 416926052471; Mon, 10 Feb 2025 16:06:38 -0500 (EST) Subject: |SUCCESS| pw151282 [PATCH] [RFC] git: consolidate .gitignore files From: dpdklab@iol.unh.edu To: Test Report Cc: dpdk-test-reports@iol.unh.edu In-Reply-To: <20250210172050.8884-1-stephen@networkplumber.org> References: <20250210172050.8884-1-stephen@networkplumber.org> Content-Type: text/plain X-BeenThere: test-report@dpdk.org X-Mailman-Version: 2.1.29 Precedence: list List-Id: automatic DPDK test reports List-Unsubscribe: , List-Archive: List-Post: List-Help: List-Subscribe: , Errors-To: test-report-bounces@dpdk.org Test-Label: iol-abi-testing Test-Status: SUCCESS http://dpdk.org/patch/151282 _Testing PASS_ Submitter: Stephen Hemminger Date: Monday, February 10 2025 17:20:49 DPDK git baseline: Repo:dpdk Branch: master CommitID:1f4fbb0ae68aeee517d491143bcd653ed527508f 151282 --> testing pass Upstream job id: Generic-DPDK-Compile-ABI#115678 Test environment and result as below: +-------------------+----------+ | Environment | abi_test | +===================+==========+ | CentOS Stream 9 | PASS | +-------------------+----------+ | CentOS Stream 10 | PASS | +-------------------+----------+ | Debian Bullseye | PASS | +-------------------+----------+ | Debian 12 | PASS | +-------------------+----------+ | Fedora 40 (Clang) | PASS | +-------------------+----------+ | Fedora 40 | PASS | +-------------------+----------+ | Fedora 41 (Clang) | PASS | +-------------------+----------+ | Fedora 41 | PASS | +-------------------+----------+ | openSUSE Leap 15 | PASS | +-------------------+----------+ | RHEL9 | PASS | +-------------------+----------+ | Ubuntu 22.04 | PASS | +-------------------+----------+ | Ubuntu 24.04 | PASS | +-------------------+----------+ | RHEL8 | PASS | +-------------------+----------+ CentOS Stream 9 Kernel: Depends on container host Compiler: gcc 11.5.0 20240719 (Red Hat 11.5.0-2) CentOS Stream 10 Kernel: Depends on container host Compiler: gcc 14.2.1 20241104 (Red Hat 14.2.1-6) Debian Bullseye Kernel: Depends on container host Compiler: gcc (Debian 10.2.1-6) 10.2.1 20210110 Debian 12 Kernel: Depends on container host Compiler: gcc (Debian 12.2.0-14) 12.2.0 Fedora 40 (Clang) Kernel: Depends on container host Compiler: clang 18.1.8 (Fedora 18.1.8-1.fc40) Fedora 40 Kernel: Depends on container host Compiler: gcc 14.2.1 20240912 (Red Hat 14.2.1-3) Fedora 41 (Clang) Kernel: Depends on container host Compiler: clang 19.1.5 (Fedora 19.1.5-1.fc41) Fedora 41 Kernel: Depends on container host Compiler: gcc 14.2.1 20240912 (Red Hat 14.2.1-3) openSUSE Leap 15 Kernel: Depends on container host Compiler: gcc (SUSE Linux) 7.5.0 RHEL9 Kernel: Depends on container host Compiler: gcc 11.5.0 20240719 (Red Hat 11.5.0-2) Ubuntu 22.04 Kernel: Depends on container host Compiler: gcc (Ubuntu 11.4.0-1ubuntu1~22.04) 11.4.0 Ubuntu 24.04 Kernel: Depends on container host Compiler: gcc (Ubuntu 13.3.0-6ubuntu2~24.04) 13.3.0 RHEL8 Kernel: Depends on container host Compiler: gcc 8.5.0 20210514 (Red Hat 8.5.0-22) To view detailed results, visit: https://lab.dpdk.org/results/dashboard/patchsets/32551/ UNH-IOL DPDK Community Lab To manage your email subscriptions, visit: https://lab.dpdk.org/results/dashboard/preferences/subscriptions/