From mboxrd@z Thu Jan 1 00:00:00 1970 Return-Path: Received: from mails.dpdk.org (mails.dpdk.org [217.70.189.124]) by inbox.dpdk.org (Postfix) with ESMTP id 1CA90461EE for ; Mon, 10 Feb 2025 22:29:24 +0100 (CET) Received: from mails.dpdk.org (localhost [127.0.0.1]) by mails.dpdk.org (Postfix) with ESMTP id 190D5402A4; Mon, 10 Feb 2025 22:29:24 +0100 (CET) Received: from mail-io1-f98.google.com (mail-io1-f98.google.com [209.85.166.98]) by mails.dpdk.org (Postfix) with ESMTP id D1B97402A1 for ; Mon, 10 Feb 2025 22:29:22 +0100 (CET) Received: by mail-io1-f98.google.com with SMTP id ca18e2360f4ac-85537bfe05aso33925539f.1 for ; Mon, 10 Feb 2025 13:29:22 -0800 (PST) DKIM-Signature: v=1; a=rsa-sha256; c=relaxed/relaxed; d=iol.unh.edu; s=unh-iol; t=1739222962; x=1739827762; darn=dpdk.org; h=references:in-reply-to:cc:to:from:subject:message-id:date:from:to :cc:subject:date:message-id:reply-to; bh=0CqwWM9vYK5Nau2ZOrNXNneeuCMiGWmVaf29I6L/nEE=; b=CfqrxhdLNsz1zDJiPuRaMIodbYgSkoBN8XfZTFv/DX4waGNXs45LoDza4E6VFXtxps BpLiHyDV44z4ES3842bPDPdf4yAdYrKdnjHriQ4guI+IwFSOzdL76z0BVx+yr1HQByEq 1IYPXhBu8ivJQd9YQwmy6oF/crfX173uQmCjg= X-Google-DKIM-Signature: v=1; a=rsa-sha256; c=relaxed/relaxed; d=1e100.net; s=20230601; t=1739222962; x=1739827762; h=references:in-reply-to:cc:to:from:subject:message-id:date :x-gm-message-state:from:to:cc:subject:date:message-id:reply-to; bh=0CqwWM9vYK5Nau2ZOrNXNneeuCMiGWmVaf29I6L/nEE=; b=qYaHF60xMfRFZattSlkkPgZPZP023U1PsbSgMSfwoqVWtvOnHndNZAdJGSLbvoMlSN YaZoVLcAQUkWnIwRued+z1SBHCFx3QDlR2PPt6yP25qzIGvc+gvrV8zkm7wySpwMJxv1 W/qOsvTGkm1Ye40gs4xJ7uaNMTgC7ePsVSgIB2mpqvTpW1WXVGr2P93v8qzyPYP1r2Oj EBN04mcl4LNtCMISBTeV9NMp8Iojb1ZEFuBNTA6L86R0NTI5BCaf+2I0TdfAYmI6iUPV rWLaWFoDvn3MRB75f4nnM8Q+KU8nabSQtBx8fzlUv7Gu8JZV9ywt5F0+rgF2ELzuCgT5 brWg== X-Gm-Message-State: AOJu0YwJY0n3gxOVxgjOz31pkPWYHFbRmwVGrdkdCE0nv5rQRs/Sqn1Z /m+tribqw7qdxMTkZ21LPjb74mWEGl9cXyqUb8rXGlOoWtBPn7JqqxjsAHhj1/JYipeobdmHjPw 1u0ZXK+0RyNGapMLZV2gZgwWNz+8VfMo5JCEvyFXD X-Gm-Gg: ASbGncvNJ3xhVCfeQ2cDMz/Pqy9Vcqay750n+d3GwxB5nXh+3RPC8YjJSZj0GnBej6I /NNUi5j4MGp/K8T1LxaR5SZYWIvd0sbs3Hf8JkrT6m0UMMistizDGpteFMqGyLA6rvBHVphOKdB f5coA3jYy93cKwIEOZSvBMYMzfQa1yxnt/9AHk124iECMM26tM1yVyp5YnGxW5lxqwzF9wEDehm LBNZTEnNXUxovUuUneYZmwUEHsMBffZKezlIuaHq8e8CIiKyX3dYrw9K36Mq7LQ3rmKRXkNGc18 1c3i65fC7BhMcg6LS5G8PWvvYhIaGg== X-Google-Smtp-Source: AGHT+IHg0qYDj4F+kH0s30Om/KkujOv/hpIssq3Ju06h2KmaCtKu1PL5LvHesD5xKy1f+p5J9Kv6aCMzOqJO X-Received: by 2002:a05:6602:3e83:b0:844:e21a:e805 with SMTP id ca18e2360f4ac-854fd8f1dfamr1376847339f.9.1739222962125; Mon, 10 Feb 2025 13:29:22 -0800 (PST) Received: from postal.iol.unh.edu (postal.iol.unh.edu. [132.177.123.84]) by smtp-relay.gmail.com with ESMTPS id ca18e2360f4ac-8553c937d79sm7991539f.16.2025.02.10.13.29.22 (version=TLS1_2 cipher=ECDHE-ECDSA-AES128-GCM-SHA256 bits=128/128); Mon, 10 Feb 2025 13:29:22 -0800 (PST) X-Relaying-Domain: iol.unh.edu Date: Mon, 10 Feb 2025 13:29:22 -0800 (PST) Message-ID: <67aa6fb2.050a0220.1e5a6f.4d55SMTPIN_ADDED_MISSING@mx.google.com> Received: from [172.21.0.5] (unknown [172.18.0.240]) by postal.iol.unh.edu (Postfix) with ESMTP id 8E2E06052471; Mon, 10 Feb 2025 16:29:21 -0500 (EST) Subject: |SUCCESS| pw151282 [PATCH] [RFC] git: consolidate .gitignore files From: dpdklab@iol.unh.edu To: Test Report Cc: dpdk-test-reports@iol.unh.edu In-Reply-To: <20250210172050.8884-1-stephen@networkplumber.org> References: <20250210172050.8884-1-stephen@networkplumber.org> Content-Type: text/plain X-BeenThere: test-report@dpdk.org X-Mailman-Version: 2.1.29 Precedence: list List-Id: automatic DPDK test reports List-Unsubscribe: , List-Archive: List-Post: List-Help: List-Subscribe: , Errors-To: test-report-bounces@dpdk.org Test-Label: iol-unit-amd64-testing Test-Status: SUCCESS http://dpdk.org/patch/151282 _Testing PASS_ Submitter: Stephen Hemminger Date: Monday, February 10 2025 17:20:49 DPDK git baseline: Repo:dpdk Branch: master CommitID:1f4fbb0ae68aeee517d491143bcd653ed527508f 151282 --> testing pass Upstream job id: Generic-Unit-Test-DPDK#313756 Test environment and result as below: +---------------------+----------------+ | Environment | dpdk_unit_test | +=====================+================+ | CentOS Stream 10 | PASS | +---------------------+----------------+ | Debian Bullseye | PASS | +---------------------+----------------+ | CentOS Stream 9 | PASS | +---------------------+----------------+ | Debian 12 | PASS | +---------------------+----------------+ | Fedora 40 | PASS | +---------------------+----------------+ | Fedora 40 (Clang) | PASS | +---------------------+----------------+ | Fedora 41 | PASS | +---------------------+----------------+ | Fedora 41 (Clang) | PASS | +---------------------+----------------+ | RHEL9 | PASS | +---------------------+----------------+ | RHEL8 | PASS | +---------------------+----------------+ | Ubuntu 20.04 | PASS | +---------------------+----------------+ | Ubuntu 24.04 | PASS | +---------------------+----------------+ | Ubuntu 22.04 | PASS | +---------------------+----------------+ | Windows Server 2022 | PASS | +---------------------+----------------+ CentOS Stream 10 Kernel: Depends on container host Compiler: gcc 14.2.1 20241104 (Red Hat 14.2.1-6) Debian Bullseye Kernel: Depends on container host Compiler: gcc (Debian 10.2.1-6) 10.2.1 20210110 CentOS Stream 9 Kernel: Depends on container host Compiler: gcc 11.5.0 20240719 (Red Hat 11.5.0-2) Debian 12 Kernel: Depends on container host Compiler: gcc (Debian 12.2.0-14) 12.2.0 Fedora 40 Kernel: Depends on container host Compiler: gcc 14.2.1 20240912 (Red Hat 14.2.1-3) Fedora 40 (Clang) Kernel: Depends on container host Compiler: clang 18.1.8 (Fedora 18.1.8-1.fc40) Fedora 41 Kernel: Depends on container host Compiler: gcc 14.2.1 20240912 (Red Hat 14.2.1-3) Fedora 41 (Clang) Kernel: Depends on container host Compiler: clang 19.1.5 (Fedora 19.1.5-1.fc41) RHEL9 Kernel: Depends on container host Compiler: gcc 11.5.0 20240719 (Red Hat 11.5.0-2) RHEL8 Kernel: Depends on container host Compiler: gcc 8.5.0 20210514 (Red Hat 8.5.0-22) Ubuntu 20.04 Kernel: Depends on container host Compiler: gcc (Ubuntu 9.4.0-1ubuntu1~20.04.2) 9.4.0 Ubuntu 24.04 Kernel: Depends on container host Compiler: gcc (Ubuntu 13.3.0-6ubuntu2~24.04) 13.3.0 Ubuntu 22.04 Kernel: Depends on container host Compiler: gcc (Ubuntu 11.4.0-1ubuntu1~22.04) 11.4.0 Windows Server 2022 Kernel: 10.0.20348.2031 Compiler: clang 15.0.7, gcc 14.1.0 (MinGW), and MSVC VS 19.39.33521 To view detailed results, visit: https://lab.dpdk.org/results/dashboard/patchsets/32551/ UNH-IOL DPDK Community Lab To manage your email subscriptions, visit: https://lab.dpdk.org/results/dashboard/preferences/subscriptions/