* |SUCCESS| pw151283-151288 [PATCH v3 6/6] trace: fix undefined behavior in register [not found] <20250210174424.3364021-7-david.marchand@redhat.com> @ 2025-02-10 17:15 ` qemudev 2025-02-10 17:19 ` qemudev ` (19 subsequent siblings) 20 siblings, 0 replies; 21+ messages in thread From: qemudev @ 2025-02-10 17:15 UTC (permalink / raw) To: test-report Test-Label: loongarch-compilation Test-Status: SUCCESS http://dpdk.org/patch/151288 _Compilation OK_ Submitter: David Marchand <david.marchand@redhat.com> Date: Mon, 10 Feb 2025 18:44:17 +0100 DPDK git baseline: Repo:dpdk Branch: main CommitID: 3553897d84d8b54a1b1136cbf04dd7f1a40fd85b 151283-151288 --> meson & ninja build successfully Test environment and result as below: +---------------------+----------------+ | Environment | compilation | +---------------------+----------------+ | Loongnix-Server 8.3 | PASS | +---------------------+----------------+ Loongnix-Server 8.3 Kernel: 4.19.190+ Compiler: gcc 8.3 ^ permalink raw reply [flat|nested] 21+ messages in thread
* |SUCCESS| pw151283-151288 [PATCH v3 6/6] trace: fix undefined behavior in register [not found] <20250210174424.3364021-7-david.marchand@redhat.com> 2025-02-10 17:15 ` |SUCCESS| pw151283-151288 [PATCH v3 6/6] trace: fix undefined behavior in register qemudev @ 2025-02-10 17:19 ` qemudev 2025-02-10 17:44 ` |WARNING| pw151288 " checkpatch ` (18 subsequent siblings) 20 siblings, 0 replies; 21+ messages in thread From: qemudev @ 2025-02-10 17:19 UTC (permalink / raw) To: test-report Test-Label: loongarch-unit-testing Test-Status: SUCCESS http://dpdk.org/patch/151288 _Unit Testing PASS_ Submitter: David Marchand <david.marchand@redhat.com> Date: Mon, 10 Feb 2025 18:44:17 +0100 DPDK git baseline: Repo:dpdk Branch: main CommitID: 3553897d84d8b54a1b1136cbf04dd7f1a40fd85b 151283-151288 --> testing pass Test environment and result as below: +---------------------+----------------+ | Environment | dpdk_unit_test | +---------------------+----------------+ | Loongnix-Server 8.3 | PASS | +---------------------+----------------+ Loongnix-Server 8.3 Kernel: 4.19.190+ Compiler: gcc 8.3 Test result details: 1/119 DPDK:fast-tests / acl_autotest OK 3.23s 2/119 DPDK:fast-tests / alarm_autotest OK 1.41s 3/119 DPDK:fast-tests / argparse_autotest OK 0.41s 4/119 DPDK:fast-tests / atomic_autotest OK 7.10s 5/119 DPDK:fast-tests / bitcount_autotest OK 0.30s 6/119 DPDK:fast-tests / bitmap_autotest OK 0.34s 7/119 DPDK:fast-tests / bitops_autotest OK 1.81s 8/119 DPDK:fast-tests / bitratestats_autotest OK 0.31s 9/119 DPDK:fast-tests / bitset_autotest OK 3.07s 10/119 DPDK:fast-tests / bpf_autotest OK 0.31s 11/119 DPDK:fast-tests / bpf_convert_autotest OK 0.31s 12/119 DPDK:fast-tests / byteorder_autotest OK 0.30s 13/119 DPDK:fast-tests / cfgfile_autotest OK 0.31s 14/119 DPDK:fast-tests / cksum_autotest OK 0.31s 15/119 DPDK:fast-tests / cmdline_autotest OK 0.31s 16/119 DPDK:fast-tests / common_autotest OK 1.19s 17/119 DPDK:fast-tests / compressdev_autotest SKIP 0.06s exit status 77 18/119 DPDK:fast-tests / cpuflags_autotest OK 0.30s 19/119 DPDK:fast-tests / crc_autotest OK 0.31s 20/119 DPDK:fast-tests / user_delay_us OK 0.30s 21/119 DPDK:fast-tests / debug_autotest OK 22.84s 22/119 DPDK:fast-tests / devargs_autotest OK 0.30s 23/119 DPDK:fast-tests / dispatcher_autotest OK 2.55s 24/119 DPDK:fast-tests / distributor_autotest OK 1.20s 25/119 DPDK:fast-tests / eal_flags_c_opt_autotest OK 0.78s 26/119 DPDK:fast-tests / eal_flags_main_opt_autotest OK 0.21s 27/119 DPDK:fast-tests / eal_flags_n_opt_autotest OK 0.19s 28/119 DPDK:fast-tests / eal_flags_hpet_autotest OK 0.13s 29/119 DPDK:fast-tests / eal_flags_no_huge_autotest OK 0.21s 30/119 DPDK:fast-tests / eal_flags_a_opt_autotest OK 0.29s 31/119 DPDK:fast-tests / eal_flags_b_opt_autotest OK 0.24s 32/119 DPDK:fast-tests / eal_flags_vdev_opt_autotest OK 0.19s 33/119 DPDK:fast-tests / eal_flags_r_opt_autotest OK 0.18s 34/119 DPDK:fast-tests / eal_flags_mem_autotest OK 0.58s 35/119 DPDK:fast-tests / eal_flags_file_prefix_autotest OK 22.22s 36/119 DPDK:fast-tests / eal_flags_misc_autotest OK 1.03s 37/119 DPDK:fast-tests / eal_fs_autotest OK 0.30s 38/119 DPDK:fast-tests / errno_autotest OK 0.30s 39/119 DPDK:fast-tests / ethdev_link_status OK 0.30s 40/119 DPDK:fast-tests / event_eth_tx_adapter_autotest OK 1.68s 41/119 DPDK:fast-tests / event_ring_autotest OK 0.31s 42/119 DPDK:fast-tests / eventdev_common_autotest OK 0.31s 43/119 DPDK:fast-tests / eventdev_selftest_sw OK 7.25s 44/119 DPDK:fast-tests / fbarray_autotest OK 0.31s 45/119 DPDK:fast-tests / fib_autotest OK 1.20s 46/119 DPDK:fast-tests / fib6_autotest OK 0.97s 47/119 DPDK:fast-tests / func_reentrancy_autotest OK 2.33s 48/119 DPDK:fast-tests / graph_autotest OK 0.31s 49/119 DPDK:fast-tests / node_list_dump OK 0.30s 50/119 DPDK:fast-tests / hash_autotest OK 1.01s 51/119 DPDK:fast-tests / hash_readwrite_func_autotest OK 6.37s 52/119 DPDK:fast-tests / interrupt_autotest OK 1.61s 53/119 DPDK:fast-tests / ipfrag_autotest OK 0.07s 54/119 DPDK:fast-tests / ipsec_autotest SKIP 0.31s exit status 77 55/119 DPDK:fast-tests / kvargs_autotest OK 0.31s 56/119 DPDK:fast-tests / latencystats_autotest OK 0.31s 57/119 DPDK:fast-tests / lcore_var_autotest OK 0.45s 58/119 DPDK:fast-tests / lcores_autotest OK 5.11s 59/119 DPDK:fast-tests / logs_autotest OK 0.30s 60/119 DPDK:fast-tests / lpm_autotest OK 2.37s 61/119 DPDK:fast-tests / lpm6_autotest OK 5.44s 62/119 DPDK:fast-tests / malloc_autotest OK 61.36s 63/119 DPDK:fast-tests / mbuf_autotest OK 5.06s 64/119 DPDK:fast-tests / mcslock_autotest OK 3.82s 65/119 DPDK:fast-tests / member_autotest OK 1.49s 66/119 DPDK:fast-tests / memcpy_autotest OK 6.59s 67/119 DPDK:fast-tests / memory_autotest OK 0.08s 68/119 DPDK:fast-tests / mempool_autotest OK 0.43s 69/119 DPDK:fast-tests / memzone_autotest OK 0.14s 70/119 DPDK:fast-tests / meter_autotest OK 0.30s 71/119 DPDK:fast-tests / metrics_autotest OK 0.31s 72/119 DPDK:fast-tests / multiprocess_autotest OK 0.17s 73/119 DPDK:fast-tests / net_ether_autotest OK 0.97s 74/119 DPDK:fast-tests / net_ipv6_autotest OK 0.30s 75/119 DPDK:fast-tests / pcapng_autotest OK 6.82s 76/119 DPDK:fast-tests / pdcp_autotest SKIP 0.06s exit status 77 77/119 DPDK:fast-tests / pdump_autotest OK 0.40s 78/119 DPDK:fast-tests / per_lcore_autotest OK 0.40s 79/119 DPDK:fast-tests / pflock_autotest OK 1.11s 80/119 DPDK:fast-tests / pie_autotest OK 0.31s 81/119 DPDK:fast-tests / ring_pmd_autotest OK 0.31s 82/119 DPDK:fast-tests / power_autotest OK 0.30s 83/119 DPDK:fast-tests / power_cpufreq_autotest SKIP 0.06s exit status 77 84/119 DPDK:fast-tests / power_intel_uncore_autotest SKIP 0.30s exit status 77 85/119 DPDK:fast-tests / power_kvm_vm_autotest SKIP 0.06s exit status 77 86/119 DPDK:fast-tests / prefetch_autotest OK 0.30s 87/119 DPDK:fast-tests / ptr_compress_autotest OK 0.30s 88/119 DPDK:fast-tests / rawdev_autotest OK 0.30s 89/119 DPDK:fast-tests / rcu_qsbr_autotest OK 0.83s 90/119 DPDK:fast-tests / reorder_autotest OK 0.36s 91/119 DPDK:fast-tests / rib_autotest OK 8.96s 92/119 DPDK:fast-tests / rib6_autotest OK 8.95s 93/119 DPDK:fast-tests / ring_autotest OK 0.33s 94/119 DPDK:fast-tests / rwlock_test1_autotest OK 1.05s 95/119 DPDK:fast-tests / rwlock_rda_autotest OK 5.31s 96/119 DPDK:fast-tests / rwlock_rds_wrm_autotest OK 5.31s 97/119 DPDK:fast-tests / rwlock_rde_wro_autotest OK 5.31s 98/119 DPDK:fast-tests / sched_autotest OK 0.41s 99/119 DPDK:fast-tests / security_autotest OK 0.06s 100/119 DPDK:fast-tests / seqlock_autotest OK 2.31s 101/119 DPDK:fast-tests / service_autotest OK 3.01s 102/119 DPDK:fast-tests / soring_autotest OK 0.31s 103/119 DPDK:fast-tests / spinlock_autotest OK 0.61s 104/119 DPDK:fast-tests / stack_autotest OK 0.86s 105/119 DPDK:fast-tests / stack_lf_autotest SKIP 0.05s exit status 77 106/119 DPDK:fast-tests / string_autotest OK 0.30s 107/119 DPDK:fast-tests / table_autotest OK 7.58s 108/119 DPDK:fast-tests / tailq_autotest OK 0.30s 109/119 DPDK:fast-tests / telemetry_data_autotest OK 0.31s 110/119 DPDK:fast-tests / telemetry_json_autotest OK 0.30s 111/119 DPDK:fast-tests / thash_autotest OK 0.32s 112/119 DPDK:fast-tests / threads_autotest OK 0.49s 113/119 DPDK:fast-tests / ticketlock_autotest OK 0.46s 114/119 DPDK:fast-tests / timer_autotest OK 3.85s 115/119 DPDK:fast-tests / trace_autotest OK 0.42s 116/119 DPDK:fast-tests / trace_autotest_with_traces OK 0.54s 117/119 DPDK:fast-tests / vdev_autotest OK 0.53s 118/119 DPDK:fast-tests / version_autotest OK 0.53s 119/119 DPDK:fast-tests / telemetry_all OK 1.35s Ok: 112 Expected Fail: 0 Fail: 0 Unexpected Pass: 0 Skipped: 7 Timeout: 0 ^ permalink raw reply [flat|nested] 21+ messages in thread
* |WARNING| pw151288 [PATCH v3 6/6] trace: fix undefined behavior in register [not found] <20250210174424.3364021-7-david.marchand@redhat.com> 2025-02-10 17:15 ` |SUCCESS| pw151283-151288 [PATCH v3 6/6] trace: fix undefined behavior in register qemudev 2025-02-10 17:19 ` qemudev @ 2025-02-10 17:44 ` checkpatch 2025-02-10 18:33 ` |PENDING| pw151283-151288 [PATCH] [v3,6/6] trace: fix undefined beha dpdklab ` (17 subsequent siblings) 20 siblings, 0 replies; 21+ messages in thread From: checkpatch @ 2025-02-10 17:44 UTC (permalink / raw) To: test-report; +Cc: David Marchand Test-Label: checkpatch Test-Status: WARNING http://dpdk.org/patch/151288 _coding style issues_ ERROR:SPACING: space required after that ',' (ctx:VxV) #214: FILE: lib/eal/include/rte_trace_point_register.h:21: +#define RTE_TRACE_POINT_ARGS_COUNT_(_0,_1,_2,_3,_4,_5,_6,_7,_8,_9,_10,_11,_12,_13,_14,_15,N, ...) \ ^ ERROR:SPACING: space required after that ',' (ctx:VxV) #214: FILE: lib/eal/include/rte_trace_point_register.h:21: +#define RTE_TRACE_POINT_ARGS_COUNT_(_0,_1,_2,_3,_4,_5,_6,_7,_8,_9,_10,_11,_12,_13,_14,_15,N, ...) \ ^ ERROR:SPACING: space required after that ',' (ctx:VxV) #214: FILE: lib/eal/include/rte_trace_point_register.h:21: +#define RTE_TRACE_POINT_ARGS_COUNT_(_0,_1,_2,_3,_4,_5,_6,_7,_8,_9,_10,_11,_12,_13,_14,_15,N, ...) \ ^ ERROR:SPACING: space required after that ',' (ctx:VxV) #214: FILE: lib/eal/include/rte_trace_point_register.h:21: +#define RTE_TRACE_POINT_ARGS_COUNT_(_0,_1,_2,_3,_4,_5,_6,_7,_8,_9,_10,_11,_12,_13,_14,_15,N, ...) \ ^ ERROR:SPACING: space required after that ',' (ctx:VxV) #214: FILE: lib/eal/include/rte_trace_point_register.h:21: +#define RTE_TRACE_POINT_ARGS_COUNT_(_0,_1,_2,_3,_4,_5,_6,_7,_8,_9,_10,_11,_12,_13,_14,_15,N, ...) \ ^ ERROR:SPACING: space required after that ',' (ctx:VxV) #214: FILE: lib/eal/include/rte_trace_point_register.h:21: +#define RTE_TRACE_POINT_ARGS_COUNT_(_0,_1,_2,_3,_4,_5,_6,_7,_8,_9,_10,_11,_12,_13,_14,_15,N, ...) \ ^ ERROR:SPACING: space required after that ',' (ctx:VxV) #214: FILE: lib/eal/include/rte_trace_point_register.h:21: +#define RTE_TRACE_POINT_ARGS_COUNT_(_0,_1,_2,_3,_4,_5,_6,_7,_8,_9,_10,_11,_12,_13,_14,_15,N, ...) \ ^ ERROR:SPACING: space required after that ',' (ctx:VxV) #214: FILE: lib/eal/include/rte_trace_point_register.h:21: +#define RTE_TRACE_POINT_ARGS_COUNT_(_0,_1,_2,_3,_4,_5,_6,_7,_8,_9,_10,_11,_12,_13,_14,_15,N, ...) \ ^ ERROR:SPACING: space required after that ',' (ctx:VxV) #214: FILE: lib/eal/include/rte_trace_point_register.h:21: +#define RTE_TRACE_POINT_ARGS_COUNT_(_0,_1,_2,_3,_4,_5,_6,_7,_8,_9,_10,_11,_12,_13,_14,_15,N, ...) \ ^ ERROR:SPACING: space required after that ',' (ctx:VxV) #214: FILE: lib/eal/include/rte_trace_point_register.h:21: +#define RTE_TRACE_POINT_ARGS_COUNT_(_0,_1,_2,_3,_4,_5,_6,_7,_8,_9,_10,_11,_12,_13,_14,_15,N, ...) \ ^ ERROR:SPACING: space required after that ',' (ctx:VxV) #214: FILE: lib/eal/include/rte_trace_point_register.h:21: +#define RTE_TRACE_POINT_ARGS_COUNT_(_0,_1,_2,_3,_4,_5,_6,_7,_8,_9,_10,_11,_12,_13,_14,_15,N, ...) \ ^ ERROR:SPACING: space required after that ',' (ctx:VxV) #214: FILE: lib/eal/include/rte_trace_point_register.h:21: +#define RTE_TRACE_POINT_ARGS_COUNT_(_0,_1,_2,_3,_4,_5,_6,_7,_8,_9,_10,_11,_12,_13,_14,_15,N, ...) \ ^ ERROR:SPACING: space required after that ',' (ctx:VxV) #214: FILE: lib/eal/include/rte_trace_point_register.h:21: +#define RTE_TRACE_POINT_ARGS_COUNT_(_0,_1,_2,_3,_4,_5,_6,_7,_8,_9,_10,_11,_12,_13,_14,_15,N, ...) \ ^ ERROR:SPACING: space required after that ',' (ctx:VxV) #214: FILE: lib/eal/include/rte_trace_point_register.h:21: +#define RTE_TRACE_POINT_ARGS_COUNT_(_0,_1,_2,_3,_4,_5,_6,_7,_8,_9,_10,_11,_12,_13,_14,_15,N, ...) \ ^ ERROR:SPACING: space required after that ',' (ctx:VxV) #214: FILE: lib/eal/include/rte_trace_point_register.h:21: +#define RTE_TRACE_POINT_ARGS_COUNT_(_0,_1,_2,_3,_4,_5,_6,_7,_8,_9,_10,_11,_12,_13,_14,_15,N, ...) \ ^ ERROR:SPACING: space required after that ',' (ctx:VxV) #214: FILE: lib/eal/include/rte_trace_point_register.h:21: +#define RTE_TRACE_POINT_ARGS_COUNT_(_0,_1,_2,_3,_4,_5,_6,_7,_8,_9,_10,_11,_12,_13,_14,_15,N, ...) \ ^ ERROR:SPACING: space required after that ',' (ctx:VxV) #217: FILE: lib/eal/include/rte_trace_point_register.h:24: + RTE_TRACE_POINT_ARGS_COUNT_(__VA_ARGS__,15,14,13,12,11,10,9,8,7,6,5,4,3,2,1,0) ^ ERROR:SPACING: space required after that ',' (ctx:VxV) #217: FILE: lib/eal/include/rte_trace_point_register.h:24: + RTE_TRACE_POINT_ARGS_COUNT_(__VA_ARGS__,15,14,13,12,11,10,9,8,7,6,5,4,3,2,1,0) ^ ERROR:SPACING: space required after that ',' (ctx:VxV) #217: FILE: lib/eal/include/rte_trace_point_register.h:24: + RTE_TRACE_POINT_ARGS_COUNT_(__VA_ARGS__,15,14,13,12,11,10,9,8,7,6,5,4,3,2,1,0) ^ ERROR:SPACING: space required after that ',' (ctx:VxV) #217: FILE: lib/eal/include/rte_trace_point_register.h:24: + RTE_TRACE_POINT_ARGS_COUNT_(__VA_ARGS__,15,14,13,12,11,10,9,8,7,6,5,4,3,2,1,0) ^ ERROR:SPACING: space required after that ',' (ctx:VxV) #217: FILE: lib/eal/include/rte_trace_point_register.h:24: + RTE_TRACE_POINT_ARGS_COUNT_(__VA_ARGS__,15,14,13,12,11,10,9,8,7,6,5,4,3,2,1,0) ^ ERROR:SPACING: space required after that ',' (ctx:VxV) #217: FILE: lib/eal/include/rte_trace_point_register.h:24: + RTE_TRACE_POINT_ARGS_COUNT_(__VA_ARGS__,15,14,13,12,11,10,9,8,7,6,5,4,3,2,1,0) ^ ERROR:SPACING: space required after that ',' (ctx:VxV) #217: FILE: lib/eal/include/rte_trace_point_register.h:24: + RTE_TRACE_POINT_ARGS_COUNT_(__VA_ARGS__,15,14,13,12,11,10,9,8,7,6,5,4,3,2,1,0) ^ ERROR:SPACING: space required after that ',' (ctx:VxV) #217: FILE: lib/eal/include/rte_trace_point_register.h:24: + RTE_TRACE_POINT_ARGS_COUNT_(__VA_ARGS__,15,14,13,12,11,10,9,8,7,6,5,4,3,2,1,0) ^ ERROR:SPACING: space required after that ',' (ctx:VxV) #217: FILE: lib/eal/include/rte_trace_point_register.h:24: + RTE_TRACE_POINT_ARGS_COUNT_(__VA_ARGS__,15,14,13,12,11,10,9,8,7,6,5,4,3,2,1,0) ^ ERROR:SPACING: space required after that ',' (ctx:VxV) #217: FILE: lib/eal/include/rte_trace_point_register.h:24: + RTE_TRACE_POINT_ARGS_COUNT_(__VA_ARGS__,15,14,13,12,11,10,9,8,7,6,5,4,3,2,1,0) ^ ERROR:SPACING: space required after that ',' (ctx:VxV) #217: FILE: lib/eal/include/rte_trace_point_register.h:24: + RTE_TRACE_POINT_ARGS_COUNT_(__VA_ARGS__,15,14,13,12,11,10,9,8,7,6,5,4,3,2,1,0) ^ ERROR:SPACING: space required after that ',' (ctx:VxV) #217: FILE: lib/eal/include/rte_trace_point_register.h:24: + RTE_TRACE_POINT_ARGS_COUNT_(__VA_ARGS__,15,14,13,12,11,10,9,8,7,6,5,4,3,2,1,0) ^ ERROR:SPACING: space required after that ',' (ctx:VxV) #217: FILE: lib/eal/include/rte_trace_point_register.h:24: + RTE_TRACE_POINT_ARGS_COUNT_(__VA_ARGS__,15,14,13,12,11,10,9,8,7,6,5,4,3,2,1,0) ^ ERROR:SPACING: space required after that ',' (ctx:VxV) #217: FILE: lib/eal/include/rte_trace_point_register.h:24: + RTE_TRACE_POINT_ARGS_COUNT_(__VA_ARGS__,15,14,13,12,11,10,9,8,7,6,5,4,3,2,1,0) ^ ERROR:SPACING: space required after that ',' (ctx:VxV) #217: FILE: lib/eal/include/rte_trace_point_register.h:24: + RTE_TRACE_POINT_ARGS_COUNT_(__VA_ARGS__,15,14,13,12,11,10,9,8,7,6,5,4,3,2,1,0) ^ ERROR:SPACING: space required after that ',' (ctx:VxV) #217: FILE: lib/eal/include/rte_trace_point_register.h:24: + RTE_TRACE_POINT_ARGS_COUNT_(__VA_ARGS__,15,14,13,12,11,10,9,8,7,6,5,4,3,2,1,0) ^ ERROR:COMPLEX_MACRO: Macros with complex values should be enclosed in parentheses #219: FILE: lib/eal/include/rte_trace_point_register.h:26: +#define RTE_TRACE_POINT_ARGS_1(a) __rte_unused a ERROR:COMPLEX_MACRO: Macros with complex values should be enclosed in parentheses #220: FILE: lib/eal/include/rte_trace_point_register.h:27: +#define RTE_TRACE_POINT_ARGS_2(a, ...) __rte_unused a, RTE_TRACE_POINT_ARGS_1(__VA_ARGS__) ERROR:COMPLEX_MACRO: Macros with complex values should be enclosed in parentheses #221: FILE: lib/eal/include/rte_trace_point_register.h:28: +#define RTE_TRACE_POINT_ARGS_3(a, ...) __rte_unused a, RTE_TRACE_POINT_ARGS_2(__VA_ARGS__) ERROR:COMPLEX_MACRO: Macros with complex values should be enclosed in parentheses #222: FILE: lib/eal/include/rte_trace_point_register.h:29: +#define RTE_TRACE_POINT_ARGS_4(a, ...) __rte_unused a, RTE_TRACE_POINT_ARGS_3(__VA_ARGS__) ERROR:COMPLEX_MACRO: Macros with complex values should be enclosed in parentheses #223: FILE: lib/eal/include/rte_trace_point_register.h:30: +#define RTE_TRACE_POINT_ARGS_5(a, ...) __rte_unused a, RTE_TRACE_POINT_ARGS_4(__VA_ARGS__) ERROR:COMPLEX_MACRO: Macros with complex values should be enclosed in parentheses #224: FILE: lib/eal/include/rte_trace_point_register.h:31: +#define RTE_TRACE_POINT_ARGS_6(a, ...) __rte_unused a, RTE_TRACE_POINT_ARGS_5(__VA_ARGS__) ERROR:COMPLEX_MACRO: Macros with complex values should be enclosed in parentheses #225: FILE: lib/eal/include/rte_trace_point_register.h:32: +#define RTE_TRACE_POINT_ARGS_7(a, ...) __rte_unused a, RTE_TRACE_POINT_ARGS_6(__VA_ARGS__) ERROR:COMPLEX_MACRO: Macros with complex values should be enclosed in parentheses #226: FILE: lib/eal/include/rte_trace_point_register.h:33: +#define RTE_TRACE_POINT_ARGS_8(a, ...) __rte_unused a, RTE_TRACE_POINT_ARGS_7(__VA_ARGS__) ERROR:COMPLEX_MACRO: Macros with complex values should be enclosed in parentheses #227: FILE: lib/eal/include/rte_trace_point_register.h:34: +#define RTE_TRACE_POINT_ARGS_9(a, ...) __rte_unused a, RTE_TRACE_POINT_ARGS_8(__VA_ARGS__) ERROR:COMPLEX_MACRO: Macros with complex values should be enclosed in parentheses #228: FILE: lib/eal/include/rte_trace_point_register.h:35: +#define RTE_TRACE_POINT_ARGS_10(a, ...) __rte_unused a, RTE_TRACE_POINT_ARGS_9(__VA_ARGS__) ERROR:COMPLEX_MACRO: Macros with complex values should be enclosed in parentheses #229: FILE: lib/eal/include/rte_trace_point_register.h:36: +#define RTE_TRACE_POINT_ARGS_11(a, ...) __rte_unused a, RTE_TRACE_POINT_ARGS_10(__VA_ARGS__) ERROR:COMPLEX_MACRO: Macros with complex values should be enclosed in parentheses #230: FILE: lib/eal/include/rte_trace_point_register.h:37: +#define RTE_TRACE_POINT_ARGS_12(a, ...) __rte_unused a, RTE_TRACE_POINT_ARGS_11(__VA_ARGS__) ERROR:COMPLEX_MACRO: Macros with complex values should be enclosed in parentheses #231: FILE: lib/eal/include/rte_trace_point_register.h:38: +#define RTE_TRACE_POINT_ARGS_13(a, ...) __rte_unused a, RTE_TRACE_POINT_ARGS_12(__VA_ARGS__) ERROR:COMPLEX_MACRO: Macros with complex values should be enclosed in parentheses #232: FILE: lib/eal/include/rte_trace_point_register.h:39: +#define RTE_TRACE_POINT_ARGS_14(a, ...) __rte_unused a, RTE_TRACE_POINT_ARGS_13(__VA_ARGS__) ERROR:COMPLEX_MACRO: Macros with complex values should be enclosed in parentheses #233: FILE: lib/eal/include/rte_trace_point_register.h:40: +#define RTE_TRACE_POINT_ARGS_15(a, ...) __rte_unused a, RTE_TRACE_POINT_ARGS_14(__VA_ARGS__) WARNING:SPACING: space prohibited between function name and open parenthesis '(' #245: FILE: lib/eal/include/rte_trace_point_register.h:52: +_tp ## _register (void) \ total: 47 errors, 1 warnings, 151 lines checked ^ permalink raw reply [flat|nested] 21+ messages in thread
* |PENDING| pw151283-151288 [PATCH] [v3,6/6] trace: fix undefined beha [not found] <20250210174424.3364021-7-david.marchand@redhat.com> ` (2 preceding siblings ...) 2025-02-10 17:44 ` |WARNING| pw151288 " checkpatch @ 2025-02-10 18:33 ` dpdklab 2025-02-10 18:36 ` dpdklab ` (16 subsequent siblings) 20 siblings, 0 replies; 21+ messages in thread From: dpdklab @ 2025-02-10 18:33 UTC (permalink / raw) To: Test Report; +Cc: dpdk-test-reports Test-Label: iol-unit-amd64-testing Test-Status: PENDING http://dpdk.org/patch/151288 _Testing pending_ Submitter: David Marchand <david.marchand@redhat.com> Date: Monday, February 10 2025 17:44:22 DPDK git baseline: Repo:dpdk Branch: master CommitID:3553897d84d8b54a1b1136cbf04dd7f1a40fd85b 151283-151288 --> testing pending Upstream job id: Generic-VM-Unit-Test-DPDK#27184 Test environment and result as below: +---------------------+----------------+ | Environment | dpdk_unit_test | +=====================+================+ | CentOS Stream 10 | PEND | +---------------------+----------------+ | CentOS Stream 9 | PEND | +---------------------+----------------+ | Debian Bullseye | PEND | +---------------------+----------------+ | Fedora 40 | PEND | +---------------------+----------------+ | Debian 12 | PEND | +---------------------+----------------+ | RHEL8 | PEND | +---------------------+----------------+ | Fedora 41 | PEND | +---------------------+----------------+ | RHEL9 | PEND | +---------------------+----------------+ | Ubuntu 22.04 | PEND | +---------------------+----------------+ | Fedora 40 (Clang) | PEND | +---------------------+----------------+ | Ubuntu 20.04 | PEND | +---------------------+----------------+ | Fedora 41 (Clang) | PEND | +---------------------+----------------+ | Ubuntu 24.04 | PEND | +---------------------+----------------+ | Windows Server 2022 | PASS | +---------------------+----------------+ CentOS Stream 10 Kernel: Depends on container host Compiler: gcc 14.2.1 20241104 (Red Hat 14.2.1-6) CentOS Stream 9 Kernel: Depends on container host Compiler: gcc 11.5.0 20240719 (Red Hat 11.5.0-2) Debian Bullseye Kernel: Depends on container host Compiler: gcc (Debian 10.2.1-6) 10.2.1 20210110 Fedora 40 Kernel: Depends on container host Compiler: gcc 14.2.1 20240912 (Red Hat 14.2.1-3) Debian 12 Kernel: Depends on container host Compiler: gcc (Debian 12.2.0-14) 12.2.0 RHEL8 Kernel: Depends on container host Compiler: gcc 8.5.0 20210514 (Red Hat 8.5.0-22) Fedora 41 Kernel: Depends on container host Compiler: gcc 14.2.1 20240912 (Red Hat 14.2.1-3) RHEL9 Kernel: Depends on container host Compiler: gcc 11.5.0 20240719 (Red Hat 11.5.0-2) Ubuntu 22.04 Kernel: Depends on container host Compiler: gcc (Ubuntu 11.4.0-1ubuntu1~22.04) 11.4.0 Fedora 40 (Clang) Kernel: Depends on container host Compiler: clang 18.1.8 (Fedora 18.1.8-1.fc40) Ubuntu 20.04 Kernel: Depends on container host Compiler: gcc (Ubuntu 9.4.0-1ubuntu1~20.04.2) 9.4.0 Fedora 41 (Clang) Kernel: Depends on container host Compiler: clang 19.1.5 (Fedora 19.1.5-1.fc41) Ubuntu 24.04 Kernel: Depends on container host Compiler: gcc (Ubuntu 13.3.0-6ubuntu2~24.04) 13.3.0 Windows Server 2022 Kernel: 10.0.20348.2031 Compiler: clang 15.0.7, gcc 14.1.0 (MinGW), and MSVC VS 19.39.33521 To view detailed results, visit: https://lab.dpdk.org/results/dashboard/patchsets/32552/ UNH-IOL DPDK Community Lab To manage your email subscriptions, visit: https://lab.dpdk.org/results/dashboard/preferences/subscriptions/ ^ permalink raw reply [flat|nested] 21+ messages in thread
* |PENDING| pw151283-151288 [PATCH] [v3,6/6] trace: fix undefined beha [not found] <20250210174424.3364021-7-david.marchand@redhat.com> ` (3 preceding siblings ...) 2025-02-10 18:33 ` |PENDING| pw151283-151288 [PATCH] [v3,6/6] trace: fix undefined beha dpdklab @ 2025-02-10 18:36 ` dpdklab 2025-02-10 18:41 ` |SUCCESS| " dpdklab ` (15 subsequent siblings) 20 siblings, 0 replies; 21+ messages in thread From: dpdklab @ 2025-02-10 18:36 UTC (permalink / raw) To: Test Report; +Cc: dpdk-test-reports Test-Label: iol-compile-amd64-testing Test-Status: PENDING http://dpdk.org/patch/151288 _Testing pending_ Submitter: David Marchand <david.marchand@redhat.com> Date: Monday, February 10 2025 17:44:22 DPDK git baseline: Repo:dpdk Branch: master CommitID:3553897d84d8b54a1b1136cbf04dd7f1a40fd85b 151283-151288 --> testing pending Upstream job id: Windows-Compile-DPDK-VS#4889 Test environment and result as below: +---------------------+--------------------+-------------------+------------------+-------------------+ | Environment | dpdk_meson_compile | dpdk_compile_spdk | dpdk_compile_ovs | dpdk_msvc_compile | +=====================+====================+===================+==================+===================+ | CentOS Stream 9 | PEND | PEND | SKIPPED | SKIPPED | +---------------------+--------------------+-------------------+------------------+-------------------+ | CentOS Stream 10 | PEND | SKIPPED | SKIPPED | SKIPPED | +---------------------+--------------------+-------------------+------------------+-------------------+ | Debian Bullseye | PEND | PEND | SKIPPED | SKIPPED | +---------------------+--------------------+-------------------+------------------+-------------------+ | Debian 12 | PEND | PEND | SKIPPED | SKIPPED | +---------------------+--------------------+-------------------+------------------+-------------------+ | Fedora 40 (Clang) | PEND | PEND | SKIPPED | SKIPPED | +---------------------+--------------------+-------------------+------------------+-------------------+ | Fedora 40 | PEND | PEND | SKIPPED | SKIPPED | +---------------------+--------------------+-------------------+------------------+-------------------+ | Fedora 41 (Clang) | PEND | PEND | PEND | SKIPPED | +---------------------+--------------------+-------------------+------------------+-------------------+ | openSUSE Leap 15 | PEND | SKIPPED | SKIPPED | SKIPPED | +---------------------+--------------------+-------------------+------------------+-------------------+ | Fedora 41 | PEND | PEND | PEND | SKIPPED | +---------------------+--------------------+-------------------+------------------+-------------------+ | RHEL8 | PEND | SKIPPED | SKIPPED | SKIPPED | +---------------------+--------------------+-------------------+------------------+-------------------+ | RHEL9 | PEND | SKIPPED | SKIPPED | SKIPPED | +---------------------+--------------------+-------------------+------------------+-------------------+ | Ubuntu 20.04 | PEND | SKIPPED | SKIPPED | SKIPPED | +---------------------+--------------------+-------------------+------------------+-------------------+ | Ubuntu 24.04 | PEND | PEND | PEND | SKIPPED | +---------------------+--------------------+-------------------+------------------+-------------------+ | Ubuntu 22.04 | PEND | PEND | SKIPPED | SKIPPED | +---------------------+--------------------+-------------------+------------------+-------------------+ | Alpine | PEND | SKIPPED | SKIPPED | SKIPPED | +---------------------+--------------------+-------------------+------------------+-------------------+ | FreeBSD 13.4 | PEND | SKIPPED | SKIPPED | SKIPPED | +---------------------+--------------------+-------------------+------------------+-------------------+ | FreeBSD 14.2 | PEND | SKIPPED | SKIPPED | SKIPPED | +---------------------+--------------------+-------------------+------------------+-------------------+ | Windows Server 2022 | SKIPPED | SKIPPED | SKIPPED | PASS | +---------------------+--------------------+-------------------+------------------+-------------------+ CentOS Stream 9 Kernel: Depends on container host Compiler: gcc 11.5.0 20240719 (Red Hat 11.5.0-2) CentOS Stream 10 Kernel: Depends on container host Compiler: gcc 14.2.1 20241104 (Red Hat 14.2.1-6) Debian Bullseye Kernel: Depends on container host Compiler: gcc (Debian 10.2.1-6) 10.2.1 20210110 Debian 12 Kernel: Depends on container host Compiler: gcc (Debian 12.2.0-14) 12.2.0 Fedora 40 (Clang) Kernel: Depends on container host Compiler: clang 18.1.8 (Fedora 18.1.8-1.fc40) Fedora 40 Kernel: Depends on container host Compiler: gcc 14.2.1 20240912 (Red Hat 14.2.1-3) Fedora 41 (Clang) Kernel: Depends on container host Compiler: clang 19.1.5 (Fedora 19.1.5-1.fc41) openSUSE Leap 15 Kernel: Depends on container host Compiler: gcc (SUSE Linux) 7.5.0 Fedora 41 Kernel: Depends on container host Compiler: gcc 14.2.1 20240912 (Red Hat 14.2.1-3) RHEL8 Kernel: Depends on container host Compiler: gcc 8.5.0 20210514 (Red Hat 8.5.0-22) RHEL9 Kernel: Depends on container host Compiler: gcc 11.5.0 20240719 (Red Hat 11.5.0-2) Ubuntu 20.04 Kernel: Depends on container host Compiler: gcc (Ubuntu 9.4.0-1ubuntu1~20.04.2) 9.4.0 Ubuntu 24.04 Kernel: Depends on container host Compiler: gcc (Ubuntu 13.3.0-6ubuntu2~24.04) 13.3.0 Ubuntu 22.04 Kernel: Depends on container host Compiler: gcc (Ubuntu 11.4.0-1ubuntu1~22.04) 11.4.0 Alpine Kernel: Depends on container host Compiler: gcc (Alpine 14.2.0) 14.2.0 FreeBSD 13.4 Kernel: 13.4-RELEASE-p1 Compiler: clang 18.1.6 FreeBSD 14.2 Kernel: 14.2-RELEASE Compiler: clang 18.1.6 Windows Server 2022 Kernel: 10.0.20348.2031 Compiler: clang 15.0.7, gcc 14.1.0 (MinGW), and MSVC VS 19.39.33521 To view detailed results, visit: https://lab.dpdk.org/results/dashboard/patchsets/32552/ UNH-IOL DPDK Community Lab To manage your email subscriptions, visit: https://lab.dpdk.org/results/dashboard/preferences/subscriptions/ ^ permalink raw reply [flat|nested] 21+ messages in thread
* |SUCCESS| pw151283-151288 [PATCH] [v3,6/6] trace: fix undefined beha [not found] <20250210174424.3364021-7-david.marchand@redhat.com> ` (4 preceding siblings ...) 2025-02-10 18:36 ` dpdklab @ 2025-02-10 18:41 ` dpdklab 2025-02-10 18:41 ` |PENDING| " dpdklab ` (14 subsequent siblings) 20 siblings, 0 replies; 21+ messages in thread From: dpdklab @ 2025-02-10 18:41 UTC (permalink / raw) To: Test Report, Ali Alnubani; +Cc: dpdk-test-reports Test-Label: iol-mellanox-Performance Test-Status: SUCCESS http://dpdk.org/patch/151288 _Performance Testing PASS_ Submitter: David Marchand <david.marchand@redhat.com> Date: Monday, February 10 2025 17:44:22 DPDK git baseline: Repo:dpdk Branch: master CommitID:3553897d84d8b54a1b1136cbf04dd7f1a40fd85b 151283-151288 --> performance testing pass Upstream job id: Template-DTS-Pipeline#211977 Test environment and result as below: Ubuntu 24.04 Kernel: 6.8.0-45-generic Compiler: gcc 13.2.0 NIC: Mellanox ConnectX-6 Lx 25000 Mbps Fail/Total: 0/6 Detail performance results: +------------+---------+----------+-------------+------------------------------+ | frame_size | txd/rxd | num_cpus | num_threads | throughput difference from | | | | | | expected | +============+=========+==========+=============+==============================+ | 64 | 1024 | 1 | 1 | -0.3% | +------------+---------+----------+-------------+------------------------------+ | 128 | 1024 | 1 | 1 | -0.2% | +------------+---------+----------+-------------+------------------------------+ | 256 | 1024 | 1 | 1 | 0.0% | +------------+---------+----------+-------------+------------------------------+ | 512 | 1024 | 1 | 1 | -0.0% | +------------+---------+----------+-------------+------------------------------+ | 1024 | 1024 | 1 | 1 | 0.0% | +------------+---------+----------+-------------+------------------------------+ | 1518 | 1024 | 1 | 1 | 0.1% | +------------+---------+----------+-------------+------------------------------+ Ubuntu 24.04 Kernel: 6.8.0-45-generic Compiler: gcc 13.2.0 NIC: NVIDIA Mellanox ConnectX-7 100000 Mbps Fail/Total: 0/6 Detail performance results: +------------+---------+----------+-------------+------------------------------+ | frame_size | txd/rxd | num_cpus | num_threads | throughput difference from | | | | | | expected | +============+=========+==========+=============+==============================+ | 64 | 1024 | 1 | 1 | 0.3% | +------------+---------+----------+-------------+------------------------------+ | 128 | 1024 | 1 | 1 | 0.2% | +------------+---------+----------+-------------+------------------------------+ | 256 | 1024 | 1 | 1 | -0.8% | +------------+---------+----------+-------------+------------------------------+ | 512 | 1024 | 1 | 1 | 0.1% | +------------+---------+----------+-------------+------------------------------+ | 1024 | 1024 | 1 | 1 | 0.0% | +------------+---------+----------+-------------+------------------------------+ | 1518 | 1024 | 1 | 1 | -0.1% | +------------+---------+----------+-------------+------------------------------+ To view detailed results, visit: https://lab.dpdk.org/results/dashboard/patchsets/32552/ UNH-IOL DPDK Community Lab To manage your email subscriptions, visit: https://lab.dpdk.org/results/dashboard/preferences/subscriptions/ ^ permalink raw reply [flat|nested] 21+ messages in thread
* |PENDING| pw151283-151288 [PATCH] [v3,6/6] trace: fix undefined beha [not found] <20250210174424.3364021-7-david.marchand@redhat.com> ` (5 preceding siblings ...) 2025-02-10 18:41 ` |SUCCESS| " dpdklab @ 2025-02-10 18:41 ` dpdklab 2025-02-10 18:43 ` dpdklab ` (13 subsequent siblings) 20 siblings, 0 replies; 21+ messages in thread From: dpdklab @ 2025-02-10 18:41 UTC (permalink / raw) To: Test Report; +Cc: dpdk-test-reports Test-Label: iol-unit-arm64-testing Test-Status: PENDING http://dpdk.org/patch/151288 _Testing pending_ Submitter: David Marchand <david.marchand@redhat.com> Date: Monday, February 10 2025 17:44:22 DPDK git baseline: Repo:dpdk Branch: master CommitID:3553897d84d8b54a1b1136cbf04dd7f1a40fd85b 151283-151288 --> testing pending Upstream job id: Generic-Unit-Test-DPDK#313709 Test environment and result as below: +-----------------------------+----------------+--------------+---------------------------+------------------------------+ | Environment | dpdk_unit_test | lpm_autotest | cryptodev_sw_zuc_autotest | cryptodev_sw_snow3g_autotest | +=============================+================+==============+===========================+==============================+ | 32-bit Ubuntu 22.04.4 (ARM) | PEND | SKIPPED | SKIPPED | SKIPPED | +-----------------------------+----------------+--------------+---------------------------+------------------------------+ | CentOS Stream 9 (ARM) | PEND | SKIPPED | SKIPPED | SKIPPED | +-----------------------------+----------------+--------------+---------------------------+------------------------------+ | Debian 12 (arm) | PEND | SKIPPED | PEND | PEND | +-----------------------------+----------------+--------------+---------------------------+------------------------------+ | CentOS Stream 10 (ARM) | PEND | SKIPPED | SKIPPED | SKIPPED | +-----------------------------+----------------+--------------+---------------------------+------------------------------+ | Debian 11 (Buster) (ARM) | PEND | SKIPPED | SKIPPED | SKIPPED | +-----------------------------+----------------+--------------+---------------------------+------------------------------+ | Fedora 41 (ARM Clang) | PEND | SKIPPED | SKIPPED | SKIPPED | +-----------------------------+----------------+--------------+---------------------------+------------------------------+ | Fedora 40 (ARM Clang) | PEND | SKIPPED | SKIPPED | SKIPPED | +-----------------------------+----------------+--------------+---------------------------+------------------------------+ | Fedora 40 (ARM) | PEND | SKIPPED | SKIPPED | SKIPPED | +-----------------------------+----------------+--------------+---------------------------+------------------------------+ | RHEL9 (ARM) | PEND | SKIPPED | SKIPPED | SKIPPED | +-----------------------------+----------------+--------------+---------------------------+------------------------------+ | Ubuntu 24.04 (ARM) | PEND | SKIPPED | SKIPPED | SKIPPED | +-----------------------------+----------------+--------------+---------------------------+------------------------------+ | Ubuntu 20.04 (ARM) | PEND | SKIPPED | SKIPPED | SKIPPED | +-----------------------------+----------------+--------------+---------------------------+------------------------------+ | Fedora 41 (ARM) | PEND | SKIPPED | SKIPPED | SKIPPED | +-----------------------------+----------------+--------------+---------------------------+------------------------------+ | Ubuntu 22.04 (ARM) | PEND | SKIPPED | SKIPPED | SKIPPED | +-----------------------------+----------------+--------------+---------------------------+------------------------------+ | Ubuntu 20.04 ARM SVE | SKIPPED | PASS | SKIPPED | SKIPPED | +-----------------------------+----------------+--------------+---------------------------+------------------------------+ 32-bit Ubuntu 22.04.4 (ARM) Kernel: 5.15.83+ aarch64 Compiler: gcc (Ubuntu 11.4.0-1ubuntu1~22.04) 11.4.0 CentOS Stream 9 (ARM) Kernel: Depends on container host Compiler: gcc 11.5.0 20240719 (Red Hat 11.5.0-2) Debian 12 (arm) Kernel: Depends on container host Compiler: gcc (Debian 12.2.0-14) 12.2.0 CentOS Stream 10 (ARM) Kernel: Depends on container host Compiler: gcc 14.2.1 20241104 (Red Hat 14.2.1-6) Debian 11 (Buster) (ARM) Kernel: Depends on container host Compiler: gcc (Debian 10.2.1-6) 10.2.1 20210110 Fedora 41 (ARM Clang) Kernel: Depends on container host Compiler: clang 19.1.5 (Fedora 19.1.5-1.fc41) Fedora 40 (ARM Clang) Kernel: Depends on container host Compiler: clang 18.1.8 (Fedora 18.1.8-1.fc40) Fedora 40 (ARM) Kernel: Depends on container host Compiler: gcc 14.2.1 20240912 (Red Hat 14.2.1-3) RHEL9 (ARM) Kernel: Depends on container host Compiler: gcc 11.5.0 20240719 (Red Hat 11.5.0-2) Ubuntu 24.04 (ARM) Kernel: Depends on container host Compiler: gcc (Ubuntu 13.3.0-6ubuntu2~24.04) 13.3.0 Ubuntu 20.04 (ARM) Kernel: Depends on container host Compiler: gcc (Ubuntu 9.4.0-1ubuntu1~20.04.2) 9.4.0 Fedora 41 (ARM) Kernel: Depends on container host Compiler: gcc 14.2.1 20240912 (Red Hat 14.2.1-3) Ubuntu 22.04 (ARM) Kernel: Depends on container host Compiler: gcc (Ubuntu 11.4.0-1ubuntu1~22.04) 11.4.0 Ubuntu 20.04 ARM SVE Kernel: Depends on container host Compiler: gcc (Ubuntu 10.5.0-1ubuntu1~20.04) 10.5.0 To view detailed results, visit: https://lab.dpdk.org/results/dashboard/patchsets/32552/ UNH-IOL DPDK Community Lab To manage your email subscriptions, visit: https://lab.dpdk.org/results/dashboard/preferences/subscriptions/ ^ permalink raw reply [flat|nested] 21+ messages in thread
* |PENDING| pw151283-151288 [PATCH] [v3,6/6] trace: fix undefined beha [not found] <20250210174424.3364021-7-david.marchand@redhat.com> ` (6 preceding siblings ...) 2025-02-10 18:41 ` |PENDING| " dpdklab @ 2025-02-10 18:43 ` dpdklab 2025-02-10 18:49 ` |SUCCESS| " dpdklab ` (12 subsequent siblings) 20 siblings, 0 replies; 21+ messages in thread From: dpdklab @ 2025-02-10 18:43 UTC (permalink / raw) To: Test Report; +Cc: dpdk-test-reports Test-Label: iol-compile-arm64-testing Test-Status: PENDING http://dpdk.org/patch/151288 _Testing pending_ Submitter: David Marchand <david.marchand@redhat.com> Date: Monday, February 10 2025 17:44:22 DPDK git baseline: Repo:dpdk Branch: master CommitID:3553897d84d8b54a1b1136cbf04dd7f1a40fd85b 151283-151288 --> testing pending Upstream job id: Generic-DPDK-Compile-Meson#360210 Test environment and result as below: +----------------------------------------+--------------------+ | Environment | dpdk_meson_compile | +========================================+====================+ | RHEL9 (ARM) | PEND | +----------------------------------------+--------------------+ | Ubuntu 20.04 ARM GCC Cross Compile | PEND | +----------------------------------------+--------------------+ | Ubuntu 20.04 ARM SVE | PASS | +----------------------------------------+--------------------+ | Fedora 40 (ARM) | PEND | +----------------------------------------+--------------------+ | Debian 12 with MUSDK | PEND | +----------------------------------------+--------------------+ | Fedora 40 (ARM Clang) | PEND | +----------------------------------------+--------------------+ | Fedora 41 (ARM) | PEND | +----------------------------------------+--------------------+ | Fedora 41 (ARM Clang) | PEND | +----------------------------------------+--------------------+ | Ubuntu 20.04 (ARM) | PEND | +----------------------------------------+--------------------+ | Ubuntu 22.04 (ARM) | PEND | +----------------------------------------+--------------------+ | Ubuntu 24.04 (ARM) | PEND | +----------------------------------------+--------------------+ | Ubuntu 20.04 aarch32 GCC Cross Compile | PEND | +----------------------------------------+--------------------+ RHEL9 (ARM) Kernel: Depends on container host Compiler: gcc 11.5.0 20240719 (Red Hat 11.5.0-2) Ubuntu 20.04 ARM GCC Cross Compile Kernel: Depends on container host Compiler: aarch64-linux-gnu-gcc (Ubuntu 9.4.0-1ubuntu1~20.04.2) 9.4.0 Ubuntu 20.04 ARM SVE Kernel: Depends on container host Compiler: gcc (Ubuntu 10.5.0-1ubuntu1~20.04) 10.5.0 Fedora 40 (ARM) Kernel: Depends on container host Compiler: gcc 14.2.1 20240912 (Red Hat 14.2.1-3) Debian 12 with MUSDK Kernel: Depends on container host Compiler: gcc (Debian 12.2.0-14) 12.2.0 Fedora 40 (ARM Clang) Kernel: Depends on container host Compiler: clang 18.1.8 (Fedora 18.1.8-1.fc40) Fedora 41 (ARM) Kernel: Depends on container host Compiler: gcc 14.2.1 20240912 (Red Hat 14.2.1-3) Fedora 41 (ARM Clang) Kernel: Depends on container host Compiler: clang 19.1.5 (Fedora 19.1.5-1.fc41) Ubuntu 20.04 (ARM) Kernel: Depends on container host Compiler: gcc (Ubuntu 9.4.0-1ubuntu1~20.04.2) 9.4.0 Ubuntu 22.04 (ARM) Kernel: Depends on container host Compiler: gcc (Ubuntu 11.4.0-1ubuntu1~22.04) 11.4.0 Ubuntu 24.04 (ARM) Kernel: Depends on container host Compiler: gcc (Ubuntu 13.3.0-6ubuntu2~24.04) 13.3.0 Ubuntu 20.04 aarch32 GCC Cross Compile Kernel: Depends on container host Compiler: gcc 9.4.0 To view detailed results, visit: https://lab.dpdk.org/results/dashboard/patchsets/32552/ UNH-IOL DPDK Community Lab To manage your email subscriptions, visit: https://lab.dpdk.org/results/dashboard/preferences/subscriptions/ ^ permalink raw reply [flat|nested] 21+ messages in thread
* |SUCCESS| pw151283-151288 [PATCH] [v3,6/6] trace: fix undefined beha [not found] <20250210174424.3364021-7-david.marchand@redhat.com> ` (7 preceding siblings ...) 2025-02-10 18:43 ` dpdklab @ 2025-02-10 18:49 ` dpdklab 2025-02-10 18:51 ` |PENDING| " dpdklab ` (11 subsequent siblings) 20 siblings, 0 replies; 21+ messages in thread From: dpdklab @ 2025-02-10 18:49 UTC (permalink / raw) To: Test Report; +Cc: dpdk-test-reports Test-Label: iol-marvell-Functional Test-Status: SUCCESS http://dpdk.org/patch/151288 _Functional Testing PASS_ Submitter: David Marchand <david.marchand@redhat.com> Date: Monday, February 10 2025 17:44:22 DPDK git baseline: Repo:dpdk Branch: master CommitID:3553897d84d8b54a1b1136cbf04dd7f1a40fd85b 151283-151288 --> functional testing pass Upstream job id: Template-DTS-Pipeline#211989 Test environment and result as below: Ubuntu 20.04.6 Kernel: 5.4.105 Compiler: gcc 9.4 NIC: Marvell CN106XX 50000 Mbps Target: arm64-native-linuxapp-gcc Aggregate Results by Test Suite +-----------------+--------+ | Test Suite | Result | +=================+========+ | cmdline | PASS | +-----------------+--------+ | ipv4_reassembly | PASS | +-----------------+--------+ | rxtx_callbacks | PASS | +-----------------+--------+ | tso | PASS | +-----------------+--------+ To view detailed results, visit: https://lab.dpdk.org/results/dashboard/patchsets/32552/ UNH-IOL DPDK Community Lab To manage your email subscriptions, visit: https://lab.dpdk.org/results/dashboard/preferences/subscriptions/ ^ permalink raw reply [flat|nested] 21+ messages in thread
* |PENDING| pw151283-151288 [PATCH] [v3,6/6] trace: fix undefined beha [not found] <20250210174424.3364021-7-david.marchand@redhat.com> ` (8 preceding siblings ...) 2025-02-10 18:49 ` |SUCCESS| " dpdklab @ 2025-02-10 18:51 ` dpdklab 2025-02-10 18:53 ` |SUCCESS| " dpdklab ` (10 subsequent siblings) 20 siblings, 0 replies; 21+ messages in thread From: dpdklab @ 2025-02-10 18:51 UTC (permalink / raw) To: Test Report; +Cc: dpdk-test-reports Test-Label: iol-sample-apps-testing Test-Status: PENDING http://dpdk.org/patch/151288 _Testing pending_ Submitter: David Marchand <david.marchand@redhat.com> Date: Monday, February 10 2025 17:44:22 DPDK git baseline: Repo:dpdk Branch: master CommitID:3553897d84d8b54a1b1136cbf04dd7f1a40fd85b 151283-151288 --> testing pending Upstream job id: Template-DTS-Pipeline#211979 Test environment and result as below: +--------------------+----------------------+----------------------+ | Environment | dpdk_fips_validation | compressdev_zlib_pmd | +====================+======================+======================+ | Ubuntu 20.04 | PEND | SKIPPED | +--------------------+----------------------+----------------------+ | Ubuntu 22.04 (ARM) | SKIPPED | PASS | +--------------------+----------------------+----------------------+ Ubuntu 20.04 Kernel: Depends on container host Compiler: gcc (Ubuntu 9.4.0-1ubuntu1~20.04.2) 9.4.0 Ubuntu 22.04 (ARM) Kernel: 5.15.0-97-generic Compiler: gcc gcc (Ubuntu 11.4.0-1ubuntu1~22.04) 11.4.0 To view detailed results, visit: https://lab.dpdk.org/results/dashboard/patchsets/32552/ UNH-IOL DPDK Community Lab To manage your email subscriptions, visit: https://lab.dpdk.org/results/dashboard/preferences/subscriptions/ ^ permalink raw reply [flat|nested] 21+ messages in thread
* |SUCCESS| pw151283-151288 [PATCH] [v3,6/6] trace: fix undefined beha [not found] <20250210174424.3364021-7-david.marchand@redhat.com> ` (9 preceding siblings ...) 2025-02-10 18:51 ` |PENDING| " dpdklab @ 2025-02-10 18:53 ` dpdklab 2025-02-10 19:05 ` |SUCCESS| pw151288 [PATCH v3 6/6] trace: fix undefined behavior in register 0-day Robot ` (9 subsequent siblings) 20 siblings, 0 replies; 21+ messages in thread From: dpdklab @ 2025-02-10 18:53 UTC (permalink / raw) To: Test Report; +Cc: dpdk-test-reports Test-Label: iol-intel-Functional Test-Status: SUCCESS http://dpdk.org/patch/151288 _Functional Testing PASS_ Submitter: David Marchand <david.marchand@redhat.com> Date: Monday, February 10 2025 17:44:22 DPDK git baseline: Repo:dpdk Branch: master CommitID:3553897d84d8b54a1b1136cbf04dd7f1a40fd85b 151283-151288 --> functional testing pass Upstream job id: Template-DTS-Pipeline#211986 Test environment and result as below: Ubuntu 22.04 Kernel: 5.15.0-131-generic Compiler: gcc (Ubuntu 11.4.0-1ubuntu1~22.04) 11.4.0 NIC: Intel Corporation Ethernet Converged Network Adapter 82599ES 10000 Mbps Aggregate Results by Test Suite +-----------------------------+--------+ | Test Suite | Result | +=============================+========+ | unit_tests_mbuf | PASS | +-----------------------------+--------+ | vhost_virtio_user_interrupt | PASS | +-----------------------------+--------+ | virtio_smoke | PASS | +-----------------------------+--------+ To view detailed results, visit: https://lab.dpdk.org/results/dashboard/patchsets/32552/ UNH-IOL DPDK Community Lab To manage your email subscriptions, visit: https://lab.dpdk.org/results/dashboard/preferences/subscriptions/ ^ permalink raw reply [flat|nested] 21+ messages in thread
* |SUCCESS| pw151288 [PATCH v3 6/6] trace: fix undefined behavior in register [not found] <20250210174424.3364021-7-david.marchand@redhat.com> ` (10 preceding siblings ...) 2025-02-10 18:53 ` |SUCCESS| " dpdklab @ 2025-02-10 19:05 ` 0-day Robot 2025-02-10 19:15 ` |SUCCESS| pw151283-151288 [PATCH] [v3,6/6] trace: fix undefined beha dpdklab ` (8 subsequent siblings) 20 siblings, 0 replies; 21+ messages in thread From: 0-day Robot @ 2025-02-10 19:05 UTC (permalink / raw) To: test-report; +Cc: robot From: robot@bytheb.org Test-Label: github-robot: build Test-Status: SUCCESS http://patchwork.dpdk.org/patch/151288/ _github build: passed_ Build URL: https://github.com/ovsrobot/dpdk/actions/runs/13247474003 ^ permalink raw reply [flat|nested] 21+ messages in thread
* |SUCCESS| pw151283-151288 [PATCH] [v3,6/6] trace: fix undefined beha [not found] <20250210174424.3364021-7-david.marchand@redhat.com> ` (11 preceding siblings ...) 2025-02-10 19:05 ` |SUCCESS| pw151288 [PATCH v3 6/6] trace: fix undefined behavior in register 0-day Robot @ 2025-02-10 19:15 ` dpdklab 2025-02-10 19:35 ` dpdklab ` (7 subsequent siblings) 20 siblings, 0 replies; 21+ messages in thread From: dpdklab @ 2025-02-10 19:15 UTC (permalink / raw) To: Test Report; +Cc: dpdk-test-reports Test-Label: iol-intel-Functional Test-Status: SUCCESS http://dpdk.org/patch/151288 _Functional Testing PASS_ Submitter: David Marchand <david.marchand@redhat.com> Date: Monday, February 10 2025 17:44:22 DPDK git baseline: Repo:dpdk Branch: master CommitID:3553897d84d8b54a1b1136cbf04dd7f1a40fd85b 151283-151288 --> functional testing pass Upstream job id: Template-DTS-Pipeline#211988 Test environment and result as below: Ubuntu 22.04 Kernel: 5.15.0-131-generic Compiler: gcc (Ubuntu 11.4.0-1ubuntu1~22.04) 11.4.0 NIC: Intel Corporation Ethernet Converged Network Adapter 82599ES 10000 Mbps Aggregate Results by Test Suite +-----------------------------+--------+ | Test Suite | Result | +=============================+========+ | unit_tests_mbuf | PASS | +-----------------------------+--------+ | vhost_virtio_user_interrupt | PASS | +-----------------------------+--------+ | virtio_smoke | PASS | +-----------------------------+--------+ Arm Ampere Altra - Ubuntu 22.04 Kernel: 5.15.83+ Compiler: gcc 11.4 NIC: Intel Corporation QAT 8970 0 Mbps Aggregate Results by Test Suite +----------------------------+--------+ | Test Suite | Result | +============================+========+ | crypto_perf_cryptodev_perf | PASS | +----------------------------+--------+ To view detailed results, visit: https://lab.dpdk.org/results/dashboard/patchsets/32552/ UNH-IOL DPDK Community Lab To manage your email subscriptions, visit: https://lab.dpdk.org/results/dashboard/preferences/subscriptions/ ^ permalink raw reply [flat|nested] 21+ messages in thread
* |SUCCESS| pw151283-151288 [PATCH] [v3,6/6] trace: fix undefined beha [not found] <20250210174424.3364021-7-david.marchand@redhat.com> ` (12 preceding siblings ...) 2025-02-10 19:15 ` |SUCCESS| pw151283-151288 [PATCH] [v3,6/6] trace: fix undefined beha dpdklab @ 2025-02-10 19:35 ` dpdklab 2025-02-10 19:48 ` dpdklab ` (6 subsequent siblings) 20 siblings, 0 replies; 21+ messages in thread From: dpdklab @ 2025-02-10 19:35 UTC (permalink / raw) To: Test Report; +Cc: dpdk-test-reports Test-Label: iol-broadcom-Performance Test-Status: SUCCESS http://dpdk.org/patch/151288 _Performance Testing PASS_ Submitter: David Marchand <david.marchand@redhat.com> Date: Monday, February 10 2025 17:44:22 DPDK git baseline: Repo:dpdk Branch: master CommitID:3553897d84d8b54a1b1136cbf04dd7f1a40fd85b 151283-151288 --> performance testing pass Upstream job id: Template-DTS-Pipeline#211983 Test environment and result as below: Ubuntu 22.04 ARM Kernel: 5.15.83+ Compiler: gcc 11.4.0 NIC: Arm Broadcom Inc. brcm_57414 25000 Mbps Fail/Total: 0/2 Detail performance results: +------------+---------+----------+-------------+------------------------------+ | frame_size | txd/rxd | num_cpus | num_threads | throughput difference from | | | | | | expected | +============+=========+==========+=============+==============================+ | 64 | 512 | 1 | 1 | 0.1% | +------------+---------+----------+-------------+------------------------------+ | 64 | 2048 | 1 | 1 | 0.1% | +------------+---------+----------+-------------+------------------------------+ Ubuntu 22.04 Kernel: 5.15.0-100-generic Compiler: gcc (Ubuntu 11.4.0-1ubuntu1~22.04) 11.4.0 NIC: Broadcom Inc. and subsidiaries BCM57414 NetXtreme-E 10Gb/25Gb RDMA Ethernet Controller 16d7 25 Mbps Fail/Total: 0/3 Detail performance results: +------------+---------+----------+-------------+------------------------------+ | frame_size | txd/rxd | num_cpus | num_threads | throughput difference from | | | | | | expected | +============+=========+==========+=============+==============================+ | 64 | 128 | 1 | 1 | 0.3% | +------------+---------+----------+-------------+------------------------------+ | 64 | 512 | 1 | 1 | -0.0% | +------------+---------+----------+-------------+------------------------------+ | 64 | 2048 | 1 | 1 | 0.5% | +------------+---------+----------+-------------+------------------------------+ To view detailed results, visit: https://lab.dpdk.org/results/dashboard/patchsets/32552/ UNH-IOL DPDK Community Lab To manage your email subscriptions, visit: https://lab.dpdk.org/results/dashboard/preferences/subscriptions/ ^ permalink raw reply [flat|nested] 21+ messages in thread
* |SUCCESS| pw151283-151288 [PATCH] [v3,6/6] trace: fix undefined beha [not found] <20250210174424.3364021-7-david.marchand@redhat.com> ` (13 preceding siblings ...) 2025-02-10 19:35 ` dpdklab @ 2025-02-10 19:48 ` dpdklab 2025-02-10 19:51 ` dpdklab ` (5 subsequent siblings) 20 siblings, 0 replies; 21+ messages in thread From: dpdklab @ 2025-02-10 19:48 UTC (permalink / raw) To: Test Report; +Cc: dpdk-test-reports Test-Label: iol-unit-amd64-testing Test-Status: SUCCESS http://dpdk.org/patch/151288 _Testing PASS_ Submitter: David Marchand <david.marchand@redhat.com> Date: Monday, February 10 2025 17:44:22 DPDK git baseline: Repo:dpdk Branch: master CommitID:3553897d84d8b54a1b1136cbf04dd7f1a40fd85b 151283-151288 --> testing pass Upstream job id: Generic-Unit-Test-DPDK#313727 Test environment and result as below: +---------------------+----------------+ | Environment | dpdk_unit_test | +=====================+================+ | CentOS Stream 10 | PASS | +---------------------+----------------+ | CentOS Stream 9 | PASS | +---------------------+----------------+ | Debian Bullseye | PASS | +---------------------+----------------+ | Fedora 40 | PASS | +---------------------+----------------+ | Debian 12 | PASS | +---------------------+----------------+ | RHEL8 | PASS | +---------------------+----------------+ | Fedora 41 | PASS | +---------------------+----------------+ | RHEL9 | PASS | +---------------------+----------------+ | Ubuntu 22.04 | PASS | +---------------------+----------------+ | Fedora 40 (Clang) | PASS | +---------------------+----------------+ | Ubuntu 20.04 | PASS | +---------------------+----------------+ | Fedora 41 (Clang) | PASS | +---------------------+----------------+ | Ubuntu 24.04 | PASS | +---------------------+----------------+ | Windows Server 2022 | PASS | +---------------------+----------------+ CentOS Stream 10 Kernel: Depends on container host Compiler: gcc 14.2.1 20241104 (Red Hat 14.2.1-6) CentOS Stream 9 Kernel: Depends on container host Compiler: gcc 11.5.0 20240719 (Red Hat 11.5.0-2) Debian Bullseye Kernel: Depends on container host Compiler: gcc (Debian 10.2.1-6) 10.2.1 20210110 Fedora 40 Kernel: Depends on container host Compiler: gcc 14.2.1 20240912 (Red Hat 14.2.1-3) Debian 12 Kernel: Depends on container host Compiler: gcc (Debian 12.2.0-14) 12.2.0 RHEL8 Kernel: Depends on container host Compiler: gcc 8.5.0 20210514 (Red Hat 8.5.0-22) Fedora 41 Kernel: Depends on container host Compiler: gcc 14.2.1 20240912 (Red Hat 14.2.1-3) RHEL9 Kernel: Depends on container host Compiler: gcc 11.5.0 20240719 (Red Hat 11.5.0-2) Ubuntu 22.04 Kernel: Depends on container host Compiler: gcc (Ubuntu 11.4.0-1ubuntu1~22.04) 11.4.0 Fedora 40 (Clang) Kernel: Depends on container host Compiler: clang 18.1.8 (Fedora 18.1.8-1.fc40) Ubuntu 20.04 Kernel: Depends on container host Compiler: gcc (Ubuntu 9.4.0-1ubuntu1~20.04.2) 9.4.0 Fedora 41 (Clang) Kernel: Depends on container host Compiler: clang 19.1.5 (Fedora 19.1.5-1.fc41) Ubuntu 24.04 Kernel: Depends on container host Compiler: gcc (Ubuntu 13.3.0-6ubuntu2~24.04) 13.3.0 Windows Server 2022 Kernel: 10.0.20348.2031 Compiler: clang 15.0.7, gcc 14.1.0 (MinGW), and MSVC VS 19.39.33521 To view detailed results, visit: https://lab.dpdk.org/results/dashboard/patchsets/32552/ UNH-IOL DPDK Community Lab To manage your email subscriptions, visit: https://lab.dpdk.org/results/dashboard/preferences/subscriptions/ ^ permalink raw reply [flat|nested] 21+ messages in thread
* |SUCCESS| pw151283-151288 [PATCH] [v3,6/6] trace: fix undefined beha [not found] <20250210174424.3364021-7-david.marchand@redhat.com> ` (14 preceding siblings ...) 2025-02-10 19:48 ` dpdklab @ 2025-02-10 19:51 ` dpdklab 2025-02-10 20:06 ` dpdklab ` (4 subsequent siblings) 20 siblings, 0 replies; 21+ messages in thread From: dpdklab @ 2025-02-10 19:51 UTC (permalink / raw) To: Test Report; +Cc: dpdk-test-reports Test-Label: iol-abi-testing Test-Status: SUCCESS http://dpdk.org/patch/151288 _Testing PASS_ Submitter: David Marchand <david.marchand@redhat.com> Date: Monday, February 10 2025 17:44:22 DPDK git baseline: Repo:dpdk Branch: master CommitID:3553897d84d8b54a1b1136cbf04dd7f1a40fd85b 151283-151288 --> testing pass Upstream job id: Generic-DPDK-Compile-ABI#115660 Test environment and result as below: +-------------------+----------+ | Environment | abi_test | +===================+==========+ | Fedora 41 (Clang) | PASS | +-------------------+----------+ | CentOS Stream 9 | PASS | +-------------------+----------+ | Debian Bullseye | PASS | +-------------------+----------+ | CentOS Stream 10 | PASS | +-------------------+----------+ | Fedora 41 | PASS | +-------------------+----------+ | RHEL9 | PASS | +-------------------+----------+ | Ubuntu 22.04 | PASS | +-------------------+----------+ | Fedora 40 (Clang) | PASS | +-------------------+----------+ | RHEL8 | PASS | +-------------------+----------+ | Debian 12 | PASS | +-------------------+----------+ | openSUSE Leap 15 | PASS | +-------------------+----------+ | Ubuntu 24.04 | PASS | +-------------------+----------+ | Fedora 40 | PASS | +-------------------+----------+ Fedora 41 (Clang) Kernel: Depends on container host Compiler: clang 19.1.5 (Fedora 19.1.5-1.fc41) CentOS Stream 9 Kernel: Depends on container host Compiler: gcc 11.5.0 20240719 (Red Hat 11.5.0-2) Debian Bullseye Kernel: Depends on container host Compiler: gcc (Debian 10.2.1-6) 10.2.1 20210110 CentOS Stream 10 Kernel: Depends on container host Compiler: gcc 14.2.1 20241104 (Red Hat 14.2.1-6) Fedora 41 Kernel: Depends on container host Compiler: gcc 14.2.1 20240912 (Red Hat 14.2.1-3) RHEL9 Kernel: Depends on container host Compiler: gcc 11.5.0 20240719 (Red Hat 11.5.0-2) Ubuntu 22.04 Kernel: Depends on container host Compiler: gcc (Ubuntu 11.4.0-1ubuntu1~22.04) 11.4.0 Fedora 40 (Clang) Kernel: Depends on container host Compiler: clang 18.1.8 (Fedora 18.1.8-1.fc40) RHEL8 Kernel: Depends on container host Compiler: gcc 8.5.0 20210514 (Red Hat 8.5.0-22) Debian 12 Kernel: Depends on container host Compiler: gcc (Debian 12.2.0-14) 12.2.0 openSUSE Leap 15 Kernel: Depends on container host Compiler: gcc (SUSE Linux) 7.5.0 Ubuntu 24.04 Kernel: Depends on container host Compiler: gcc (Ubuntu 13.3.0-6ubuntu2~24.04) 13.3.0 Fedora 40 Kernel: Depends on container host Compiler: gcc 14.2.1 20240912 (Red Hat 14.2.1-3) To view detailed results, visit: https://lab.dpdk.org/results/dashboard/patchsets/32552/ UNH-IOL DPDK Community Lab To manage your email subscriptions, visit: https://lab.dpdk.org/results/dashboard/preferences/subscriptions/ ^ permalink raw reply [flat|nested] 21+ messages in thread
* |SUCCESS| pw151283-151288 [PATCH] [v3,6/6] trace: fix undefined beha [not found] <20250210174424.3364021-7-david.marchand@redhat.com> ` (15 preceding siblings ...) 2025-02-10 19:51 ` dpdklab @ 2025-02-10 20:06 ` dpdklab 2025-02-10 20:08 ` dpdklab ` (3 subsequent siblings) 20 siblings, 0 replies; 21+ messages in thread From: dpdklab @ 2025-02-10 20:06 UTC (permalink / raw) To: Test Report; +Cc: dpdk-test-reports Test-Label: iol-compile-amd64-testing Test-Status: SUCCESS http://dpdk.org/patch/151288 _Testing PASS_ Submitter: David Marchand <david.marchand@redhat.com> Date: Monday, February 10 2025 17:44:22 DPDK git baseline: Repo:dpdk Branch: master CommitID:3553897d84d8b54a1b1136cbf04dd7f1a40fd85b 151283-151288 --> testing pass Upstream job id: Generic-DPDK-Compile-Meson#360207 Test environment and result as below: +---------------------+--------------------+-------------------+------------------+-------------------+-------------------------+----------------------+ | Environment | dpdk_meson_compile | dpdk_compile_spdk | dpdk_compile_ovs | dpdk_msvc_compile | dpdk_llvm_clang_compile | dpdk_mingw64_compile | +=====================+====================+===================+==================+===================+=========================+======================+ | CentOS Stream 9 | PASS | PASS | SKIPPED | SKIPPED | SKIPPED | SKIPPED | +---------------------+--------------------+-------------------+------------------+-------------------+-------------------------+----------------------+ | CentOS Stream 10 | PASS | SKIPPED | SKIPPED | SKIPPED | SKIPPED | SKIPPED | +---------------------+--------------------+-------------------+------------------+-------------------+-------------------------+----------------------+ | Debian Bullseye | PASS | PASS | SKIPPED | SKIPPED | SKIPPED | SKIPPED | +---------------------+--------------------+-------------------+------------------+-------------------+-------------------------+----------------------+ | Debian 12 | PASS | PASS | SKIPPED | SKIPPED | SKIPPED | SKIPPED | +---------------------+--------------------+-------------------+------------------+-------------------+-------------------------+----------------------+ | Fedora 40 (Clang) | PASS | PASS | SKIPPED | SKIPPED | SKIPPED | SKIPPED | +---------------------+--------------------+-------------------+------------------+-------------------+-------------------------+----------------------+ | Fedora 40 | PASS | PASS | SKIPPED | SKIPPED | SKIPPED | SKIPPED | +---------------------+--------------------+-------------------+------------------+-------------------+-------------------------+----------------------+ | Fedora 41 (Clang) | PASS | PASS | PASS | SKIPPED | SKIPPED | SKIPPED | +---------------------+--------------------+-------------------+------------------+-------------------+-------------------------+----------------------+ | openSUSE Leap 15 | PASS | SKIPPED | SKIPPED | SKIPPED | SKIPPED | SKIPPED | +---------------------+--------------------+-------------------+------------------+-------------------+-------------------------+----------------------+ | Fedora 41 | PASS | PASS | PASS | SKIPPED | SKIPPED | SKIPPED | +---------------------+--------------------+-------------------+------------------+-------------------+-------------------------+----------------------+ | RHEL8 | PASS | SKIPPED | SKIPPED | SKIPPED | SKIPPED | SKIPPED | +---------------------+--------------------+-------------------+------------------+-------------------+-------------------------+----------------------+ | RHEL9 | PASS | SKIPPED | SKIPPED | SKIPPED | SKIPPED | SKIPPED | +---------------------+--------------------+-------------------+------------------+-------------------+-------------------------+----------------------+ | Ubuntu 20.04 | PASS | SKIPPED | SKIPPED | SKIPPED | SKIPPED | SKIPPED | +---------------------+--------------------+-------------------+------------------+-------------------+-------------------------+----------------------+ | Ubuntu 24.04 | PASS | PASS | PASS | SKIPPED | SKIPPED | SKIPPED | +---------------------+--------------------+-------------------+------------------+-------------------+-------------------------+----------------------+ | Ubuntu 22.04 | PASS | PASS | SKIPPED | SKIPPED | SKIPPED | SKIPPED | +---------------------+--------------------+-------------------+------------------+-------------------+-------------------------+----------------------+ | Alpine | PASS | SKIPPED | SKIPPED | SKIPPED | SKIPPED | SKIPPED | +---------------------+--------------------+-------------------+------------------+-------------------+-------------------------+----------------------+ | FreeBSD 13.4 | PASS | SKIPPED | SKIPPED | SKIPPED | SKIPPED | SKIPPED | +---------------------+--------------------+-------------------+------------------+-------------------+-------------------------+----------------------+ | FreeBSD 14.2 | PASS | SKIPPED | SKIPPED | SKIPPED | SKIPPED | SKIPPED | +---------------------+--------------------+-------------------+------------------+-------------------+-------------------------+----------------------+ | Windows Server 2022 | SKIPPED | SKIPPED | SKIPPED | PASS | PASS | PASS | +---------------------+--------------------+-------------------+------------------+-------------------+-------------------------+----------------------+ CentOS Stream 9 Kernel: Depends on container host Compiler: gcc 11.5.0 20240719 (Red Hat 11.5.0-2) CentOS Stream 10 Kernel: Depends on container host Compiler: gcc 14.2.1 20241104 (Red Hat 14.2.1-6) Debian Bullseye Kernel: Depends on container host Compiler: gcc (Debian 10.2.1-6) 10.2.1 20210110 Debian 12 Kernel: Depends on container host Compiler: gcc (Debian 12.2.0-14) 12.2.0 Fedora 40 (Clang) Kernel: Depends on container host Compiler: clang 18.1.8 (Fedora 18.1.8-1.fc40) Fedora 40 Kernel: Depends on container host Compiler: gcc 14.2.1 20240912 (Red Hat 14.2.1-3) Fedora 41 (Clang) Kernel: Depends on container host Compiler: clang 19.1.5 (Fedora 19.1.5-1.fc41) openSUSE Leap 15 Kernel: Depends on container host Compiler: gcc (SUSE Linux) 7.5.0 Fedora 41 Kernel: Depends on container host Compiler: gcc 14.2.1 20240912 (Red Hat 14.2.1-3) RHEL8 Kernel: Depends on container host Compiler: gcc 8.5.0 20210514 (Red Hat 8.5.0-22) RHEL9 Kernel: Depends on container host Compiler: gcc 11.5.0 20240719 (Red Hat 11.5.0-2) Ubuntu 20.04 Kernel: Depends on container host Compiler: gcc (Ubuntu 9.4.0-1ubuntu1~20.04.2) 9.4.0 Ubuntu 24.04 Kernel: Depends on container host Compiler: gcc (Ubuntu 13.3.0-6ubuntu2~24.04) 13.3.0 Ubuntu 22.04 Kernel: Depends on container host Compiler: gcc (Ubuntu 11.4.0-1ubuntu1~22.04) 11.4.0 Alpine Kernel: Depends on container host Compiler: gcc (Alpine 14.2.0) 14.2.0 FreeBSD 13.4 Kernel: 13.4-RELEASE-p1 Compiler: clang 18.1.6 FreeBSD 14.2 Kernel: 14.2-RELEASE Compiler: clang 18.1.6 Windows Server 2022 Kernel: 10.0.20348.2031 Compiler: clang 15.0.7, gcc 14.1.0 (MinGW), and MSVC VS 19.39.33521 To view detailed results, visit: https://lab.dpdk.org/results/dashboard/patchsets/32552/ UNH-IOL DPDK Community Lab To manage your email subscriptions, visit: https://lab.dpdk.org/results/dashboard/preferences/subscriptions/ ^ permalink raw reply [flat|nested] 21+ messages in thread
* |SUCCESS| pw151283-151288 [PATCH] [v3,6/6] trace: fix undefined beha [not found] <20250210174424.3364021-7-david.marchand@redhat.com> ` (16 preceding siblings ...) 2025-02-10 20:06 ` dpdklab @ 2025-02-10 20:08 ` dpdklab 2025-02-10 21:01 ` dpdklab ` (2 subsequent siblings) 20 siblings, 0 replies; 21+ messages in thread From: dpdklab @ 2025-02-10 20:08 UTC (permalink / raw) To: Test Report; +Cc: dpdk-test-reports Test-Label: iol-compile-amd64-testing Test-Status: SUCCESS http://dpdk.org/patch/151288 _Testing PASS_ Submitter: David Marchand <david.marchand@redhat.com> Date: Monday, February 10 2025 17:44:22 DPDK git baseline: Repo:dpdk Branch: master CommitID:3553897d84d8b54a1b1136cbf04dd7f1a40fd85b 151283-151288 --> testing pass Upstream job id: Generic-DPDK-Compile-Meson#360205 Test environment and result as below: +---------------------+--------------------+-------------------+------------------+-------------------+-------------------------+----------------------+ | Environment | dpdk_meson_compile | dpdk_compile_spdk | dpdk_compile_ovs | dpdk_msvc_compile | dpdk_llvm_clang_compile | dpdk_mingw64_compile | +=====================+====================+===================+==================+===================+=========================+======================+ | CentOS Stream 9 | PASS | PASS | SKIPPED | SKIPPED | SKIPPED | SKIPPED | +---------------------+--------------------+-------------------+------------------+-------------------+-------------------------+----------------------+ | CentOS Stream 10 | PASS | SKIPPED | SKIPPED | SKIPPED | SKIPPED | SKIPPED | +---------------------+--------------------+-------------------+------------------+-------------------+-------------------------+----------------------+ | Debian Bullseye | PASS | PASS | SKIPPED | SKIPPED | SKIPPED | SKIPPED | +---------------------+--------------------+-------------------+------------------+-------------------+-------------------------+----------------------+ | Debian 12 | PASS | PASS | SKIPPED | SKIPPED | SKIPPED | SKIPPED | +---------------------+--------------------+-------------------+------------------+-------------------+-------------------------+----------------------+ | Fedora 40 (Clang) | PASS | PASS | SKIPPED | SKIPPED | SKIPPED | SKIPPED | +---------------------+--------------------+-------------------+------------------+-------------------+-------------------------+----------------------+ | Fedora 40 | PASS | PASS | SKIPPED | SKIPPED | SKIPPED | SKIPPED | +---------------------+--------------------+-------------------+------------------+-------------------+-------------------------+----------------------+ | Fedora 41 (Clang) | PASS | PASS | PASS | SKIPPED | SKIPPED | SKIPPED | +---------------------+--------------------+-------------------+------------------+-------------------+-------------------------+----------------------+ | openSUSE Leap 15 | PASS | SKIPPED | SKIPPED | SKIPPED | SKIPPED | SKIPPED | +---------------------+--------------------+-------------------+------------------+-------------------+-------------------------+----------------------+ | Fedora 41 | PASS | PASS | PASS | SKIPPED | SKIPPED | SKIPPED | +---------------------+--------------------+-------------------+------------------+-------------------+-------------------------+----------------------+ | RHEL8 | PASS | SKIPPED | SKIPPED | SKIPPED | SKIPPED | SKIPPED | +---------------------+--------------------+-------------------+------------------+-------------------+-------------------------+----------------------+ | RHEL9 | PASS | SKIPPED | SKIPPED | SKIPPED | SKIPPED | SKIPPED | +---------------------+--------------------+-------------------+------------------+-------------------+-------------------------+----------------------+ | Ubuntu 20.04 | PASS | SKIPPED | SKIPPED | SKIPPED | SKIPPED | SKIPPED | +---------------------+--------------------+-------------------+------------------+-------------------+-------------------------+----------------------+ | Ubuntu 24.04 | PASS | PASS | PASS | SKIPPED | SKIPPED | SKIPPED | +---------------------+--------------------+-------------------+------------------+-------------------+-------------------------+----------------------+ | Ubuntu 22.04 | PASS | PASS | SKIPPED | SKIPPED | SKIPPED | SKIPPED | +---------------------+--------------------+-------------------+------------------+-------------------+-------------------------+----------------------+ | Alpine | PASS | SKIPPED | SKIPPED | SKIPPED | SKIPPED | SKIPPED | +---------------------+--------------------+-------------------+------------------+-------------------+-------------------------+----------------------+ | FreeBSD 13.4 | PASS | SKIPPED | SKIPPED | SKIPPED | SKIPPED | SKIPPED | +---------------------+--------------------+-------------------+------------------+-------------------+-------------------------+----------------------+ | FreeBSD 14.2 | PASS | SKIPPED | SKIPPED | SKIPPED | SKIPPED | SKIPPED | +---------------------+--------------------+-------------------+------------------+-------------------+-------------------------+----------------------+ | Windows Server 2022 | SKIPPED | SKIPPED | SKIPPED | PASS | PASS | PASS | +---------------------+--------------------+-------------------+------------------+-------------------+-------------------------+----------------------+ CentOS Stream 9 Kernel: Depends on container host Compiler: gcc 11.5.0 20240719 (Red Hat 11.5.0-2) CentOS Stream 10 Kernel: Depends on container host Compiler: gcc 14.2.1 20241104 (Red Hat 14.2.1-6) Debian Bullseye Kernel: Depends on container host Compiler: gcc (Debian 10.2.1-6) 10.2.1 20210110 Debian 12 Kernel: Depends on container host Compiler: gcc (Debian 12.2.0-14) 12.2.0 Fedora 40 (Clang) Kernel: Depends on container host Compiler: clang 18.1.8 (Fedora 18.1.8-1.fc40) Fedora 40 Kernel: Depends on container host Compiler: gcc 14.2.1 20240912 (Red Hat 14.2.1-3) Fedora 41 (Clang) Kernel: Depends on container host Compiler: clang 19.1.5 (Fedora 19.1.5-1.fc41) openSUSE Leap 15 Kernel: Depends on container host Compiler: gcc (SUSE Linux) 7.5.0 Fedora 41 Kernel: Depends on container host Compiler: gcc 14.2.1 20240912 (Red Hat 14.2.1-3) RHEL8 Kernel: Depends on container host Compiler: gcc 8.5.0 20210514 (Red Hat 8.5.0-22) RHEL9 Kernel: Depends on container host Compiler: gcc 11.5.0 20240719 (Red Hat 11.5.0-2) Ubuntu 20.04 Kernel: Depends on container host Compiler: gcc (Ubuntu 9.4.0-1ubuntu1~20.04.2) 9.4.0 Ubuntu 24.04 Kernel: Depends on container host Compiler: gcc (Ubuntu 13.3.0-6ubuntu2~24.04) 13.3.0 Ubuntu 22.04 Kernel: Depends on container host Compiler: gcc (Ubuntu 11.4.0-1ubuntu1~22.04) 11.4.0 Alpine Kernel: Depends on container host Compiler: gcc (Alpine 14.2.0) 14.2.0 FreeBSD 13.4 Kernel: 13.4-RELEASE-p1 Compiler: clang 18.1.6 FreeBSD 14.2 Kernel: 14.2-RELEASE Compiler: clang 18.1.6 Windows Server 2022 Kernel: 10.0.20348.2031 Compiler: clang 15.0.7, gcc 14.1.0 (MinGW), and MSVC VS 19.39.33521 To view detailed results, visit: https://lab.dpdk.org/results/dashboard/patchsets/32552/ UNH-IOL DPDK Community Lab To manage your email subscriptions, visit: https://lab.dpdk.org/results/dashboard/preferences/subscriptions/ ^ permalink raw reply [flat|nested] 21+ messages in thread
* |SUCCESS| pw151283-151288 [PATCH] [v3,6/6] trace: fix undefined beha [not found] <20250210174424.3364021-7-david.marchand@redhat.com> ` (17 preceding siblings ...) 2025-02-10 20:08 ` dpdklab @ 2025-02-10 21:01 ` dpdklab 2025-02-10 21:34 ` |WARNING| " dpdklab 2025-02-10 23:14 ` |SUCCESS| " dpdklab 20 siblings, 0 replies; 21+ messages in thread From: dpdklab @ 2025-02-10 21:01 UTC (permalink / raw) To: Test Report; +Cc: dpdk-test-reports Test-Label: iol-unit-arm64-testing Test-Status: SUCCESS http://dpdk.org/patch/151288 _Testing PASS_ Submitter: David Marchand <david.marchand@redhat.com> Date: Monday, February 10 2025 17:44:22 DPDK git baseline: Repo:dpdk Branch: master CommitID:3553897d84d8b54a1b1136cbf04dd7f1a40fd85b 151283-151288 --> testing pass Upstream job id: Generic-Unit-Test-DPDK#313730 Test environment and result as below: +-----------------------------+----------------+--------------+---------------------------+------------------------------+ | Environment | dpdk_unit_test | lpm_autotest | cryptodev_sw_zuc_autotest | cryptodev_sw_snow3g_autotest | +=============================+================+==============+===========================+==============================+ | 32-bit Ubuntu 22.04.4 (ARM) | PASS | SKIPPED | SKIPPED | SKIPPED | +-----------------------------+----------------+--------------+---------------------------+------------------------------+ | CentOS Stream 9 (ARM) | PASS | SKIPPED | SKIPPED | SKIPPED | +-----------------------------+----------------+--------------+---------------------------+------------------------------+ | Debian 12 (arm) | PASS | SKIPPED | PASS | PASS | +-----------------------------+----------------+--------------+---------------------------+------------------------------+ | CentOS Stream 10 (ARM) | PASS | SKIPPED | SKIPPED | SKIPPED | +-----------------------------+----------------+--------------+---------------------------+------------------------------+ | Debian 11 (Buster) (ARM) | PASS | SKIPPED | SKIPPED | SKIPPED | +-----------------------------+----------------+--------------+---------------------------+------------------------------+ | Fedora 41 (ARM Clang) | PASS | SKIPPED | SKIPPED | SKIPPED | +-----------------------------+----------------+--------------+---------------------------+------------------------------+ | Fedora 40 (ARM Clang) | PASS | SKIPPED | SKIPPED | SKIPPED | +-----------------------------+----------------+--------------+---------------------------+------------------------------+ | Fedora 40 (ARM) | PASS | SKIPPED | SKIPPED | SKIPPED | +-----------------------------+----------------+--------------+---------------------------+------------------------------+ | RHEL9 (ARM) | PASS | SKIPPED | SKIPPED | SKIPPED | +-----------------------------+----------------+--------------+---------------------------+------------------------------+ | Ubuntu 24.04 (ARM) | PASS | SKIPPED | SKIPPED | SKIPPED | +-----------------------------+----------------+--------------+---------------------------+------------------------------+ | Ubuntu 20.04 (ARM) | PASS | SKIPPED | SKIPPED | SKIPPED | +-----------------------------+----------------+--------------+---------------------------+------------------------------+ | Fedora 41 (ARM) | PASS | SKIPPED | SKIPPED | SKIPPED | +-----------------------------+----------------+--------------+---------------------------+------------------------------+ | Ubuntu 22.04 (ARM) | PASS | SKIPPED | SKIPPED | SKIPPED | +-----------------------------+----------------+--------------+---------------------------+------------------------------+ | Ubuntu 20.04 ARM SVE | SKIPPED | PASS | SKIPPED | SKIPPED | +-----------------------------+----------------+--------------+---------------------------+------------------------------+ 32-bit Ubuntu 22.04.4 (ARM) Kernel: 5.15.83+ aarch64 Compiler: gcc (Ubuntu 11.4.0-1ubuntu1~22.04) 11.4.0 CentOS Stream 9 (ARM) Kernel: Depends on container host Compiler: gcc 11.5.0 20240719 (Red Hat 11.5.0-2) Debian 12 (arm) Kernel: Depends on container host Compiler: gcc (Debian 12.2.0-14) 12.2.0 CentOS Stream 10 (ARM) Kernel: Depends on container host Compiler: gcc 14.2.1 20241104 (Red Hat 14.2.1-6) Debian 11 (Buster) (ARM) Kernel: Depends on container host Compiler: gcc (Debian 10.2.1-6) 10.2.1 20210110 Fedora 41 (ARM Clang) Kernel: Depends on container host Compiler: clang 19.1.5 (Fedora 19.1.5-1.fc41) Fedora 40 (ARM Clang) Kernel: Depends on container host Compiler: clang 18.1.8 (Fedora 18.1.8-1.fc40) Fedora 40 (ARM) Kernel: Depends on container host Compiler: gcc 14.2.1 20240912 (Red Hat 14.2.1-3) RHEL9 (ARM) Kernel: Depends on container host Compiler: gcc 11.5.0 20240719 (Red Hat 11.5.0-2) Ubuntu 24.04 (ARM) Kernel: Depends on container host Compiler: gcc (Ubuntu 13.3.0-6ubuntu2~24.04) 13.3.0 Ubuntu 20.04 (ARM) Kernel: Depends on container host Compiler: gcc (Ubuntu 9.4.0-1ubuntu1~20.04.2) 9.4.0 Fedora 41 (ARM) Kernel: Depends on container host Compiler: gcc 14.2.1 20240912 (Red Hat 14.2.1-3) Ubuntu 22.04 (ARM) Kernel: Depends on container host Compiler: gcc (Ubuntu 11.4.0-1ubuntu1~22.04) 11.4.0 Ubuntu 20.04 ARM SVE Kernel: Depends on container host Compiler: gcc (Ubuntu 10.5.0-1ubuntu1~20.04) 10.5.0 To view detailed results, visit: https://lab.dpdk.org/results/dashboard/patchsets/32552/ UNH-IOL DPDK Community Lab To manage your email subscriptions, visit: https://lab.dpdk.org/results/dashboard/preferences/subscriptions/ ^ permalink raw reply [flat|nested] 21+ messages in thread
* |WARNING| pw151283-151288 [PATCH] [v3,6/6] trace: fix undefined beha [not found] <20250210174424.3364021-7-david.marchand@redhat.com> ` (18 preceding siblings ...) 2025-02-10 21:01 ` dpdklab @ 2025-02-10 21:34 ` dpdklab 2025-02-10 23:14 ` |SUCCESS| " dpdklab 20 siblings, 0 replies; 21+ messages in thread From: dpdklab @ 2025-02-10 21:34 UTC (permalink / raw) To: Test Report; +Cc: dpdk-test-reports Test-Label: iol-sample-apps-testing Test-Status: WARNING http://dpdk.org/patch/151288 _Testing issues_ Submitter: David Marchand <david.marchand@redhat.com> Date: Monday, February 10 2025 17:44:22 DPDK git baseline: Repo:dpdk Branch: master CommitID:3553897d84d8b54a1b1136cbf04dd7f1a40fd85b 151283-151288 --> testing issues Upstream job id: ACVP-FIPS-testing#8865 Test environment and result as below: +--------------------+----------------------+----------------------+ | Environment | dpdk_fips_validation | compressdev_zlib_pmd | +====================+======================+======================+ | Ubuntu 20.04 | WARN | SKIPPED | +--------------------+----------------------+----------------------+ | Ubuntu 22.04 (ARM) | SKIPPED | PASS | +--------------------+----------------------+----------------------+ | Ubuntu 22.04 | SKIPPED | PASS | +--------------------+----------------------+----------------------+ ==== 20 line log output for Ubuntu 20.04 (dpdk_fips_validation): ==== INFO:root:Vector set verdict not ready, waiting 30 seconds... INFO:root:Vector set verdict not ready, waiting 30 seconds... INFO:root:Vector set verdict not ready, waiting 30 seconds... INFO:root:Vector set verdict not ready, waiting 30 seconds... INFO:root:Vector set verdict not ready, waiting 30 seconds... INFO:root:Vector set verdict not ready, waiting 30 seconds... INFO:root:Vector set verdict not ready, waiting 30 seconds... INFO:root:Vector set verdict not ready, waiting 30 seconds... INFO:root:Vector set verdict not ready, waiting 30 seconds... INFO:root:Vector set verdict not ready, waiting 30 seconds... INFO:root:Vector set verdict not ready, waiting 30 seconds... INFO:root:Vector set verdict not ready, waiting 30 seconds... INFO:root:Vector set verdict not ready, waiting 30 seconds... INFO:root:Vector set verdict not ready, waiting 30 seconds... INFO:root:Vector set verdict not ready, waiting 30 seconds... INFO:root:Vector set verdict not ready, waiting 30 seconds... INFO:root:Vector set verdict not ready, waiting 30 seconds... ERROR:root:Maximum number of jwt renewals has been reached. ERROR:root:Failed to renew jwt ERROR:root:Could not successfully fetch verdict file. ==== End log output ==== Ubuntu 20.04 Kernel: Depends on container host Compiler: gcc (Ubuntu 9.4.0-1ubuntu1~20.04.2) 9.4.0 Ubuntu 22.04 (ARM) Kernel: 5.15.0-97-generic Compiler: gcc gcc (Ubuntu 11.4.0-1ubuntu1~22.04) 11.4.0 Ubuntu 22.04 Kernel: 5.15.0-100-generic Compiler: gcc gcc (Ubuntu 11.4.0-1ubuntu1~22.04) 11.4.0 To view detailed results, visit: https://lab.dpdk.org/results/dashboard/patchsets/32552/ UNH-IOL DPDK Community Lab To manage your email subscriptions, visit: https://lab.dpdk.org/results/dashboard/preferences/subscriptions/ ^ permalink raw reply [flat|nested] 21+ messages in thread
* |SUCCESS| pw151283-151288 [PATCH] [v3,6/6] trace: fix undefined beha [not found] <20250210174424.3364021-7-david.marchand@redhat.com> ` (19 preceding siblings ...) 2025-02-10 21:34 ` |WARNING| " dpdklab @ 2025-02-10 23:14 ` dpdklab 20 siblings, 0 replies; 21+ messages in thread From: dpdklab @ 2025-02-10 23:14 UTC (permalink / raw) To: Test Report; +Cc: dpdk-test-reports Test-Label: iol-compile-arm64-testing Test-Status: SUCCESS http://dpdk.org/patch/151288 _Testing PASS_ Submitter: David Marchand <david.marchand@redhat.com> Date: Monday, February 10 2025 17:44:22 DPDK git baseline: Repo:dpdk Branch: master CommitID:3553897d84d8b54a1b1136cbf04dd7f1a40fd85b 151283-151288 --> testing pass Upstream job id: Generic-DPDK-Compile-Meson#360217 Test environment and result as below: +----------------------------------------+--------------------+ | Environment | dpdk_meson_compile | +========================================+====================+ | RHEL9 (ARM) | PASS | +----------------------------------------+--------------------+ | Ubuntu 20.04 ARM GCC Cross Compile | PASS | +----------------------------------------+--------------------+ | Ubuntu 20.04 ARM SVE | PASS | +----------------------------------------+--------------------+ | Fedora 40 (ARM) | PASS | +----------------------------------------+--------------------+ | Debian 12 with MUSDK | PASS | +----------------------------------------+--------------------+ | Fedora 40 (ARM Clang) | PASS | +----------------------------------------+--------------------+ | Fedora 41 (ARM) | PASS | +----------------------------------------+--------------------+ | Fedora 41 (ARM Clang) | PASS | +----------------------------------------+--------------------+ | Ubuntu 20.04 (ARM) | PASS | +----------------------------------------+--------------------+ | Ubuntu 22.04 (ARM) | PASS | +----------------------------------------+--------------------+ | Ubuntu 24.04 (ARM) | PASS | +----------------------------------------+--------------------+ | Ubuntu 20.04 aarch32 GCC Cross Compile | PASS | +----------------------------------------+--------------------+ | Debian 12 (arm) | PASS | +----------------------------------------+--------------------+ | Ubuntu 20.04 ARM Clang Cross Compile | PASS | +----------------------------------------+--------------------+ | CentOS Stream 9 (ARM) | PASS | +----------------------------------------+--------------------+ | Debian 11 (Buster) (ARM) | PASS | +----------------------------------------+--------------------+ | CentOS Stream 10 (ARM) | PASS | +----------------------------------------+--------------------+ RHEL9 (ARM) Kernel: Depends on container host Compiler: gcc 11.5.0 20240719 (Red Hat 11.5.0-2) Ubuntu 20.04 ARM GCC Cross Compile Kernel: Depends on container host Compiler: aarch64-linux-gnu-gcc (Ubuntu 9.4.0-1ubuntu1~20.04.2) 9.4.0 Ubuntu 20.04 ARM SVE Kernel: Depends on container host Compiler: gcc (Ubuntu 10.5.0-1ubuntu1~20.04) 10.5.0 Fedora 40 (ARM) Kernel: Depends on container host Compiler: gcc 14.2.1 20240912 (Red Hat 14.2.1-3) Debian 12 with MUSDK Kernel: Depends on container host Compiler: gcc (Debian 12.2.0-14) 12.2.0 Fedora 40 (ARM Clang) Kernel: Depends on container host Compiler: clang 18.1.8 (Fedora 18.1.8-1.fc40) Fedora 41 (ARM) Kernel: Depends on container host Compiler: gcc 14.2.1 20240912 (Red Hat 14.2.1-3) Fedora 41 (ARM Clang) Kernel: Depends on container host Compiler: clang 19.1.5 (Fedora 19.1.5-1.fc41) Ubuntu 20.04 (ARM) Kernel: Depends on container host Compiler: gcc (Ubuntu 9.4.0-1ubuntu1~20.04.2) 9.4.0 Ubuntu 22.04 (ARM) Kernel: Depends on container host Compiler: gcc (Ubuntu 11.4.0-1ubuntu1~22.04) 11.4.0 Ubuntu 24.04 (ARM) Kernel: Depends on container host Compiler: gcc (Ubuntu 13.3.0-6ubuntu2~24.04) 13.3.0 Ubuntu 20.04 aarch32 GCC Cross Compile Kernel: Depends on container host Compiler: gcc 9.4.0 Debian 12 (arm) Kernel: Depends on container host Compiler: gcc (Debian 12.2.0-14) 12.2.0 Ubuntu 20.04 ARM Clang Cross Compile Kernel: Depends on container host Compiler: clang 10.0.0-4ubuntu1 CentOS Stream 9 (ARM) Kernel: Depends on container host Compiler: gcc 11.5.0 20240719 (Red Hat 11.5.0-2) Debian 11 (Buster) (ARM) Kernel: Depends on container host Compiler: gcc (Debian 10.2.1-6) 10.2.1 20210110 CentOS Stream 10 (ARM) Kernel: Depends on container host Compiler: gcc 14.2.1 20241104 (Red Hat 14.2.1-6) To view detailed results, visit: https://lab.dpdk.org/results/dashboard/patchsets/32552/ UNH-IOL DPDK Community Lab To manage your email subscriptions, visit: https://lab.dpdk.org/results/dashboard/preferences/subscriptions/ ^ permalink raw reply [flat|nested] 21+ messages in thread
end of thread, other threads:[~2025-02-10 23:14 UTC | newest] Thread overview: 21+ messages (download: mbox.gz / follow: Atom feed) -- links below jump to the message on this page -- [not found] <20250210174424.3364021-7-david.marchand@redhat.com> 2025-02-10 17:15 ` |SUCCESS| pw151283-151288 [PATCH v3 6/6] trace: fix undefined behavior in register qemudev 2025-02-10 17:19 ` qemudev 2025-02-10 17:44 ` |WARNING| pw151288 " checkpatch 2025-02-10 18:33 ` |PENDING| pw151283-151288 [PATCH] [v3,6/6] trace: fix undefined beha dpdklab 2025-02-10 18:36 ` dpdklab 2025-02-10 18:41 ` |SUCCESS| " dpdklab 2025-02-10 18:41 ` |PENDING| " dpdklab 2025-02-10 18:43 ` dpdklab 2025-02-10 18:49 ` |SUCCESS| " dpdklab 2025-02-10 18:51 ` |PENDING| " dpdklab 2025-02-10 18:53 ` |SUCCESS| " dpdklab 2025-02-10 19:05 ` |SUCCESS| pw151288 [PATCH v3 6/6] trace: fix undefined behavior in register 0-day Robot 2025-02-10 19:15 ` |SUCCESS| pw151283-151288 [PATCH] [v3,6/6] trace: fix undefined beha dpdklab 2025-02-10 19:35 ` dpdklab 2025-02-10 19:48 ` dpdklab 2025-02-10 19:51 ` dpdklab 2025-02-10 20:06 ` dpdklab 2025-02-10 20:08 ` dpdklab 2025-02-10 21:01 ` dpdklab 2025-02-10 21:34 ` |WARNING| " dpdklab 2025-02-10 23:14 ` |SUCCESS| " dpdklab
This is a public inbox, see mirroring instructions for how to clone and mirror all data and code used for this inbox; as well as URLs for NNTP newsgroup(s).