From mboxrd@z Thu Jan 1 00:00:00 1970 Return-Path: Received: from mails.dpdk.org (mails.dpdk.org [217.70.189.124]) by inbox.dpdk.org (Postfix) with ESMTP id DD7D7461EE for ; Mon, 10 Feb 2025 23:01:12 +0100 (CET) Received: from mails.dpdk.org (localhost [127.0.0.1]) by mails.dpdk.org (Postfix) with ESMTP id D34F6402AB; Mon, 10 Feb 2025 23:01:12 +0100 (CET) Received: from mail-ot1-f100.google.com (mail-ot1-f100.google.com [209.85.210.100]) by mails.dpdk.org (Postfix) with ESMTP id 1950A40156 for ; Mon, 10 Feb 2025 23:01:12 +0100 (CET) Received: by mail-ot1-f100.google.com with SMTP id 46e09a7af769-71e22b2387cso3877460a34.3 for ; Mon, 10 Feb 2025 14:01:12 -0800 (PST) DKIM-Signature: v=1; a=rsa-sha256; c=relaxed/relaxed; d=iol.unh.edu; s=unh-iol; t=1739224871; x=1739829671; darn=dpdk.org; h=references:in-reply-to:cc:to:from:subject:message-id:date:from:to :cc:subject:date:message-id:reply-to; bh=Xm0Vne2z/jHTzXmzN5U+ZwaMIaEP0Ex78AHdRs7CK2g=; b=N2HZA8PhKk5RElDGXD06KGzP9+PIZNpX5NTvg6AV7Q0Gk2Ls4nuaaXSvlWw2OHgcoe nUoX5lruXHmdFyi3G58CNQRXQFuq26ba5WkfcypzMK/bViglYf9QFrIF4mQ2eoIRG0pA 4vXjgLVc968JJ/JG/rsoKvS7tUte7ffRQ03Ro= X-Google-DKIM-Signature: v=1; a=rsa-sha256; c=relaxed/relaxed; d=1e100.net; s=20230601; t=1739224871; x=1739829671; h=references:in-reply-to:cc:to:from:subject:message-id:date :x-gm-message-state:from:to:cc:subject:date:message-id:reply-to; bh=Xm0Vne2z/jHTzXmzN5U+ZwaMIaEP0Ex78AHdRs7CK2g=; b=gR5q9xBBVw+LQAp0jJgSOlaknGiIgxDtfhp5tbjovovwg5dG9qgxq40sZldx5hymIF b38q0vQYZ41sehuyNnZt5axVmISn+7NzlxE+V7Zdfi7etUxThnPm6TQ3Y7ly11o3saMe dKqYjYaLvoQ/2F92N3OgtfJ0PBmH0arghBy7b4RYpmRnJ2pM+oA6kVMAc3pw/QpdySO4 UCb82NsiKOyb303tsaGbgiVMqGhLSNHL/g8MB+BM08kJ/ah3gCtrT/l0fFyQAlb9YM6u NnMxWw7r4RSLWXXzL63n+4YAw/WTXSS7YL8vPtC8PcULYkeH2iOKeeHBnzPKY6g9RDZX 1Y+A== X-Gm-Message-State: AOJu0Yyp5iCh7h6nxsbYWnXu1TOGSEydiBa5Ikg3Sp+Xl7dWPq2c8rY6 U71oJ0jHUZXvgG2i6S3NEdq8C4ozmFtqJ+BT/96NN8EUezKwz59XzCMhoRGK85Z6/61NmwMpqIP Fq96l12AqBDYJAeOsqTtoUGN+Njw6HvWpY4EBFFhhd/caEHM1yIwwf4Js X-Gm-Gg: ASbGncti3RqjVQoAC9spwbVHvXLn2yEo7RRbp9f9PeKS2XMauqfdVUEFroAXOvB5z2m 5x/c8H6CBQwOFb6QFZLsUuxQGNhl3TqH31TdrP7Ue0VHGGgCD9yEGtnQWwxgEbyw6JHb5sFmJV7 0wp+2uqNCUzJ44yHLiMFlt+WBZpcv1o7EHAYiuoWFsy45enFTvVgjfabI49uEQIKexg1ffYyRX/ 8T2FWX2Ye+8qk3W97n1XCOqL66rJhxG8L7eU2SRpEig88oNBlGJSMoJfZr5I9mnS2P0EWAzGn5a bG+W8z4nL2lbrePaiZnIboludr5WbMLD9K3jLZmNig== X-Google-Smtp-Source: AGHT+IFAeybtCL0U1xTO2Sis5eatI5U9A+0NlMNGlifSJeAiXFrTK4sMUuQnee2dzeNz4YwB/ntDZLC6lQOK X-Received: by 2002:a05:6830:7002:b0:726:e811:b49b with SMTP id 46e09a7af769-726e811b5e6mr709978a34.7.1739224871116; Mon, 10 Feb 2025 14:01:11 -0800 (PST) Received: from postal.iol.unh.edu (postal.iol.unh.edu. [2606:4100:3880:1234::84]) by smtp-relay.gmail.com with ESMTPS id 006d021491bc7-5fc731485ccsm98451eaf.21.2025.02.10.14.01.11 (version=TLS1_2 cipher=ECDHE-ECDSA-AES128-GCM-SHA256 bits=128/128); Mon, 10 Feb 2025 14:01:11 -0800 (PST) X-Relaying-Domain: iol.unh.edu Date: Mon, 10 Feb 2025 14:01:11 -0800 (PST) Message-ID: <67aa7727.4a0a0220.8ff72.54c1SMTPIN_ADDED_MISSING@mx.google.com> Received: from [172.21.0.6] (unknown [172.18.0.240]) by postal.iol.unh.edu (Postfix) with ESMTP id 8CBB86052471; Mon, 10 Feb 2025 17:01:10 -0500 (EST) Subject: |SUCCESS| pw151282 [PATCH] [RFC] git: consolidate .gitignore files From: dpdklab@iol.unh.edu To: Test Report Cc: dpdk-test-reports@iol.unh.edu In-Reply-To: <20250210172050.8884-1-stephen@networkplumber.org> References: <20250210172050.8884-1-stephen@networkplumber.org> Content-Type: text/plain X-BeenThere: test-report@dpdk.org X-Mailman-Version: 2.1.29 Precedence: list List-Id: automatic DPDK test reports List-Unsubscribe: , List-Archive: List-Post: List-Help: List-Subscribe: , Errors-To: test-report-bounces@dpdk.org Test-Label: iol-compile-amd64-testing Test-Status: SUCCESS http://dpdk.org/patch/151282 _Testing PASS_ Submitter: Stephen Hemminger Date: Monday, February 10 2025 17:20:49 DPDK git baseline: Repo:dpdk Branch: master CommitID:1f4fbb0ae68aeee517d491143bcd653ed527508f 151282 --> testing pass Upstream job id: Generic-DPDK-Compile-Meson#360238 Test environment and result as below: +---------------------+--------------------+-------------------+------------------+-------------------+-------------------------+ | Environment | dpdk_meson_compile | dpdk_compile_spdk | dpdk_compile_ovs | dpdk_msvc_compile | dpdk_llvm_clang_compile | +=====================+====================+===================+==================+===================+=========================+ | CentOS Stream 10 | PASS | SKIPPED | SKIPPED | SKIPPED | SKIPPED | +---------------------+--------------------+-------------------+------------------+-------------------+-------------------------+ | CentOS Stream 9 | PASS | PASS | SKIPPED | SKIPPED | SKIPPED | +---------------------+--------------------+-------------------+------------------+-------------------+-------------------------+ | Debian 12 | PASS | PASS | SKIPPED | SKIPPED | SKIPPED | +---------------------+--------------------+-------------------+------------------+-------------------+-------------------------+ | Debian Bullseye | PASS | PASS | SKIPPED | SKIPPED | SKIPPED | +---------------------+--------------------+-------------------+------------------+-------------------+-------------------------+ | Fedora 40 (Clang) | PASS | PASS | SKIPPED | SKIPPED | SKIPPED | +---------------------+--------------------+-------------------+------------------+-------------------+-------------------------+ | Fedora 40 | PASS | PASS | SKIPPED | SKIPPED | SKIPPED | +---------------------+--------------------+-------------------+------------------+-------------------+-------------------------+ | Fedora 41 (Clang) | PASS | PASS | PASS | SKIPPED | SKIPPED | +---------------------+--------------------+-------------------+------------------+-------------------+-------------------------+ | Fedora 41 | PASS | PASS | PASS | SKIPPED | SKIPPED | +---------------------+--------------------+-------------------+------------------+-------------------+-------------------------+ | openSUSE Leap 15 | PASS | SKIPPED | SKIPPED | SKIPPED | SKIPPED | +---------------------+--------------------+-------------------+------------------+-------------------+-------------------------+ | RHEL8 | PASS | SKIPPED | SKIPPED | SKIPPED | SKIPPED | +---------------------+--------------------+-------------------+------------------+-------------------+-------------------------+ | RHEL9 | PASS | SKIPPED | SKIPPED | SKIPPED | SKIPPED | +---------------------+--------------------+-------------------+------------------+-------------------+-------------------------+ | Ubuntu 20.04 | PASS | SKIPPED | SKIPPED | SKIPPED | SKIPPED | +---------------------+--------------------+-------------------+------------------+-------------------+-------------------------+ | Ubuntu 22.04 | PASS | PASS | SKIPPED | SKIPPED | SKIPPED | +---------------------+--------------------+-------------------+------------------+-------------------+-------------------------+ | Ubuntu 24.04 | PASS | PASS | PASS | SKIPPED | SKIPPED | +---------------------+--------------------+-------------------+------------------+-------------------+-------------------------+ | FreeBSD 13.4 | PASS | SKIPPED | SKIPPED | SKIPPED | SKIPPED | +---------------------+--------------------+-------------------+------------------+-------------------+-------------------------+ | FreeBSD 14.2 | PASS | SKIPPED | SKIPPED | SKIPPED | SKIPPED | +---------------------+--------------------+-------------------+------------------+-------------------+-------------------------+ | Alpine | PASS | SKIPPED | SKIPPED | SKIPPED | SKIPPED | +---------------------+--------------------+-------------------+------------------+-------------------+-------------------------+ | Windows Server 2022 | SKIPPED | SKIPPED | SKIPPED | PASS | PASS | +---------------------+--------------------+-------------------+------------------+-------------------+-------------------------+ CentOS Stream 10 Kernel: Depends on container host Compiler: gcc 14.2.1 20241104 (Red Hat 14.2.1-6) CentOS Stream 9 Kernel: Depends on container host Compiler: gcc 11.5.0 20240719 (Red Hat 11.5.0-2) Debian 12 Kernel: Depends on container host Compiler: gcc (Debian 12.2.0-14) 12.2.0 Debian Bullseye Kernel: Depends on container host Compiler: gcc (Debian 10.2.1-6) 10.2.1 20210110 Fedora 40 (Clang) Kernel: Depends on container host Compiler: clang 18.1.8 (Fedora 18.1.8-1.fc40) Fedora 40 Kernel: Depends on container host Compiler: gcc 14.2.1 20240912 (Red Hat 14.2.1-3) Fedora 41 (Clang) Kernel: Depends on container host Compiler: clang 19.1.5 (Fedora 19.1.5-1.fc41) Fedora 41 Kernel: Depends on container host Compiler: gcc 14.2.1 20240912 (Red Hat 14.2.1-3) openSUSE Leap 15 Kernel: Depends on container host Compiler: gcc (SUSE Linux) 7.5.0 RHEL8 Kernel: Depends on container host Compiler: gcc 8.5.0 20210514 (Red Hat 8.5.0-22) RHEL9 Kernel: Depends on container host Compiler: gcc 11.5.0 20240719 (Red Hat 11.5.0-2) Ubuntu 20.04 Kernel: Depends on container host Compiler: gcc (Ubuntu 9.4.0-1ubuntu1~20.04.2) 9.4.0 Ubuntu 22.04 Kernel: Depends on container host Compiler: gcc (Ubuntu 11.4.0-1ubuntu1~22.04) 11.4.0 Ubuntu 24.04 Kernel: Depends on container host Compiler: gcc (Ubuntu 13.3.0-6ubuntu2~24.04) 13.3.0 FreeBSD 13.4 Kernel: 13.4-RELEASE-p1 Compiler: clang 18.1.6 FreeBSD 14.2 Kernel: 14.2-RELEASE Compiler: clang 18.1.6 Alpine Kernel: Depends on container host Compiler: gcc (Alpine 14.2.0) 14.2.0 Windows Server 2022 Kernel: 10.0.20348.2031 Compiler: clang 15.0.7, gcc 14.1.0 (MinGW), and MSVC VS 19.39.33521 To view detailed results, visit: https://lab.dpdk.org/results/dashboard/patchsets/32551/ UNH-IOL DPDK Community Lab To manage your email subscriptions, visit: https://lab.dpdk.org/results/dashboard/preferences/subscriptions/