From mboxrd@z Thu Jan 1 00:00:00 1970 Return-Path: Received: from mails.dpdk.org (mails.dpdk.org [217.70.189.124]) by inbox.dpdk.org (Postfix) with ESMTP id 279CE461EE for ; Mon, 10 Feb 2025 23:25:21 +0100 (CET) Received: from mails.dpdk.org (localhost [127.0.0.1]) by mails.dpdk.org (Postfix) with ESMTP id 23F93402AB; Mon, 10 Feb 2025 23:25:21 +0100 (CET) Received: from mail-qv1-f98.google.com (mail-qv1-f98.google.com [209.85.219.98]) by mails.dpdk.org (Postfix) with ESMTP id 59F7340156 for ; Mon, 10 Feb 2025 23:25:20 +0100 (CET) Received: by mail-qv1-f98.google.com with SMTP id 6a1803df08f44-6e4565be0e0so24901876d6.3 for ; Mon, 10 Feb 2025 14:25:20 -0800 (PST) DKIM-Signature: v=1; a=rsa-sha256; c=relaxed/relaxed; d=iol.unh.edu; s=unh-iol; t=1739226320; x=1739831120; darn=dpdk.org; h=references:in-reply-to:cc:to:from:subject:message-id:date:from:to :cc:subject:date:message-id:reply-to; bh=ehcn0L+VXCCPJe+n1Jily95IOZ++UYhpmRlmAmWEC60=; b=iKG1R8lhoYxWc/K9sYGsgsWzM4dBudbaZ493GqxSKnASnaJVeIr/SxJ7+Dw+Z4BQQL 5T8S2NxRzQcRlLgQfa7Mdlx0BAEA1tJTLIxYANmdZmXfdEXmeC3eo/OMRi04kJ+IQPEM yyQd3vPFj4bD9sPRFGxAQrlJzLwlWAnUQsA48= X-Google-DKIM-Signature: v=1; a=rsa-sha256; c=relaxed/relaxed; d=1e100.net; s=20230601; t=1739226320; x=1739831120; h=references:in-reply-to:cc:to:from:subject:message-id:date :x-gm-message-state:from:to:cc:subject:date:message-id:reply-to; bh=ehcn0L+VXCCPJe+n1Jily95IOZ++UYhpmRlmAmWEC60=; b=j9yMdzWgYLIZjoUkv8+RSXjx8mhuoBRmDIbnpeXslKfs9Myr79nNkucJ9b+vP2DrfT Pq1577Nt9yc5GVuocSLZcBisQS/rFOHihzIlFkhsuEQFXdzbjYPKe82fatgbWCzsDCvF GUyJdOsnrWjhtZpa0WERJMlosFsCKqw9KJTdymy9BOhl3Bs2O+48QPR/o8BR2GvGK9Vo mzjQ1BaOb96V6xC/IyF8/dEYHdv0Sewh3ORcqnGH7pAmqgZdNEtq0a8/cvuYHWOkfxbM D/ODOzzh3qdXplD0y0+lkyYguH8EkASR2aXrNwSotJiPEr2dY6WJh4YqnGEhk1ltY0Ku VZDQ== X-Gm-Message-State: AOJu0Yxl3CvthNZI3ofdkcxD+1IqFR/WkVVS80/2myxun3xgcj2aR3A+ 8XZz246HFBHgVSMHiuHhfEROfhVMlkL/xx7m4mngaNmURpaRWbppWNAd7mEg7M07tdEKIvmOBCL nzjWFfKkPuhgiYNhXlu0j1v85a/TO5k8M6mbCCyjeOqRhGwSdT8VwvVZM X-Gm-Gg: ASbGncvNwANZSo7hYektyhVjpY0kDqVu+8k4re9DOWt+VgIEaDK0J3F7rnlt/neQdjs lriso150pyMa0ZTgkClTT5sbcTO5C4xWup7DgGiMwNM8tgN0O67hZqMZ/u2mq/5p5q3gNP9l7a+ OonmOOqmoQxuxzKY9+vUdxHlQjo2+3CV0/yZO9WxxuyqumT0Nfo5ivFe1nY92W69Ir0Umq5v85q U/sOEAjTQkFKhdDbManYpgVOii4qqv5rkl2bv/OSFXDhlWoSsMc4WZGPDQTf951EhDzGLt8ADVA eOxaUTLTID/Ae4E9FQGTu67UYOuIDhms2ReGQeBvAA== X-Google-Smtp-Source: AGHT+IGfVS2fAYCeqYaX34u5Q8vMbVMECMmz7An2wz8Af5FXjQpPK0dl4RIaGWkt5uR9Amx3SPGyEwnQ26PU X-Received: by 2002:a05:6214:2621:b0:6e1:6bdf:ed1c with SMTP id 6a1803df08f44-6e4455fdb46mr240656606d6.14.1739226319750; Mon, 10 Feb 2025 14:25:19 -0800 (PST) Received: from postal.iol.unh.edu (postal.iol.unh.edu. [2606:4100:3880:1234::84]) by smtp-relay.gmail.com with ESMTPS id 6a1803df08f44-6e461238998sm1675866d6.11.2025.02.10.14.25.19 (version=TLS1_2 cipher=ECDHE-ECDSA-AES128-GCM-SHA256 bits=128/128); Mon, 10 Feb 2025 14:25:19 -0800 (PST) X-Relaying-Domain: iol.unh.edu Date: Mon, 10 Feb 2025 14:25:19 -0800 (PST) Message-ID: <67aa7ccf.050a0220.2cfcb.9787SMTPIN_ADDED_MISSING@mx.google.com> Received: from [172.21.0.5] (unknown [172.18.0.240]) by postal.iol.unh.edu (Postfix) with ESMTP id 6A1166052471; Mon, 10 Feb 2025 17:25:19 -0500 (EST) Subject: |SUCCESS| pw151282 [PATCH] [RFC] git: consolidate .gitignore files From: dpdklab@iol.unh.edu To: Test Report Cc: dpdk-test-reports@iol.unh.edu In-Reply-To: <20250210172050.8884-1-stephen@networkplumber.org> References: <20250210172050.8884-1-stephen@networkplumber.org> Content-Type: text/plain X-BeenThere: test-report@dpdk.org X-Mailman-Version: 2.1.29 Precedence: list List-Id: automatic DPDK test reports List-Unsubscribe: , List-Archive: List-Post: List-Help: List-Subscribe: , Errors-To: test-report-bounces@dpdk.org Test-Label: iol-unit-arm64-testing Test-Status: SUCCESS http://dpdk.org/patch/151282 _Testing PASS_ Submitter: Stephen Hemminger Date: Monday, February 10 2025 17:20:49 DPDK git baseline: Repo:dpdk Branch: master CommitID:1f4fbb0ae68aeee517d491143bcd653ed527508f 151282 --> testing pass Upstream job id: Generic-Unit-Test-DPDK#313760 Test environment and result as below: +-----------------------------+----------------+--------------+------------------------------+---------------------------+ | Environment | dpdk_unit_test | lpm_autotest | cryptodev_sw_snow3g_autotest | cryptodev_sw_zuc_autotest | +=============================+================+==============+==============================+===========================+ | CentOS Stream 10 (ARM) | PASS | SKIPPED | SKIPPED | SKIPPED | +-----------------------------+----------------+--------------+------------------------------+---------------------------+ | CentOS Stream 9 (ARM) | PASS | SKIPPED | SKIPPED | SKIPPED | +-----------------------------+----------------+--------------+------------------------------+---------------------------+ | Debian 11 (Buster) (ARM) | PASS | SKIPPED | SKIPPED | SKIPPED | +-----------------------------+----------------+--------------+------------------------------+---------------------------+ | Debian 12 (arm) | PASS | SKIPPED | PASS | PASS | +-----------------------------+----------------+--------------+------------------------------+---------------------------+ | Fedora 40 (ARM) | PASS | SKIPPED | SKIPPED | SKIPPED | +-----------------------------+----------------+--------------+------------------------------+---------------------------+ | Fedora 40 (ARM Clang) | PASS | SKIPPED | SKIPPED | SKIPPED | +-----------------------------+----------------+--------------+------------------------------+---------------------------+ | Fedora 41 (ARM) | PASS | SKIPPED | SKIPPED | SKIPPED | +-----------------------------+----------------+--------------+------------------------------+---------------------------+ | RHEL9 (ARM) | PASS | SKIPPED | SKIPPED | SKIPPED | +-----------------------------+----------------+--------------+------------------------------+---------------------------+ | Fedora 41 (ARM Clang) | PASS | SKIPPED | SKIPPED | SKIPPED | +-----------------------------+----------------+--------------+------------------------------+---------------------------+ | 32-bit Ubuntu 22.04.4 (ARM) | PASS | SKIPPED | SKIPPED | SKIPPED | +-----------------------------+----------------+--------------+------------------------------+---------------------------+ | Ubuntu 20.04 (ARM) | PASS | SKIPPED | SKIPPED | SKIPPED | +-----------------------------+----------------+--------------+------------------------------+---------------------------+ | Ubuntu 24.04 (ARM) | PASS | SKIPPED | SKIPPED | SKIPPED | +-----------------------------+----------------+--------------+------------------------------+---------------------------+ | Ubuntu 22.04 (ARM) | PASS | SKIPPED | SKIPPED | SKIPPED | +-----------------------------+----------------+--------------+------------------------------+---------------------------+ | Ubuntu 20.04 ARM SVE | SKIPPED | PASS | SKIPPED | SKIPPED | +-----------------------------+----------------+--------------+------------------------------+---------------------------+ CentOS Stream 10 (ARM) Kernel: Depends on container host Compiler: gcc 14.2.1 20241104 (Red Hat 14.2.1-6) CentOS Stream 9 (ARM) Kernel: Depends on container host Compiler: gcc 11.5.0 20240719 (Red Hat 11.5.0-2) Debian 11 (Buster) (ARM) Kernel: Depends on container host Compiler: gcc (Debian 10.2.1-6) 10.2.1 20210110 Debian 12 (arm) Kernel: Depends on container host Compiler: gcc (Debian 12.2.0-14) 12.2.0 Fedora 40 (ARM) Kernel: Depends on container host Compiler: gcc 14.2.1 20240912 (Red Hat 14.2.1-3) Fedora 40 (ARM Clang) Kernel: Depends on container host Compiler: clang 18.1.8 (Fedora 18.1.8-1.fc40) Fedora 41 (ARM) Kernel: Depends on container host Compiler: gcc 14.2.1 20240912 (Red Hat 14.2.1-3) RHEL9 (ARM) Kernel: Depends on container host Compiler: gcc 11.5.0 20240719 (Red Hat 11.5.0-2) Fedora 41 (ARM Clang) Kernel: Depends on container host Compiler: clang 19.1.5 (Fedora 19.1.5-1.fc41) 32-bit Ubuntu 22.04.4 (ARM) Kernel: 5.15.83+ aarch64 Compiler: gcc (Ubuntu 11.4.0-1ubuntu1~22.04) 11.4.0 Ubuntu 20.04 (ARM) Kernel: Depends on container host Compiler: gcc (Ubuntu 9.4.0-1ubuntu1~20.04.2) 9.4.0 Ubuntu 24.04 (ARM) Kernel: Depends on container host Compiler: gcc (Ubuntu 13.3.0-6ubuntu2~24.04) 13.3.0 Ubuntu 22.04 (ARM) Kernel: Depends on container host Compiler: gcc (Ubuntu 11.4.0-1ubuntu1~22.04) 11.4.0 Ubuntu 20.04 ARM SVE Kernel: Depends on container host Compiler: gcc (Ubuntu 10.5.0-1ubuntu1~20.04) 10.5.0 To view detailed results, visit: https://lab.dpdk.org/results/dashboard/patchsets/32551/ UNH-IOL DPDK Community Lab To manage your email subscriptions, visit: https://lab.dpdk.org/results/dashboard/preferences/subscriptions/