From mboxrd@z Thu Jan 1 00:00:00 1970 Return-Path: Received: from mails.dpdk.org (mails.dpdk.org [217.70.189.124]) by inbox.dpdk.org (Postfix) with ESMTP id 325BA461EE for ; Mon, 10 Feb 2025 23:33:25 +0100 (CET) Received: from mails.dpdk.org (localhost [127.0.0.1]) by mails.dpdk.org (Postfix) with ESMTP id 0FC30402AB; Mon, 10 Feb 2025 23:33:25 +0100 (CET) Received: from mail-yb1-f228.google.com (mail-yb1-f228.google.com [209.85.219.228]) by mails.dpdk.org (Postfix) with ESMTP id 0992840156 for ; Mon, 10 Feb 2025 23:33:24 +0100 (CET) Received: by mail-yb1-f228.google.com with SMTP id 3f1490d57ef6-e46c6547266so3888705276.3 for ; Mon, 10 Feb 2025 14:33:23 -0800 (PST) DKIM-Signature: v=1; a=rsa-sha256; c=relaxed/relaxed; d=iol.unh.edu; s=unh-iol; t=1739226803; x=1739831603; darn=dpdk.org; h=references:in-reply-to:cc:to:from:subject:message-id:date:from:to :cc:subject:date:message-id:reply-to; bh=WA+XLnIFNo0QWGJD/Y0JZxN8Va+TsKa9ukGmKsykilk=; b=Akc7J+D+2eRUnJEavqbBi4lNFXJyd/v5a+PkdyIv7DXVZbPK5KG4Oq2FP7cu06vOWP diyJkmcKteDf5+9rPcVC+OrVabjYnEri1IvG2omtP7NAhMsxfzXsv83cY7RwhgdCtWLx DJMPbwgT+FJCD3gK2VIBl2lDwxdtUtmXSbRGg= X-Google-DKIM-Signature: v=1; a=rsa-sha256; c=relaxed/relaxed; d=1e100.net; s=20230601; t=1739226803; x=1739831603; h=references:in-reply-to:cc:to:from:subject:message-id:date :x-gm-message-state:from:to:cc:subject:date:message-id:reply-to; bh=WA+XLnIFNo0QWGJD/Y0JZxN8Va+TsKa9ukGmKsykilk=; b=LtJt1FytIOYSk4MzUdIM0iX6q3kihI/LysCDx8QE0nxoDoTa0rAx3rfL4xMv4994iw joWT5fU7eJv3KtIe/rA7E6MP1O4eWR+vDTM0ksE4/WBoZcf08Remd5nMvFzq2d2G6tPI aXNJmX8QqScoS/K9m1eB8oVP9ta0I+wYqzuFJspopOntvfPKzClC4LiEBjqmgotcfDCP 5RwybQkdLY9uecCpNUwvUK7PTQtZwBi5bk0X74z2VNWnyT3tCAexuppTpWqRrjGLSeyn i7XkuiaIuDxt5Msi9rfcDyASk2KljisrGfvx0GeHCNDmKFDCR7Fkh0ZT6p4pKXoDJqZG k2XA== X-Gm-Message-State: AOJu0YyfnN+Il2mToBtsQaXXnIAc2eXoZ9YPLR7szEdO3tsfcrhwPB0N /ptqxvc426XuZrVXc+TSlohqMN9pbadHO7KYORZABivvhLwEw/9qi/xkm8rffOPeQLsyO0mrJYF HQxtKEbkc9USC+jHYjEG+FbNf9uc859iHB0STJDS3 X-Gm-Gg: ASbGnctqVFSbhJ8PqyK4OWlhoqji1Pj1Zbi9itgELJGNRFXOSmMPUecpJJ3Z7HxI6Rl xzYEdmkUAWM0BhyDDN5YrChmDlwhPydC6E7rHsOAP2w+mv9TrBxMAvnsnAlr46jz/OBLizKJYUQ aYZFqhCSUMYP2cQWf2RB7suzPZVBYsmIDO3nma4IwNiXu/TENgWDpRk/FMI1XPebuXON7olHjYw lr8XW2jm+lnhWv0FnYwAg2s6dOw9aqfyqn01K0YQwtSSWVhmPRsMayZn2lRRtJNwP8fYAQuFGge rqtXSmLvg1rdBs0AD8FOSRrzvU8whQ== X-Google-Smtp-Source: AGHT+IE94DvQojAT2bSku/OjUMVFZRz5dklpjkAvm4Rsznub3Vi7TDX6bHprXFLF9EesuJt5faLTSmsoPYCA X-Received: by 2002:a05:6902:2746:b0:e58:a040:c931 with SMTP id 3f1490d57ef6-e5d93c7e50cmr1758956276.10.1739226803317; Mon, 10 Feb 2025 14:33:23 -0800 (PST) Received: from postal.iol.unh.edu (postal.iol.unh.edu. [132.177.123.84]) by smtp-relay.gmail.com with ESMTPS id 3f1490d57ef6-e5b3a471e36sm599995276.31.2025.02.10.14.33.23 (version=TLS1_2 cipher=ECDHE-ECDSA-AES128-GCM-SHA256 bits=128/128); Mon, 10 Feb 2025 14:33:23 -0800 (PST) X-Relaying-Domain: iol.unh.edu Date: Mon, 10 Feb 2025 14:33:23 -0800 (PST) Message-ID: <67aa7eb3.250a0220.c22c.fe8eSMTPIN_ADDED_MISSING@mx.google.com> Received: from [172.21.0.6] (unknown [172.18.0.240]) by postal.iol.unh.edu (Postfix) with ESMTP id D2C376052471; Mon, 10 Feb 2025 17:33:22 -0500 (EST) Subject: |SUCCESS| pw151282 [PATCH] [RFC] git: consolidate .gitignore files From: dpdklab@iol.unh.edu To: Test Report Cc: dpdk-test-reports@iol.unh.edu In-Reply-To: <20250210172050.8884-1-stephen@networkplumber.org> References: <20250210172050.8884-1-stephen@networkplumber.org> Content-Type: text/plain X-BeenThere: test-report@dpdk.org X-Mailman-Version: 2.1.29 Precedence: list List-Id: automatic DPDK test reports List-Unsubscribe: , List-Archive: List-Post: List-Help: List-Subscribe: , Errors-To: test-report-bounces@dpdk.org Test-Label: iol-compile-amd64-testing Test-Status: SUCCESS http://dpdk.org/patch/151282 _Testing PASS_ Submitter: Stephen Hemminger Date: Monday, February 10 2025 17:20:49 DPDK git baseline: Repo:dpdk Branch: master CommitID:1f4fbb0ae68aeee517d491143bcd653ed527508f 151282 --> testing pass Upstream job id: Windows-Compile-DPDK-Native#26597 Test environment and result as below: +---------------------+--------------------+-------------------+------------------+-------------------+-------------------------+----------------------+ | Environment | dpdk_meson_compile | dpdk_compile_spdk | dpdk_compile_ovs | dpdk_msvc_compile | dpdk_llvm_clang_compile | dpdk_mingw64_compile | +=====================+====================+===================+==================+===================+=========================+======================+ | CentOS Stream 10 | PASS | SKIPPED | SKIPPED | SKIPPED | SKIPPED | SKIPPED | +---------------------+--------------------+-------------------+------------------+-------------------+-------------------------+----------------------+ | CentOS Stream 9 | PASS | PASS | SKIPPED | SKIPPED | SKIPPED | SKIPPED | +---------------------+--------------------+-------------------+------------------+-------------------+-------------------------+----------------------+ | Debian 12 | PASS | PASS | SKIPPED | SKIPPED | SKIPPED | SKIPPED | +---------------------+--------------------+-------------------+------------------+-------------------+-------------------------+----------------------+ | Debian Bullseye | PASS | PASS | SKIPPED | SKIPPED | SKIPPED | SKIPPED | +---------------------+--------------------+-------------------+------------------+-------------------+-------------------------+----------------------+ | Fedora 40 (Clang) | PASS | PASS | SKIPPED | SKIPPED | SKIPPED | SKIPPED | +---------------------+--------------------+-------------------+------------------+-------------------+-------------------------+----------------------+ | Fedora 40 | PASS | PASS | SKIPPED | SKIPPED | SKIPPED | SKIPPED | +---------------------+--------------------+-------------------+------------------+-------------------+-------------------------+----------------------+ | Fedora 41 (Clang) | PASS | PASS | PASS | SKIPPED | SKIPPED | SKIPPED | +---------------------+--------------------+-------------------+------------------+-------------------+-------------------------+----------------------+ | Fedora 41 | PASS | PASS | PASS | SKIPPED | SKIPPED | SKIPPED | +---------------------+--------------------+-------------------+------------------+-------------------+-------------------------+----------------------+ | openSUSE Leap 15 | PASS | SKIPPED | SKIPPED | SKIPPED | SKIPPED | SKIPPED | +---------------------+--------------------+-------------------+------------------+-------------------+-------------------------+----------------------+ | RHEL8 | PASS | SKIPPED | SKIPPED | SKIPPED | SKIPPED | SKIPPED | +---------------------+--------------------+-------------------+------------------+-------------------+-------------------------+----------------------+ | RHEL9 | PASS | SKIPPED | SKIPPED | SKIPPED | SKIPPED | SKIPPED | +---------------------+--------------------+-------------------+------------------+-------------------+-------------------------+----------------------+ | Ubuntu 20.04 | PASS | SKIPPED | SKIPPED | SKIPPED | SKIPPED | SKIPPED | +---------------------+--------------------+-------------------+------------------+-------------------+-------------------------+----------------------+ | Ubuntu 22.04 | PASS | PASS | SKIPPED | SKIPPED | SKIPPED | SKIPPED | +---------------------+--------------------+-------------------+------------------+-------------------+-------------------------+----------------------+ | Ubuntu 24.04 | PASS | PASS | PASS | SKIPPED | SKIPPED | SKIPPED | +---------------------+--------------------+-------------------+------------------+-------------------+-------------------------+----------------------+ | FreeBSD 13.4 | PASS | SKIPPED | SKIPPED | SKIPPED | SKIPPED | SKIPPED | +---------------------+--------------------+-------------------+------------------+-------------------+-------------------------+----------------------+ | FreeBSD 14.2 | PASS | SKIPPED | SKIPPED | SKIPPED | SKIPPED | SKIPPED | +---------------------+--------------------+-------------------+------------------+-------------------+-------------------------+----------------------+ | Alpine | PASS | SKIPPED | SKIPPED | SKIPPED | SKIPPED | SKIPPED | +---------------------+--------------------+-------------------+------------------+-------------------+-------------------------+----------------------+ | Windows Server 2022 | SKIPPED | SKIPPED | SKIPPED | PASS | PASS | PASS | +---------------------+--------------------+-------------------+------------------+-------------------+-------------------------+----------------------+ CentOS Stream 10 Kernel: Depends on container host Compiler: gcc 14.2.1 20241104 (Red Hat 14.2.1-6) CentOS Stream 9 Kernel: Depends on container host Compiler: gcc 11.5.0 20240719 (Red Hat 11.5.0-2) Debian 12 Kernel: Depends on container host Compiler: gcc (Debian 12.2.0-14) 12.2.0 Debian Bullseye Kernel: Depends on container host Compiler: gcc (Debian 10.2.1-6) 10.2.1 20210110 Fedora 40 (Clang) Kernel: Depends on container host Compiler: clang 18.1.8 (Fedora 18.1.8-1.fc40) Fedora 40 Kernel: Depends on container host Compiler: gcc 14.2.1 20240912 (Red Hat 14.2.1-3) Fedora 41 (Clang) Kernel: Depends on container host Compiler: clang 19.1.5 (Fedora 19.1.5-1.fc41) Fedora 41 Kernel: Depends on container host Compiler: gcc 14.2.1 20240912 (Red Hat 14.2.1-3) openSUSE Leap 15 Kernel: Depends on container host Compiler: gcc (SUSE Linux) 7.5.0 RHEL8 Kernel: Depends on container host Compiler: gcc 8.5.0 20210514 (Red Hat 8.5.0-22) RHEL9 Kernel: Depends on container host Compiler: gcc 11.5.0 20240719 (Red Hat 11.5.0-2) Ubuntu 20.04 Kernel: Depends on container host Compiler: gcc (Ubuntu 9.4.0-1ubuntu1~20.04.2) 9.4.0 Ubuntu 22.04 Kernel: Depends on container host Compiler: gcc (Ubuntu 11.4.0-1ubuntu1~22.04) 11.4.0 Ubuntu 24.04 Kernel: Depends on container host Compiler: gcc (Ubuntu 13.3.0-6ubuntu2~24.04) 13.3.0 FreeBSD 13.4 Kernel: 13.4-RELEASE-p1 Compiler: clang 18.1.6 FreeBSD 14.2 Kernel: 14.2-RELEASE Compiler: clang 18.1.6 Alpine Kernel: Depends on container host Compiler: gcc (Alpine 14.2.0) 14.2.0 Windows Server 2022 Kernel: 10.0.20348.2031 Compiler: clang 15.0.7, gcc 14.1.0 (MinGW), and MSVC VS 19.39.33521 To view detailed results, visit: https://lab.dpdk.org/results/dashboard/patchsets/32551/ UNH-IOL DPDK Community Lab To manage your email subscriptions, visit: https://lab.dpdk.org/results/dashboard/preferences/subscriptions/