From mboxrd@z Thu Jan 1 00:00:00 1970 Return-Path: Received: from mails.dpdk.org (mails.dpdk.org [217.70.189.124]) by inbox.dpdk.org (Postfix) with ESMTP id 4D063461EE for ; Mon, 10 Feb 2025 23:43:58 +0100 (CET) Received: from mails.dpdk.org (localhost [127.0.0.1]) by mails.dpdk.org (Postfix) with ESMTP id 4A250402AB; Mon, 10 Feb 2025 23:43:58 +0100 (CET) Received: from mail-pj1-f97.google.com (mail-pj1-f97.google.com [209.85.216.97]) by mails.dpdk.org (Postfix) with ESMTP id 7708840156 for ; Mon, 10 Feb 2025 23:43:56 +0100 (CET) Received: by mail-pj1-f97.google.com with SMTP id 98e67ed59e1d1-2fa7465baceso2987512a91.0 for ; Mon, 10 Feb 2025 14:43:56 -0800 (PST) DKIM-Signature: v=1; a=rsa-sha256; c=relaxed/relaxed; d=iol.unh.edu; s=unh-iol; t=1739227435; x=1739832235; darn=dpdk.org; h=references:in-reply-to:cc:to:from:subject:message-id:date:from:to :cc:subject:date:message-id:reply-to; bh=dLLa5SCHZ6NbJr4rLs6nRTZliz8EDyoinMA1h90rmHM=; b=CCGX6UbIwWQEDtCnotz4dT+s1trVcu+YQDsKlixh/z/+u6CROCsarazEajramTPq+u GVePokSxFseQSJ9/Y0NwjqKHiY7XBUqNOz78jolPpR/fzhB9vY/M1oA2VrNAo5mrmfHp wJf16QAti9m3LkDuU1AEj80eJeBLuZPlPxs6c= X-Google-DKIM-Signature: v=1; a=rsa-sha256; c=relaxed/relaxed; d=1e100.net; s=20230601; t=1739227435; x=1739832235; h=references:in-reply-to:cc:to:from:subject:message-id:date :x-gm-message-state:from:to:cc:subject:date:message-id:reply-to; bh=dLLa5SCHZ6NbJr4rLs6nRTZliz8EDyoinMA1h90rmHM=; b=Sotz2AFXj87fBgJtmT3ayHH/P8/nXEsruk2WwTH/dPjDy5Z2ntEVRCNpk0izfxSgdg uLc+shAfhssjixYrBgQvUTDTJHY3tOthWkTitj7N90LNdEkes8bnnw9JVXmr0g8sntPJ YfQLh29w0jDkrQquKB4YQ0IT8fNt0YcxouE41IwqX+UDcPeylk42sjfTZgWmGA6aHple 7lB7y346v1QAgsQfFZjrjVwX8FJAt9jPPt71pyuG8wNzazmbJI2Ps+Co1OtWfbiffs2S H7rxDBOyYnXfkSCy8h+3a+y2jo+erknLTtwliLgSmGEE1UsPU0voKwqFXd/K60oh2vWX Iz6A== X-Gm-Message-State: AOJu0YyFrtSPDW/ABiysCYT4niQXlZoyXzXd+EDno/jVcY8/evRmEIYs WBVqE225bUxfuXOsxOb4HYloJIHBsk6xvMkK0gTl+TM8yim8fgR3fG0GJY9rB9kT4NtuX2V/46e HYH++ZPNfDjDn0nJh0KQVJUGiNcc8ftDgVxWkVfhvPnsAB1YaWEECZg8v X-Gm-Gg: ASbGncsEqdLz0VC0pzgSaMjjUBcdUNKwXUNKMIXgYOAJ596WsEWqyAdvDlaS7Uwnz5W RWd7zHFFYbP7QfRo8fu1fjjfCJH2ZG4PYtcY8myE7adGnAKu1AdVBaD80UdJbubAz7TYZaqHyMv I675I8HQLlVSGsJSgzae04O+iq1Kg+Nssm4Uhr0cbRGOPhUvFslnRDU5YEfwsJwxgECf2EfwDod I9/NZ+wymzBNXaDKzYUfxbmLAotbCpB/KtJGty/C4saWuZIXIpRHXLX0+HMcRmUNlBPjz5SgbFk 7KLPX1chwwFEV+z7KX1ly2YMHYxsuFnTeheGNQsvRQ== X-Google-Smtp-Source: AGHT+IG+VFiZRVWhePvnz79UUtKApYmfhmK4Ei4QlqbO9ozibm2tA1+KWMXFZEgYDiwFj92WIfqrAaP+AKTc X-Received: by 2002:a17:90b:2346:b0:2f2:a664:df20 with SMTP id 98e67ed59e1d1-2fa23f55106mr24384536a91.7.1739227435572; Mon, 10 Feb 2025 14:43:55 -0800 (PST) Received: from postal.iol.unh.edu (postal.iol.unh.edu. [2606:4100:3880:1234::84]) by smtp-relay.gmail.com with ESMTPS id d9443c01a7336-21f62ff393bsm4072375ad.79.2025.02.10.14.43.55 (version=TLS1_2 cipher=ECDHE-ECDSA-AES128-GCM-SHA256 bits=128/128); Mon, 10 Feb 2025 14:43:55 -0800 (PST) X-Relaying-Domain: iol.unh.edu Date: Mon, 10 Feb 2025 14:43:55 -0800 (PST) Message-ID: <67aa812b.170a0220.24baf3.5081SMTPIN_ADDED_MISSING@mx.google.com> Received: from [172.21.0.6] (unknown [172.18.0.240]) by postal.iol.unh.edu (Postfix) with ESMTP id 992996052471; Mon, 10 Feb 2025 17:43:54 -0500 (EST) Subject: |SUCCESS| pw151281 [PATCH] drivers: fix build warnings when using ic From: dpdklab@iol.unh.edu To: Test Report Cc: dpdk-test-reports@iol.unh.edu In-Reply-To: <20250210171957.1670913-1-bruce.richardson@intel.com> References: <20250210171957.1670913-1-bruce.richardson@intel.com> Content-Type: text/plain X-BeenThere: test-report@dpdk.org X-Mailman-Version: 2.1.29 Precedence: list List-Id: automatic DPDK test reports List-Unsubscribe: , List-Archive: List-Post: List-Help: List-Subscribe: , Errors-To: test-report-bounces@dpdk.org Test-Label: iol-unit-amd64-testing Test-Status: SUCCESS http://dpdk.org/patch/151281 _Testing PASS_ Submitter: Bruce Richardson Date: Monday, February 10 2025 17:19:57 DPDK git baseline: Repo:dpdk Branch: master CommitID:4dc0eac848506d9365fc93fdd6f32f3fc81c00d1 151281 --> testing pass Upstream job id: Generic-Unit-Test-DPDK#313787 Test environment and result as below: +---------------------+----------------+ | Environment | dpdk_unit_test | +=====================+================+ | Debian Bullseye | PASS | +---------------------+----------------+ | CentOS Stream 9 | PASS | +---------------------+----------------+ | Fedora 41 | PASS | +---------------------+----------------+ | CentOS Stream 10 | PASS | +---------------------+----------------+ | Fedora 40 | PASS | +---------------------+----------------+ | Fedora 40 (Clang) | PASS | +---------------------+----------------+ | Debian 12 | PASS | +---------------------+----------------+ | RHEL9 | PASS | +---------------------+----------------+ | Fedora 41 (Clang) | PASS | +---------------------+----------------+ | RHEL8 | PASS | +---------------------+----------------+ | Ubuntu 20.04 | PASS | +---------------------+----------------+ | Ubuntu 24.04 | PASS | +---------------------+----------------+ | Ubuntu 22.04 | PASS | +---------------------+----------------+ | Windows Server 2022 | PASS | +---------------------+----------------+ Debian Bullseye Kernel: Depends on container host Compiler: gcc (Debian 10.2.1-6) 10.2.1 20210110 CentOS Stream 9 Kernel: Depends on container host Compiler: gcc 11.5.0 20240719 (Red Hat 11.5.0-2) Fedora 41 Kernel: Depends on container host Compiler: gcc 14.2.1 20240912 (Red Hat 14.2.1-3) CentOS Stream 10 Kernel: Depends on container host Compiler: gcc 14.2.1 20241104 (Red Hat 14.2.1-6) Fedora 40 Kernel: Depends on container host Compiler: gcc 14.2.1 20240912 (Red Hat 14.2.1-3) Fedora 40 (Clang) Kernel: Depends on container host Compiler: clang 18.1.8 (Fedora 18.1.8-1.fc40) Debian 12 Kernel: Depends on container host Compiler: gcc (Debian 12.2.0-14) 12.2.0 RHEL9 Kernel: Depends on container host Compiler: gcc 11.5.0 20240719 (Red Hat 11.5.0-2) Fedora 41 (Clang) Kernel: Depends on container host Compiler: clang 19.1.5 (Fedora 19.1.5-1.fc41) RHEL8 Kernel: Depends on container host Compiler: gcc 8.5.0 20210514 (Red Hat 8.5.0-22) Ubuntu 20.04 Kernel: Depends on container host Compiler: gcc (Ubuntu 9.4.0-1ubuntu1~20.04.2) 9.4.0 Ubuntu 24.04 Kernel: Depends on container host Compiler: gcc (Ubuntu 13.3.0-6ubuntu2~24.04) 13.3.0 Ubuntu 22.04 Kernel: Depends on container host Compiler: gcc (Ubuntu 11.4.0-1ubuntu1~22.04) 11.4.0 Windows Server 2022 Kernel: 10.0.20348.2031 Compiler: clang 15.0.7, gcc 14.1.0 (MinGW), and MSVC VS 19.39.33521 To view detailed results, visit: https://lab.dpdk.org/results/dashboard/patchsets/32550/ UNH-IOL DPDK Community Lab To manage your email subscriptions, visit: https://lab.dpdk.org/results/dashboard/preferences/subscriptions/