From mboxrd@z Thu Jan 1 00:00:00 1970 Return-Path: Received: from mails.dpdk.org (mails.dpdk.org [217.70.189.124]) by inbox.dpdk.org (Postfix) with ESMTP id 2F392461F2 for ; Tue, 11 Feb 2025 00:00:28 +0100 (CET) Received: from mails.dpdk.org (localhost [127.0.0.1]) by mails.dpdk.org (Postfix) with ESMTP id 2BE41402AB; Tue, 11 Feb 2025 00:00:28 +0100 (CET) Received: from mail-qv1-f97.google.com (mail-qv1-f97.google.com [209.85.219.97]) by mails.dpdk.org (Postfix) with ESMTP id C9D6B40156 for ; Tue, 11 Feb 2025 00:00:26 +0100 (CET) Received: by mail-qv1-f97.google.com with SMTP id 6a1803df08f44-6e46349b7daso14478546d6.1 for ; Mon, 10 Feb 2025 15:00:26 -0800 (PST) DKIM-Signature: v=1; a=rsa-sha256; c=relaxed/relaxed; d=iol.unh.edu; s=unh-iol; t=1739228426; x=1739833226; darn=dpdk.org; h=references:in-reply-to:cc:to:from:subject:message-id:date:from:to :cc:subject:date:message-id:reply-to; bh=Sdd/mroABiIKC5q9REbb1fX6amZcsMjXAz5GUihaVOQ=; b=AwpQ7IKFenkzmSF8vHYChv5JUEWFuXRlqzgz8VaTU/sZOeUCgHsG28rQGbNeVxkzfU iGaAN369AMQnfYB4Slu90TJQYpK7FMlDaBJ7luoqolqhOERlwX0vhPfFr/eve4NYfLv6 l8POznF9PnrJv4kOfjzSBzUPS5fBXCg6xDQww= X-Google-DKIM-Signature: v=1; a=rsa-sha256; c=relaxed/relaxed; d=1e100.net; s=20230601; t=1739228426; x=1739833226; h=references:in-reply-to:cc:to:from:subject:message-id:date :x-gm-message-state:from:to:cc:subject:date:message-id:reply-to; bh=Sdd/mroABiIKC5q9REbb1fX6amZcsMjXAz5GUihaVOQ=; b=TWJj41wYB/235ufUh+GEIkWRVVr+qS/lC3PeCkl4KCjUktUSHOyC51v7g1hcVHSin/ bSfssQvctCXbG52mKoCXZ+wBvULsLDiHQ3MvahNCuQLue/wOClb/zRA2Mv0TIiSKuDJU 6/1Esc4DqraYFKliDxNf/XDr70Shs1VIqpoFhJDFhjZH2TKuwy8nu4mn8HT2Lkt9eSkW jWsQ9/IrYlUhtvZiveWgQYU9OpIhBSnpnAuHwidJdYPKZi/Zv5otlPS3IdoFtNlvhrqs EEqTLFGMEdAuicyKiZFRMQQuEVyvyqfFsJi4exzxhgsZXZLrY0Hu6U0iPpvlfgeVO+z+ B6GA== X-Gm-Message-State: AOJu0YxzAu69vCPN94Ng6PQyU4wZTXcIOOcVVfWBzfEZvT6uXPzruNUo GxKKzvRi1/0SrOsUBApFmlE6fSCx2eHdTKOsTnPzt9V0FOXNl1+xmLbCejl3AbEnd6+Izwj6+qo Z1NH5VeuFp64CW/i5jMDAMNfXS72+xbDSRcC0pecj X-Gm-Gg: ASbGncvnk1WQH1WNtgfGyntQkFLmTz+STmDhIwu6LLswZ5b78/LnXvlbPSpCo+orGWN 4d3fuNcyH/slw2ecirGeuzC1jC7JvP+agKYwNLgXEnoSIwx+SJE5XP76cS9jmnu2f3zUwO20ds8 702db7lJsOJj+1gN9TDkClXfH11JuC3sS4QySoQcBg2AysML1B/mIjkw0pGRAutfZNXqsqWIkyd eXQl7KQiLQeJqRQaP63FfJA85TFzSCPgybw757SKfIbS7NLURGqw8W/r2Woshy95dZ9P3RAjK8P B8Gs6Xb05TvAdYovTz9LXVr41wskbg== X-Google-Smtp-Source: AGHT+IEv+qhilsVkcg6wvGRZuW7r3k8trSfa0jx4CQ/iuVnWRu/n+0eiutl8Z5zYuOo3v+bXOS6vzTvizwUg X-Received: by 2002:a05:6214:1d24:b0:6e4:2e12:3a0c with SMTP id 6a1803df08f44-6e445701c9cmr235260666d6.39.1739228426212; Mon, 10 Feb 2025 15:00:26 -0800 (PST) Received: from postal.iol.unh.edu (postal.iol.unh.edu. [132.177.123.84]) by smtp-relay.gmail.com with ESMTPS id 6a1803df08f44-6e4524a023esm3621206d6.27.2025.02.10.15.00.26 (version=TLS1_2 cipher=ECDHE-ECDSA-AES128-GCM-SHA256 bits=128/128); Mon, 10 Feb 2025 15:00:26 -0800 (PST) X-Relaying-Domain: iol.unh.edu Date: Mon, 10 Feb 2025 15:00:26 -0800 (PST) Message-ID: <67aa850a.050a0220.174c4d.2a94SMTPIN_ADDED_MISSING@mx.google.com> Received: from [172.21.0.7] (unknown [172.18.0.240]) by postal.iol.unh.edu (Postfix) with ESMTP id DE1C36052471; Mon, 10 Feb 2025 18:00:25 -0500 (EST) Subject: |SUCCESS| pw151281 [PATCH] drivers: fix build warnings when using ic From: dpdklab@iol.unh.edu To: Test Report Cc: dpdk-test-reports@iol.unh.edu In-Reply-To: <20250210171957.1670913-1-bruce.richardson@intel.com> References: <20250210171957.1670913-1-bruce.richardson@intel.com> Content-Type: text/plain X-BeenThere: test-report@dpdk.org X-Mailman-Version: 2.1.29 Precedence: list List-Id: automatic DPDK test reports List-Unsubscribe: , List-Archive: List-Post: List-Help: List-Subscribe: , Errors-To: test-report-bounces@dpdk.org Test-Label: iol-abi-testing Test-Status: SUCCESS http://dpdk.org/patch/151281 _Testing PASS_ Submitter: Bruce Richardson Date: Monday, February 10 2025 17:19:57 DPDK git baseline: Repo:dpdk Branch: master CommitID:4dc0eac848506d9365fc93fdd6f32f3fc81c00d1 151281 --> testing pass Upstream job id: Generic-DPDK-Compile-ABI#115693 Test environment and result as below: +-------------------+----------+ | Environment | abi_test | +===================+==========+ | CentOS Stream 9 | PASS | +-------------------+----------+ | Debian 12 | PASS | +-------------------+----------+ | Debian Bullseye | PASS | +-------------------+----------+ | CentOS Stream 10 | PASS | +-------------------+----------+ | Fedora 40 (Clang) | PASS | +-------------------+----------+ | Fedora 40 | PASS | +-------------------+----------+ | Fedora 41 | PASS | +-------------------+----------+ | RHEL8 | PASS | +-------------------+----------+ | openSUSE Leap 15 | PASS | +-------------------+----------+ | Ubuntu 24.04 | PASS | +-------------------+----------+ | Ubuntu 22.04 | PASS | +-------------------+----------+ | RHEL9 | PASS | +-------------------+----------+ | Fedora 41 (Clang) | PASS | +-------------------+----------+ CentOS Stream 9 Kernel: Depends on container host Compiler: gcc 11.5.0 20240719 (Red Hat 11.5.0-2) Debian 12 Kernel: Depends on container host Compiler: gcc (Debian 12.2.0-14) 12.2.0 Debian Bullseye Kernel: Depends on container host Compiler: gcc (Debian 10.2.1-6) 10.2.1 20210110 CentOS Stream 10 Kernel: Depends on container host Compiler: gcc 14.2.1 20241104 (Red Hat 14.2.1-6) Fedora 40 (Clang) Kernel: Depends on container host Compiler: clang 18.1.8 (Fedora 18.1.8-1.fc40) Fedora 40 Kernel: Depends on container host Compiler: gcc 14.2.1 20240912 (Red Hat 14.2.1-3) Fedora 41 Kernel: Depends on container host Compiler: gcc 14.2.1 20240912 (Red Hat 14.2.1-3) RHEL8 Kernel: Depends on container host Compiler: gcc 8.5.0 20210514 (Red Hat 8.5.0-22) openSUSE Leap 15 Kernel: Depends on container host Compiler: gcc (SUSE Linux) 7.5.0 Ubuntu 24.04 Kernel: Depends on container host Compiler: gcc (Ubuntu 13.3.0-6ubuntu2~24.04) 13.3.0 Ubuntu 22.04 Kernel: Depends on container host Compiler: gcc (Ubuntu 11.4.0-1ubuntu1~22.04) 11.4.0 RHEL9 Kernel: Depends on container host Compiler: gcc 11.5.0 20240719 (Red Hat 11.5.0-2) Fedora 41 (Clang) Kernel: Depends on container host Compiler: clang 19.1.5 (Fedora 19.1.5-1.fc41) To view detailed results, visit: https://lab.dpdk.org/results/dashboard/patchsets/32550/ UNH-IOL DPDK Community Lab To manage your email subscriptions, visit: https://lab.dpdk.org/results/dashboard/preferences/subscriptions/