From mboxrd@z Thu Jan 1 00:00:00 1970 Return-Path: Received: from mails.dpdk.org (mails.dpdk.org [217.70.189.124]) by inbox.dpdk.org (Postfix) with ESMTP id C7D76461EE for ; Tue, 11 Feb 2025 00:14:17 +0100 (CET) Received: from mails.dpdk.org (localhost [127.0.0.1]) by mails.dpdk.org (Postfix) with ESMTP id C52A0402B1; Tue, 11 Feb 2025 00:14:17 +0100 (CET) Received: from mail-qv1-f97.google.com (mail-qv1-f97.google.com [209.85.219.97]) by mails.dpdk.org (Postfix) with ESMTP id 3A497402AB for ; Tue, 11 Feb 2025 00:14:16 +0100 (CET) Received: by mail-qv1-f97.google.com with SMTP id 6a1803df08f44-6e4468b7099so43943346d6.1 for ; Mon, 10 Feb 2025 15:14:16 -0800 (PST) DKIM-Signature: v=1; a=rsa-sha256; c=relaxed/relaxed; d=iol.unh.edu; s=unh-iol; t=1739229255; x=1739834055; darn=dpdk.org; h=references:in-reply-to:cc:to:from:subject:message-id:date:from:to :cc:subject:date:message-id:reply-to; bh=OowI/sK96k9Hwak8LOZ1OgVHfImKrHodaBQCkvaBzUw=; b=ApNN66sLWE9QQfMx2f1K61urnoQ4h2c8LUK5a0Jwg/L7+SNhnTHuoTTuKRmhrOb4Hv eokuXw3KHL1R7yvc1UXZ1Juf0aCfJx9Z79pz2YeZkXW0RIouLJbq3wc/rmiG5i+uL2w2 7cfu4pyGpGsd3eV5nHG7zJOsOidaKx7u0uhNQ= X-Google-DKIM-Signature: v=1; a=rsa-sha256; c=relaxed/relaxed; d=1e100.net; s=20230601; t=1739229255; x=1739834055; h=references:in-reply-to:cc:to:from:subject:message-id:date :x-gm-message-state:from:to:cc:subject:date:message-id:reply-to; bh=OowI/sK96k9Hwak8LOZ1OgVHfImKrHodaBQCkvaBzUw=; b=IMGAXUleOK2FzuNDqFeqlNArC/dBWAm3ykAPze/kPNmvyG7db2pBVqR2iqA70gVOgk UDNasGbNnUUCR4fYFY5wi0wYeOF66y8YvLCtXBKiYxUUmZQSI0b17sXwJxwlyWAP9GFd fCE8iJhswbP+5RghYV79kHahA6xWG5nf0U0YBgQk5QXmX61TCYRJcc03RMr1KVZLn063 gBRNgkE0j0n0rIIwSB1ABRLHggU+vFWxWsMQoewXEULNH2La2llCkpSv2zehZOhvuii6 619yJeaMSVnmgBcPCgw/eFdebFVXPOIbQV9NIWEH9j9roC5U3WoRnr16h548GZu59F85 0Pyg== X-Gm-Message-State: AOJu0YxTjLdPNMaDeJZQXV0CXGs+iX1Yd+ROYqlFM5qXRhLo34rUsOu6 MHNvWvRO3tz+g71VHbPmI3aGjAfUlB+Z5EVVS63dBEF4CHNWN52gIH7h46bgYotuEXvYnGEzQRx 1m0jOp2qaAReWp8LshNkvPsvycVWnv9j/gREYmf0M X-Gm-Gg: ASbGnctM7L5B5pjFj8hjq94EchY4az+dJqXyHzHhkF/ZYwVrJ6Cp5+8ssBUMYO3u4tU DTpB9Ktr30xfYrmxVuhtELDrltT0dwSRUXUz6yt5ti9Dazyo6FslOQZqYxUfPHZg4G4KxlrXYeP aEQOYtqGwYMH+0+Tkv4JnINXwHBBZqDA/KSox/zbjI8OQ9yFa5lQr1EghzKHnzflu8KUhos8YZN uPQ/1V4pbRDRCW+UTercIsv82GmQxnWRuVKHMNAUclTaEdvBB0k4dEtZ7r5jhRjBcaKCMEf+lc0 IFDgfAKP8/HC6NfrMyWb8u+rXhFA9w== X-Google-Smtp-Source: AGHT+IHupxm940SaCZ5E8UZbPFzDvB05DSottfJFK+R9GeSmWM+95eNU2M7IjlDAb06vGDVIdV8Isyzl5wR0 X-Received: by 2002:a05:6214:2621:b0:6d4:586:6292 with SMTP id 6a1803df08f44-6e445685108mr192288026d6.26.1739229255582; Mon, 10 Feb 2025 15:14:15 -0800 (PST) Received: from postal.iol.unh.edu (postal.iol.unh.edu. [132.177.123.84]) by smtp-relay.gmail.com with ESMTPS id 6a1803df08f44-6e450d6f647sm3970416d6.63.2025.02.10.15.14.15 (version=TLS1_2 cipher=ECDHE-ECDSA-AES128-GCM-SHA256 bits=128/128); Mon, 10 Feb 2025 15:14:15 -0800 (PST) X-Relaying-Domain: iol.unh.edu Date: Mon, 10 Feb 2025 15:14:15 -0800 (PST) Message-ID: <67aa8847.050a0220.29c3bb.461fSMTPIN_ADDED_MISSING@mx.google.com> Received: from [172.21.0.6] (unknown [172.18.0.240]) by postal.iol.unh.edu (Postfix) with ESMTP id 545FA6052471; Mon, 10 Feb 2025 18:14:15 -0500 (EST) Subject: |SUCCESS| pw151283-151288 [PATCH] [v3,6/6] trace: fix undefined beha From: dpdklab@iol.unh.edu To: Test Report Cc: dpdk-test-reports@iol.unh.edu In-Reply-To: <20250210174424.3364021-7-david.marchand@redhat.com> References: <20250210174424.3364021-7-david.marchand@redhat.com> Content-Type: text/plain X-BeenThere: test-report@dpdk.org X-Mailman-Version: 2.1.29 Precedence: list List-Id: automatic DPDK test reports List-Unsubscribe: , List-Archive: List-Post: List-Help: List-Subscribe: , Errors-To: test-report-bounces@dpdk.org Test-Label: iol-compile-arm64-testing Test-Status: SUCCESS http://dpdk.org/patch/151288 _Testing PASS_ Submitter: David Marchand Date: Monday, February 10 2025 17:44:22 DPDK git baseline: Repo:dpdk Branch: master CommitID:3553897d84d8b54a1b1136cbf04dd7f1a40fd85b 151283-151288 --> testing pass Upstream job id: Generic-DPDK-Compile-Meson#360217 Test environment and result as below: +----------------------------------------+--------------------+ | Environment | dpdk_meson_compile | +========================================+====================+ | RHEL9 (ARM) | PASS | +----------------------------------------+--------------------+ | Ubuntu 20.04 ARM GCC Cross Compile | PASS | +----------------------------------------+--------------------+ | Ubuntu 20.04 ARM SVE | PASS | +----------------------------------------+--------------------+ | Fedora 40 (ARM) | PASS | +----------------------------------------+--------------------+ | Debian 12 with MUSDK | PASS | +----------------------------------------+--------------------+ | Fedora 40 (ARM Clang) | PASS | +----------------------------------------+--------------------+ | Fedora 41 (ARM) | PASS | +----------------------------------------+--------------------+ | Fedora 41 (ARM Clang) | PASS | +----------------------------------------+--------------------+ | Ubuntu 20.04 (ARM) | PASS | +----------------------------------------+--------------------+ | Ubuntu 22.04 (ARM) | PASS | +----------------------------------------+--------------------+ | Ubuntu 24.04 (ARM) | PASS | +----------------------------------------+--------------------+ | Ubuntu 20.04 aarch32 GCC Cross Compile | PASS | +----------------------------------------+--------------------+ | Debian 12 (arm) | PASS | +----------------------------------------+--------------------+ | Ubuntu 20.04 ARM Clang Cross Compile | PASS | +----------------------------------------+--------------------+ | CentOS Stream 9 (ARM) | PASS | +----------------------------------------+--------------------+ | Debian 11 (Buster) (ARM) | PASS | +----------------------------------------+--------------------+ | CentOS Stream 10 (ARM) | PASS | +----------------------------------------+--------------------+ RHEL9 (ARM) Kernel: Depends on container host Compiler: gcc 11.5.0 20240719 (Red Hat 11.5.0-2) Ubuntu 20.04 ARM GCC Cross Compile Kernel: Depends on container host Compiler: aarch64-linux-gnu-gcc (Ubuntu 9.4.0-1ubuntu1~20.04.2) 9.4.0 Ubuntu 20.04 ARM SVE Kernel: Depends on container host Compiler: gcc (Ubuntu 10.5.0-1ubuntu1~20.04) 10.5.0 Fedora 40 (ARM) Kernel: Depends on container host Compiler: gcc 14.2.1 20240912 (Red Hat 14.2.1-3) Debian 12 with MUSDK Kernel: Depends on container host Compiler: gcc (Debian 12.2.0-14) 12.2.0 Fedora 40 (ARM Clang) Kernel: Depends on container host Compiler: clang 18.1.8 (Fedora 18.1.8-1.fc40) Fedora 41 (ARM) Kernel: Depends on container host Compiler: gcc 14.2.1 20240912 (Red Hat 14.2.1-3) Fedora 41 (ARM Clang) Kernel: Depends on container host Compiler: clang 19.1.5 (Fedora 19.1.5-1.fc41) Ubuntu 20.04 (ARM) Kernel: Depends on container host Compiler: gcc (Ubuntu 9.4.0-1ubuntu1~20.04.2) 9.4.0 Ubuntu 22.04 (ARM) Kernel: Depends on container host Compiler: gcc (Ubuntu 11.4.0-1ubuntu1~22.04) 11.4.0 Ubuntu 24.04 (ARM) Kernel: Depends on container host Compiler: gcc (Ubuntu 13.3.0-6ubuntu2~24.04) 13.3.0 Ubuntu 20.04 aarch32 GCC Cross Compile Kernel: Depends on container host Compiler: gcc 9.4.0 Debian 12 (arm) Kernel: Depends on container host Compiler: gcc (Debian 12.2.0-14) 12.2.0 Ubuntu 20.04 ARM Clang Cross Compile Kernel: Depends on container host Compiler: clang 10.0.0-4ubuntu1 CentOS Stream 9 (ARM) Kernel: Depends on container host Compiler: gcc 11.5.0 20240719 (Red Hat 11.5.0-2) Debian 11 (Buster) (ARM) Kernel: Depends on container host Compiler: gcc (Debian 10.2.1-6) 10.2.1 20210110 CentOS Stream 10 (ARM) Kernel: Depends on container host Compiler: gcc 14.2.1 20241104 (Red Hat 14.2.1-6) To view detailed results, visit: https://lab.dpdk.org/results/dashboard/patchsets/32552/ UNH-IOL DPDK Community Lab To manage your email subscriptions, visit: https://lab.dpdk.org/results/dashboard/preferences/subscriptions/