From mboxrd@z Thu Jan 1 00:00:00 1970 Return-Path: Received: from mails.dpdk.org (mails.dpdk.org [217.70.189.124]) by inbox.dpdk.org (Postfix) with ESMTP id 99CB6461EE for ; Tue, 11 Feb 2025 00:46:33 +0100 (CET) Received: from mails.dpdk.org (localhost [127.0.0.1]) by mails.dpdk.org (Postfix) with ESMTP id 7247F402AB; Tue, 11 Feb 2025 00:46:33 +0100 (CET) Received: from mail-pl1-f225.google.com (mail-pl1-f225.google.com [209.85.214.225]) by mails.dpdk.org (Postfix) with ESMTP id 6F12440156 for ; Tue, 11 Feb 2025 00:46:31 +0100 (CET) Received: by mail-pl1-f225.google.com with SMTP id d9443c01a7336-21f55fbb72bso59223565ad.2 for ; Mon, 10 Feb 2025 15:46:31 -0800 (PST) DKIM-Signature: v=1; a=rsa-sha256; c=relaxed/relaxed; d=iol.unh.edu; s=unh-iol; t=1739231190; x=1739835990; darn=dpdk.org; h=references:in-reply-to:cc:to:from:subject:message-id:date:from:to :cc:subject:date:message-id:reply-to; bh=O1uAnhDXRjb5iOxHvuJfs1U9bFsOSBG4axJIc+xqmZo=; b=b5CoNBB2CDLXkGFVTff37vvWJr0w27IS91GLVoWJ6veEvwy65TjLurzeWWGl8MakKj UtPWA4BAZfcquWMxNMQdR2B7MEo4MTq5oiVsacgStgphWdO/xURnY8wZBvbpCO/ky6CR ewiCv/CW9W5yd0ZqfOMl6pcP/w3iMuffliqKM= X-Google-DKIM-Signature: v=1; a=rsa-sha256; c=relaxed/relaxed; d=1e100.net; s=20230601; t=1739231190; x=1739835990; h=references:in-reply-to:cc:to:from:subject:message-id:date :x-gm-message-state:from:to:cc:subject:date:message-id:reply-to; bh=O1uAnhDXRjb5iOxHvuJfs1U9bFsOSBG4axJIc+xqmZo=; b=WWPOLfDI7sLnXIvNJeVwRdUL2krchYaW+BSV9A7e3Ohvn72CSr8762MrdUmbh35FA+ KORD67U0iy6ajE/GFImbRf0RvTW6fEUtfIHl/+y0KiA95XK/sL2WQmC1CaojMZ+M0IIi UaVaLYtXjhVlUnQ5oH67V457sTedKqtdRrsFLLqzOxc+u91/okXE7ZjqwkvuxN44YiHQ AigQNnYUnSZ2UnwXgBIxN9UziemZxY0C4a6+QvBaBAJOEq0dPXhZwh/JhxgSRpn7rzFv /6oZq1Q813zsCmH0fhpY449HGNcqC9YHPsWvvZyteFM/yZzakAE35TGt/75h7kfTkJbP MC1g== X-Gm-Message-State: AOJu0YxO6MnGUhkLzAb90uY04Jsuk6/MZwX1jtnENgIbHs2xzJHgbV62 zz35bRwBKoIa5c9iAfLeTVpzAqD4qWsuwXJlTsvK7Wq8BsoIDjGt0cxsRMlSNhc15rYp54TSCKl VHRJ8oJ4oVmbPba5S11acNBCer5fijaOD6RTZyzwbeg+uHxnN/FTL6W6h X-Gm-Gg: ASbGncut8u672294ur4tvnriWVymI+wC6EcvQzpwLBtoqkpeu+r1qu8CD1nWJFkYquI h5wIGQVwwCxlqxcCuk5ZtQ4E/ElYd0gSxRjm5glvuKBm/SbytBK/ACZ+wCrjqf8ScyDSC5kU0lY BJgqyhFEnTAXTdDa/yfJLn5ifEf/d7araGRsO4ZnGoLkw8dr2o1ChYa3qldaFVucWCAbwgyecOg frxd4Q6ZSAsX8cMSCl+zlgdRuvahcBRgw/HsQv0OLlb7/tf+YmuXqVPVCBThZ2SmmOxYhWlsA3T s24cGKc1F8B8QtGHPkJolInFAZ1etUdmWuB7RGbRQQ== X-Google-Smtp-Source: AGHT+IEoa05reAQfmW7Vvyj5tNT3aqhACKU5eKcqYlVybVzfyDsEODpQSUShT3++yqv3itonlKvogKD5Vd0L X-Received: by 2002:a17:902:c942:b0:215:8809:b3b7 with SMTP id d9443c01a7336-21f4e1cf107mr232101005ad.7.1739231190534; Mon, 10 Feb 2025 15:46:30 -0800 (PST) Received: from postal.iol.unh.edu (postal.iol.unh.edu. [2606:4100:3880:1234::84]) by smtp-relay.gmail.com with ESMTPS id d9443c01a7336-21f365430e6sm5416375ad.44.2025.02.10.15.46.30 (version=TLS1_2 cipher=ECDHE-ECDSA-AES128-GCM-SHA256 bits=128/128); Mon, 10 Feb 2025 15:46:30 -0800 (PST) X-Relaying-Domain: iol.unh.edu Date: Mon, 10 Feb 2025 15:46:30 -0800 (PST) Message-ID: <67aa8fd6.170a0220.5a678.b59aSMTPIN_ADDED_MISSING@mx.google.com> Received: from [172.21.0.6] (unknown [172.18.0.240]) by postal.iol.unh.edu (Postfix) with ESMTP id A4D2F6052471; Mon, 10 Feb 2025 18:46:29 -0500 (EST) Subject: |SUCCESS| pw151281 [PATCH] drivers: fix build warnings when using ic From: dpdklab@iol.unh.edu To: Test Report Cc: dpdk-test-reports@iol.unh.edu In-Reply-To: <20250210171957.1670913-1-bruce.richardson@intel.com> References: <20250210171957.1670913-1-bruce.richardson@intel.com> Content-Type: text/plain X-BeenThere: test-report@dpdk.org X-Mailman-Version: 2.1.29 Precedence: list List-Id: automatic DPDK test reports List-Unsubscribe: , List-Archive: List-Post: List-Help: List-Subscribe: , Errors-To: test-report-bounces@dpdk.org Test-Label: iol-unit-arm64-testing Test-Status: SUCCESS http://dpdk.org/patch/151281 _Testing PASS_ Submitter: Bruce Richardson Date: Monday, February 10 2025 17:19:57 DPDK git baseline: Repo:dpdk Branch: master CommitID:4dc0eac848506d9365fc93fdd6f32f3fc81c00d1 151281 --> testing pass Upstream job id: Generic-Unit-Test-DPDK#313767 Test environment and result as below: +-----------------------------+----------------+------------------------------+---------------------------+--------------+ | Environment | dpdk_unit_test | cryptodev_sw_snow3g_autotest | cryptodev_sw_zuc_autotest | lpm_autotest | +=============================+================+==============================+===========================+==============+ | 32-bit Ubuntu 22.04.4 (ARM) | PASS | SKIPPED | SKIPPED | SKIPPED | +-----------------------------+----------------+------------------------------+---------------------------+--------------+ | CentOS Stream 9 (ARM) | PASS | SKIPPED | SKIPPED | SKIPPED | +-----------------------------+----------------+------------------------------+---------------------------+--------------+ | CentOS Stream 10 (ARM) | PASS | SKIPPED | SKIPPED | SKIPPED | +-----------------------------+----------------+------------------------------+---------------------------+--------------+ | Debian 11 (Buster) (ARM) | PASS | SKIPPED | SKIPPED | SKIPPED | +-----------------------------+----------------+------------------------------+---------------------------+--------------+ | Debian 12 (arm) | PASS | PASS | PASS | SKIPPED | +-----------------------------+----------------+------------------------------+---------------------------+--------------+ | Fedora 40 (ARM) | PASS | SKIPPED | SKIPPED | SKIPPED | +-----------------------------+----------------+------------------------------+---------------------------+--------------+ | Fedora 40 (ARM Clang) | PASS | SKIPPED | SKIPPED | SKIPPED | +-----------------------------+----------------+------------------------------+---------------------------+--------------+ | Fedora 41 (ARM) | PASS | SKIPPED | SKIPPED | SKIPPED | +-----------------------------+----------------+------------------------------+---------------------------+--------------+ | Fedora 41 (ARM Clang) | PASS | SKIPPED | SKIPPED | SKIPPED | +-----------------------------+----------------+------------------------------+---------------------------+--------------+ | RHEL9 (ARM) | PASS | SKIPPED | SKIPPED | SKIPPED | +-----------------------------+----------------+------------------------------+---------------------------+--------------+ | Ubuntu 20.04 (ARM) | PASS | SKIPPED | SKIPPED | SKIPPED | +-----------------------------+----------------+------------------------------+---------------------------+--------------+ | Ubuntu 22.04 (ARM) | PASS | SKIPPED | SKIPPED | SKIPPED | +-----------------------------+----------------+------------------------------+---------------------------+--------------+ | Ubuntu 24.04 (ARM) | PASS | SKIPPED | SKIPPED | SKIPPED | +-----------------------------+----------------+------------------------------+---------------------------+--------------+ | Ubuntu 20.04 ARM SVE | SKIPPED | SKIPPED | SKIPPED | PASS | +-----------------------------+----------------+------------------------------+---------------------------+--------------+ 32-bit Ubuntu 22.04.4 (ARM) Kernel: 5.15.83+ aarch64 Compiler: gcc (Ubuntu 11.4.0-1ubuntu1~22.04) 11.4.0 CentOS Stream 9 (ARM) Kernel: Depends on container host Compiler: gcc 11.5.0 20240719 (Red Hat 11.5.0-2) CentOS Stream 10 (ARM) Kernel: Depends on container host Compiler: gcc 14.2.1 20241104 (Red Hat 14.2.1-6) Debian 11 (Buster) (ARM) Kernel: Depends on container host Compiler: gcc (Debian 10.2.1-6) 10.2.1 20210110 Debian 12 (arm) Kernel: Depends on container host Compiler: gcc (Debian 12.2.0-14) 12.2.0 Fedora 40 (ARM) Kernel: Depends on container host Compiler: gcc 14.2.1 20240912 (Red Hat 14.2.1-3) Fedora 40 (ARM Clang) Kernel: Depends on container host Compiler: clang 18.1.8 (Fedora 18.1.8-1.fc40) Fedora 41 (ARM) Kernel: Depends on container host Compiler: gcc 14.2.1 20240912 (Red Hat 14.2.1-3) Fedora 41 (ARM Clang) Kernel: Depends on container host Compiler: clang 19.1.5 (Fedora 19.1.5-1.fc41) RHEL9 (ARM) Kernel: Depends on container host Compiler: gcc 11.5.0 20240719 (Red Hat 11.5.0-2) Ubuntu 20.04 (ARM) Kernel: Depends on container host Compiler: gcc (Ubuntu 9.4.0-1ubuntu1~20.04.2) 9.4.0 Ubuntu 22.04 (ARM) Kernel: Depends on container host Compiler: gcc (Ubuntu 11.4.0-1ubuntu1~22.04) 11.4.0 Ubuntu 24.04 (ARM) Kernel: Depends on container host Compiler: gcc (Ubuntu 13.3.0-6ubuntu2~24.04) 13.3.0 Ubuntu 20.04 ARM SVE Kernel: Depends on container host Compiler: gcc (Ubuntu 10.5.0-1ubuntu1~20.04) 10.5.0 To view detailed results, visit: https://lab.dpdk.org/results/dashboard/patchsets/32550/ UNH-IOL DPDK Community Lab To manage your email subscriptions, visit: https://lab.dpdk.org/results/dashboard/preferences/subscriptions/