From mboxrd@z Thu Jan 1 00:00:00 1970 Return-Path: Received: from mails.dpdk.org (mails.dpdk.org [217.70.189.124]) by inbox.dpdk.org (Postfix) with ESMTP id C9E30461EE for ; Tue, 11 Feb 2025 00:59:29 +0100 (CET) Received: from mails.dpdk.org (localhost [127.0.0.1]) by mails.dpdk.org (Postfix) with ESMTP id A78E7402AB; Tue, 11 Feb 2025 00:59:29 +0100 (CET) Received: from mail-qv1-f99.google.com (mail-qv1-f99.google.com [209.85.219.99]) by mails.dpdk.org (Postfix) with ESMTP id D615740156 for ; Tue, 11 Feb 2025 00:59:28 +0100 (CET) Received: by mail-qv1-f99.google.com with SMTP id 6a1803df08f44-6e41e18137bso40412926d6.1 for ; Mon, 10 Feb 2025 15:59:28 -0800 (PST) DKIM-Signature: v=1; a=rsa-sha256; c=relaxed/relaxed; d=iol.unh.edu; s=unh-iol; t=1739231968; x=1739836768; darn=dpdk.org; h=references:in-reply-to:cc:to:from:subject:message-id:date:from:to :cc:subject:date:message-id:reply-to; bh=vjSG/4KSqyQvbSMh/fWeHC8SJdb3DRUS49LTd8WatQc=; b=DODDDZdb7BRKQ7khO1dHkiKLjQ3ZuuA9PCF6ty+JHC8q3iNgD6wkUThK1H0SFK9Lom s08bOtlVQR+O/lihH9oyb10fIir/nu4tZnSxWFwQpJQfRvVLtpl5nNPVqMt68OkgpSJF E3YQXx0Rf8rGMT4UgIGPkgUrxnwqDEk0Pa66Q= X-Google-DKIM-Signature: v=1; a=rsa-sha256; c=relaxed/relaxed; d=1e100.net; s=20230601; t=1739231968; x=1739836768; h=references:in-reply-to:cc:to:from:subject:message-id:date :x-gm-message-state:from:to:cc:subject:date:message-id:reply-to; bh=vjSG/4KSqyQvbSMh/fWeHC8SJdb3DRUS49LTd8WatQc=; b=Az8Yl4pBDhl4OwEEPlFBnz8PHZm9QXnf9dFQbnrZrFU5HvOHiORHdcLJ94aJXdA4Qe A2aEt/kasj8R+Up6Qj4Q9hx1msrvVjcjcMuFCwPBqKzwsnJYQKdUh9U1XF/eVGeqelvz gftewIS+BwmYT2G6RKnGIPD1bo+oY34BzQYIbXlVXbT7Ro2AbzcIJbJQv86UmaMX/eEt 3yqQ9Eardw0vNqeZHoUVpnfstask31irTZCoMXQWFeRgINL8tkB32lqbv0roQpbgu2+B 6gTHpdlnaErzbwlWBhBKTvGUIewxpSGZdcyiAVm0H8goIGGyx1vidXIoEcov9bxEzTwB PUkA== X-Gm-Message-State: AOJu0YxC0J0LyMnItXMcmLY9nYQcTfcGl/+ZLzDxgArN2bxWd6azJlnZ FSgYwgNlicf+8QpID1XxBNqT7P+JEU7ONsMLNODnchNUmlWAekvu03+wqFeFTCzIosk+ryCEvE9 MxtY4RVN0Fmw5wqJ5FLmeIhOr9020pKfpVqbJ7M6j X-Gm-Gg: ASbGncs8hcImpOs8c2ZrnOISNGYNKoLAb4jXv7hsg/M3U/l0wvCCQF2PX0iqAsNWpoW /lqOWCuYjtHXF1OO4VXaWm5JXl6ceDtgJYj6LXycoPJ4VRmilnpV4APhq34xY9L6fOYnDGaZ84L jpCgiQ/R1emTfX0IryYIL5R1uxljkOsSTvFXH/l7eJN29wya1Rk5PPv+xpxknL8sz/imvQi5RlE j99VNWfv9a+O3CysudwHhdd6bgsq4pIKXPLu6JIc18w0uGMq/sNWRCR8s5xAgvuoVO0piVJ8vt9 qy0Yk4hW+l0/q02Pzui17u6c65AqNA== X-Google-Smtp-Source: AGHT+IFCblv47BzhnDt5f2lAvrR5bN1DX/3dRho+R8o7DBliwDUn2uzljBH1UTQix12Q4iKiQORviW/Fy2WD X-Received: by 2002:a05:6214:1bcc:b0:6d8:9dad:e167 with SMTP id 6a1803df08f44-6e4456135d3mr213251586d6.15.1739231968183; Mon, 10 Feb 2025 15:59:28 -0800 (PST) Received: from postal.iol.unh.edu (postal.iol.unh.edu. [132.177.123.84]) by smtp-relay.gmail.com with ESMTPS id 6a1803df08f44-6e45973dfd8sm3081146d6.44.2025.02.10.15.59.28 (version=TLS1_2 cipher=ECDHE-ECDSA-AES128-GCM-SHA256 bits=128/128); Mon, 10 Feb 2025 15:59:28 -0800 (PST) X-Relaying-Domain: iol.unh.edu Date: Mon, 10 Feb 2025 15:59:28 -0800 (PST) Message-ID: <67aa92e0.050a0220.1ed2b9.0b82SMTPIN_ADDED_MISSING@mx.google.com> Received: from [172.21.0.7] (unknown [172.18.0.240]) by postal.iol.unh.edu (Postfix) with ESMTP id D66D06052471; Mon, 10 Feb 2025 18:59:27 -0500 (EST) Subject: |SUCCESS| pw151280 [PATCH] [v3] build: replace support for icc with From: dpdklab@iol.unh.edu To: Test Report Cc: dpdk-test-reports@iol.unh.edu In-Reply-To: <20250210171845.1669874-1-bruce.richardson@intel.com> References: <20250210171845.1669874-1-bruce.richardson@intel.com> Content-Type: text/plain X-BeenThere: test-report@dpdk.org X-Mailman-Version: 2.1.29 Precedence: list List-Id: automatic DPDK test reports List-Unsubscribe: , List-Archive: List-Post: List-Help: List-Subscribe: , Errors-To: test-report-bounces@dpdk.org Test-Label: iol-abi-testing Test-Status: SUCCESS http://dpdk.org/patch/151280 _Testing PASS_ Submitter: Bruce Richardson Date: Monday, February 10 2025 17:18:42 DPDK git baseline: Repo:dpdk Branch: master CommitID:7587660f199266ce45aabb8c2259dd09452cb01d 151280 --> testing pass Upstream job id: Generic-DPDK-Compile-ABI#115702 Test environment and result as below: +-------------------+----------+ | Environment | abi_test | +===================+==========+ | CentOS Stream 10 | PASS | +-------------------+----------+ | CentOS Stream 9 | PASS | +-------------------+----------+ | Debian Bullseye | PASS | +-------------------+----------+ | Debian 12 | PASS | +-------------------+----------+ | Fedora 40 (Clang) | PASS | +-------------------+----------+ | Fedora 41 (Clang) | PASS | +-------------------+----------+ | Fedora 41 | PASS | +-------------------+----------+ | openSUSE Leap 15 | PASS | +-------------------+----------+ | RHEL8 | PASS | +-------------------+----------+ | RHEL9 | PASS | +-------------------+----------+ | Ubuntu 22.04 | PASS | +-------------------+----------+ | Ubuntu 24.04 | PASS | +-------------------+----------+ | Fedora 40 | PASS | +-------------------+----------+ CentOS Stream 10 Kernel: Depends on container host Compiler: gcc 14.2.1 20241104 (Red Hat 14.2.1-6) CentOS Stream 9 Kernel: Depends on container host Compiler: gcc 11.5.0 20240719 (Red Hat 11.5.0-2) Debian Bullseye Kernel: Depends on container host Compiler: gcc (Debian 10.2.1-6) 10.2.1 20210110 Debian 12 Kernel: Depends on container host Compiler: gcc (Debian 12.2.0-14) 12.2.0 Fedora 40 (Clang) Kernel: Depends on container host Compiler: clang 18.1.8 (Fedora 18.1.8-1.fc40) Fedora 41 (Clang) Kernel: Depends on container host Compiler: clang 19.1.5 (Fedora 19.1.5-1.fc41) Fedora 41 Kernel: Depends on container host Compiler: gcc 14.2.1 20240912 (Red Hat 14.2.1-3) openSUSE Leap 15 Kernel: Depends on container host Compiler: gcc (SUSE Linux) 7.5.0 RHEL8 Kernel: Depends on container host Compiler: gcc 8.5.0 20210514 (Red Hat 8.5.0-22) RHEL9 Kernel: Depends on container host Compiler: gcc 11.5.0 20240719 (Red Hat 11.5.0-2) Ubuntu 22.04 Kernel: Depends on container host Compiler: gcc (Ubuntu 11.4.0-1ubuntu1~22.04) 11.4.0 Ubuntu 24.04 Kernel: Depends on container host Compiler: gcc (Ubuntu 13.3.0-6ubuntu2~24.04) 13.3.0 Fedora 40 Kernel: Depends on container host Compiler: gcc 14.2.1 20240912 (Red Hat 14.2.1-3) To view detailed results, visit: https://lab.dpdk.org/results/dashboard/patchsets/32549/ UNH-IOL DPDK Community Lab To manage your email subscriptions, visit: https://lab.dpdk.org/results/dashboard/preferences/subscriptions/