From mboxrd@z Thu Jan 1 00:00:00 1970 Return-Path: Received: from mails.dpdk.org (mails.dpdk.org [217.70.189.124]) by inbox.dpdk.org (Postfix) with ESMTP id 52796461EE for ; Tue, 11 Feb 2025 01:03:16 +0100 (CET) Received: from mails.dpdk.org (localhost [127.0.0.1]) by mails.dpdk.org (Postfix) with ESMTP id 312E4402AB; Tue, 11 Feb 2025 01:03:16 +0100 (CET) Received: from mail-qv1-f99.google.com (mail-qv1-f99.google.com [209.85.219.99]) by mails.dpdk.org (Postfix) with ESMTP id 3486F40156 for ; Tue, 11 Feb 2025 01:03:15 +0100 (CET) Received: by mail-qv1-f99.google.com with SMTP id 6a1803df08f44-6e4562aa221so21628976d6.0 for ; Mon, 10 Feb 2025 16:03:15 -0800 (PST) DKIM-Signature: v=1; a=rsa-sha256; c=relaxed/relaxed; d=iol.unh.edu; s=unh-iol; t=1739232194; x=1739836994; darn=dpdk.org; h=references:in-reply-to:cc:to:from:subject:message-id:date:from:to :cc:subject:date:message-id:reply-to; bh=IZEae8W1LAwYwC/bHLIm1vv5urk/Rv0U3BfYHgAZWdc=; b=Nz/avZ1KRTuldUC6u5yhs6ebJQSo6ryWAEkSGUvzDR/i3p+hra97ExpLsKmuUEA5YS Y9dVxYiYMtF9ojtW838F6vesRoIexVu+1HXAVdq+gGBWATY5H0LhJvNRgqNi2GXh+zFC YPfs2b4YjRezWurImC+iYq+xFNbZAf06R3JSA= X-Google-DKIM-Signature: v=1; a=rsa-sha256; c=relaxed/relaxed; d=1e100.net; s=20230601; t=1739232194; x=1739836994; h=references:in-reply-to:cc:to:from:subject:message-id:date :x-gm-message-state:from:to:cc:subject:date:message-id:reply-to; bh=IZEae8W1LAwYwC/bHLIm1vv5urk/Rv0U3BfYHgAZWdc=; b=m669FzsTX9Olq6OHk+9YCvduLzs1zYirYr8xpqLhcN0JjYL6MdCHPm7y83x7fRupQ6 UmlNoEzHhHEwGblzNvkmT9lfMv5xPh1PKFME9k02aP7Ujmgbqeg69dERGPLM+I9ICLlA 5QEUib3jmxSoITncvXxOoUjy3LzDy/qV+ojQPs2eHgx3N/Pxf2XU0CmOf54/LMhIlqcZ HyRrpReK2LTE8iKhKaacIPgtpCERa2sbvTRa7zeO/u0Vz0f8384vFBQcyEvTe9oP9f6u Z7nEY0g+dpjqagC3B8grXiyxy+rbHVS33FIDXvxm1DL3Z5aaMEseWZsahhItGywSfSHq T/lQ== X-Gm-Message-State: AOJu0YxEKzKoSaenW0tyss9PiNavtPbgjg8vwYQfAVP6QKUT54FLlY80 0q2l1bYPDpposOxkrPji92vE770kVTU1B4Y2jL+z4XThxGU4ALpCHlJ/ODFxVYkDqFvCG8dLe8Z 1IHFhNI8NjSSquoJa+YOxkoAhlDNedIgFBEIEmDY7Ns3K/0a/tW2i/0EW X-Gm-Gg: ASbGncu+Gxi0MrEtzDzEkPbjXmhL6d/wytjJI5HYDQgrIHy1hGtBYkGJuHwp+92TnSz meRlHyF44fjMEmcnEn4vFxjT1WBF5LBgSP5XUUzHjGPMGkGuoHBcPJniFrU0AF91gETYg952A30 hAYL3DXkfcrQXDiKou3qwGsNBqJdFpTp64WBXZhWELiBqwmTwo1U3aFRH+7I+3lJ4PTmY7etBjR xPetBD7Tx1umwO4Ic9oI1b65fsiw/fE5XL7RAxOWyw0KI0zgBRYyf36PH4dexIq7YZI0n0yYXMv Uyy6oz1ODt9Vbz+QponS2dWY2f1PwubLHo4+hkZWhw== X-Google-Smtp-Source: AGHT+IEXcuzqwESq5kj4KPzwpRvlkT/+JlvkT71PIqcXp+KJJ1jpWd1g1wY8fJni7CAwNsLCZfnJp1BG2krX X-Received: by 2002:a05:6214:226a:b0:6e4:2c6e:7cdc with SMTP id 6a1803df08f44-6e445671053mr262832936d6.25.1739232194546; Mon, 10 Feb 2025 16:03:14 -0800 (PST) Received: from postal.iol.unh.edu (postal.iol.unh.edu. [2606:4100:3880:1234::84]) by smtp-relay.gmail.com with ESMTPS id 6a1803df08f44-6e450747512sm3951586d6.22.2025.02.10.16.03.14 (version=TLS1_2 cipher=ECDHE-ECDSA-AES128-GCM-SHA256 bits=128/128); Mon, 10 Feb 2025 16:03:14 -0800 (PST) X-Relaying-Domain: iol.unh.edu Date: Mon, 10 Feb 2025 16:03:14 -0800 (PST) Message-ID: <67aa93c2.050a0220.1011cf.46ecSMTPIN_ADDED_MISSING@mx.google.com> Received: from [172.21.0.6] (unknown [172.18.0.240]) by postal.iol.unh.edu (Postfix) with ESMTP id EF2DE6052471; Mon, 10 Feb 2025 19:03:13 -0500 (EST) Subject: |SUCCESS| pw151282 [PATCH] [RFC] git: consolidate .gitignore files From: dpdklab@iol.unh.edu To: Test Report Cc: dpdk-test-reports@iol.unh.edu In-Reply-To: <20250210172050.8884-1-stephen@networkplumber.org> References: <20250210172050.8884-1-stephen@networkplumber.org> Content-Type: text/plain X-BeenThere: test-report@dpdk.org X-Mailman-Version: 2.1.29 Precedence: list List-Id: automatic DPDK test reports List-Unsubscribe: , List-Archive: List-Post: List-Help: List-Subscribe: , Errors-To: test-report-bounces@dpdk.org Test-Label: iol-compile-arm64-testing Test-Status: SUCCESS http://dpdk.org/patch/151282 _Testing PASS_ Submitter: Stephen Hemminger Date: Monday, February 10 2025 17:20:49 DPDK git baseline: Repo:dpdk Branch: master CommitID:1f4fbb0ae68aeee517d491143bcd653ed527508f 151282 --> testing pass Upstream job id: Generic-DPDK-Compile-Meson#360254 Test environment and result as below: +----------------------------------------+--------------------+ | Environment | dpdk_meson_compile | +========================================+====================+ | RHEL9 (ARM) | PASS | +----------------------------------------+--------------------+ | Ubuntu 20.04 ARM SVE | PASS | +----------------------------------------+--------------------+ | Ubuntu 20.04 ARM GCC Cross Compile | PASS | +----------------------------------------+--------------------+ | Debian 12 with MUSDK | PASS | +----------------------------------------+--------------------+ | Fedora 40 (ARM) | PASS | +----------------------------------------+--------------------+ | Fedora 40 (ARM Clang) | PASS | +----------------------------------------+--------------------+ | Fedora 41 (ARM) | PASS | +----------------------------------------+--------------------+ | Ubuntu 20.04 (ARM) | PASS | +----------------------------------------+--------------------+ | Fedora 41 (ARM Clang) | PASS | +----------------------------------------+--------------------+ | Ubuntu 22.04 (ARM) | PASS | +----------------------------------------+--------------------+ | Ubuntu 24.04 (ARM) | PASS | +----------------------------------------+--------------------+ | CentOS Stream 9 (ARM) | PASS | +----------------------------------------+--------------------+ | CentOS Stream 10 (ARM) | PASS | +----------------------------------------+--------------------+ | Debian 11 (Buster) (ARM) | PASS | +----------------------------------------+--------------------+ | Debian 12 (arm) | PASS | +----------------------------------------+--------------------+ | Ubuntu 20.04 ARM Clang Cross Compile | PASS | +----------------------------------------+--------------------+ | Ubuntu 20.04 aarch32 GCC Cross Compile | PASS | +----------------------------------------+--------------------+ RHEL9 (ARM) Kernel: Depends on container host Compiler: gcc 11.5.0 20240719 (Red Hat 11.5.0-2) Ubuntu 20.04 ARM SVE Kernel: Depends on container host Compiler: gcc (Ubuntu 10.5.0-1ubuntu1~20.04) 10.5.0 Ubuntu 20.04 ARM GCC Cross Compile Kernel: Depends on container host Compiler: aarch64-linux-gnu-gcc (Ubuntu 9.4.0-1ubuntu1~20.04.2) 9.4.0 Debian 12 with MUSDK Kernel: Depends on container host Compiler: gcc (Debian 12.2.0-14) 12.2.0 Fedora 40 (ARM) Kernel: Depends on container host Compiler: gcc 14.2.1 20240912 (Red Hat 14.2.1-3) Fedora 40 (ARM Clang) Kernel: Depends on container host Compiler: clang 18.1.8 (Fedora 18.1.8-1.fc40) Fedora 41 (ARM) Kernel: Depends on container host Compiler: gcc 14.2.1 20240912 (Red Hat 14.2.1-3) Ubuntu 20.04 (ARM) Kernel: Depends on container host Compiler: gcc (Ubuntu 9.4.0-1ubuntu1~20.04.2) 9.4.0 Fedora 41 (ARM Clang) Kernel: Depends on container host Compiler: clang 19.1.5 (Fedora 19.1.5-1.fc41) Ubuntu 22.04 (ARM) Kernel: Depends on container host Compiler: gcc (Ubuntu 11.4.0-1ubuntu1~22.04) 11.4.0 Ubuntu 24.04 (ARM) Kernel: Depends on container host Compiler: gcc (Ubuntu 13.3.0-6ubuntu2~24.04) 13.3.0 CentOS Stream 9 (ARM) Kernel: Depends on container host Compiler: gcc 11.5.0 20240719 (Red Hat 11.5.0-2) CentOS Stream 10 (ARM) Kernel: Depends on container host Compiler: gcc 14.2.1 20241104 (Red Hat 14.2.1-6) Debian 11 (Buster) (ARM) Kernel: Depends on container host Compiler: gcc (Debian 10.2.1-6) 10.2.1 20210110 Debian 12 (arm) Kernel: Depends on container host Compiler: gcc (Debian 12.2.0-14) 12.2.0 Ubuntu 20.04 ARM Clang Cross Compile Kernel: Depends on container host Compiler: clang 10.0.0-4ubuntu1 Ubuntu 20.04 aarch32 GCC Cross Compile Kernel: Depends on container host Compiler: gcc 9.4.0 To view detailed results, visit: https://lab.dpdk.org/results/dashboard/patchsets/32551/ UNH-IOL DPDK Community Lab To manage your email subscriptions, visit: https://lab.dpdk.org/results/dashboard/preferences/subscriptions/