From mboxrd@z Thu Jan 1 00:00:00 1970 Return-Path: Received: from mails.dpdk.org (mails.dpdk.org [217.70.189.124]) by inbox.dpdk.org (Postfix) with ESMTP id 496BD461EE for ; Tue, 11 Feb 2025 01:12:01 +0100 (CET) Received: from mails.dpdk.org (localhost [127.0.0.1]) by mails.dpdk.org (Postfix) with ESMTP id 444C7402B1; Tue, 11 Feb 2025 01:12:01 +0100 (CET) Received: from mail-il1-f227.google.com (mail-il1-f227.google.com [209.85.166.227]) by mails.dpdk.org (Postfix) with ESMTP id 64652402AB for ; Tue, 11 Feb 2025 01:12:00 +0100 (CET) Received: by mail-il1-f227.google.com with SMTP id e9e14a558f8ab-3d15bacddbdso15599385ab.1 for ; Mon, 10 Feb 2025 16:12:00 -0800 (PST) DKIM-Signature: v=1; a=rsa-sha256; c=relaxed/relaxed; d=iol.unh.edu; s=unh-iol; t=1739232720; x=1739837520; darn=dpdk.org; h=references:in-reply-to:cc:to:from:subject:message-id:date:from:to :cc:subject:date:message-id:reply-to; bh=88/9KQvJ87hKu54Uw2SLMwe/6ptE3FN7RCE1sKleK80=; b=dMna/7s3gm+aqLbcxhN65WcOMcu2Sx0I70wkv/Wt7qtNp6x3ed0MKSh1tIFqgl6AN7 +Jn9YXx07kJ16VB1MKEElyceeGOzFiReFjiVMl9x5LyMYTcFJNof5jVUfR/qVjYkf05/ FhdDj/xTHYEjOzy95zyNtpqXhHuGViiQooGGE= X-Google-DKIM-Signature: v=1; a=rsa-sha256; c=relaxed/relaxed; d=1e100.net; s=20230601; t=1739232720; x=1739837520; h=references:in-reply-to:cc:to:from:subject:message-id:date :x-gm-message-state:from:to:cc:subject:date:message-id:reply-to; bh=88/9KQvJ87hKu54Uw2SLMwe/6ptE3FN7RCE1sKleK80=; b=dCnMuqj/rc08JfLNH1lRW71M8MlRyPamPYT08C7wO/2Aa9l8ahlteYG47Mz8jCukG5 bZQaRY9PZYCia5lVTZB7MplNHX4IEYdfv6VRgPzDZqSMtP+Q1196Q8vRNU907pjL6IJC KpxgbsHV+lGtCvC6KOejPgTdmwYZs9sRv3aY496lTXYyYxKqDglIpTWyNh4GBW7vvtNz B8/qzNn0E3CzlioVCTzqFh/5/DT7iCx6uLAGEn8vlOczGG1XIdulpstpXqujjIGbrdUc PX6Q9IyjLqfCfMZcdQTbzZlNm4I3QQXJD7aEOx5v2oW18Q7qH6ONk1W3WKx0DrsGJ39x 5qog== X-Gm-Message-State: AOJu0YxcLDflVdKbwSBIN776y+pIt6CDOm8Dz4dssCPN/uEE9t7rmgQC 1v1d4P3BdnFVNp0N3dJJHFYh7Vpyd2dhzOD+83XtuLO3v4S1M4BY+fGpCemj5bfZECN/VeZxVWj SIDAO/hucFxE8pY3N+VIuhSGC/cw4yYPsuxcVX29x X-Gm-Gg: ASbGncuVsr+Lac4ck1CyfHzjeB4PnbTzIPqMger9IzD2i2IuTJRK+vAsKl/8uQ+DqhO Up4+BpkpLDwkcZMQRlY326K9M+zU3xsb5gnoUmIDNPSj+MjEH878lZ53yAyS8ujOBggfpv04i68 aaO++ILilLEGkJHycDHDx36jEKtK4oh4h85nMSlzfROo2T+UY8SiTad2OJPRaWFVy6Tnflrm/gt bNCcI0PgTOuTAvPNlxt1/TXHvxfwFBydlljlZQwQRBWdp6xkRXlH8fhL8V1MlYgtHoIDr7Md/Ss GQ1AJDiJFmEAsl6SjFJekee/YCN+ng== X-Google-Smtp-Source: AGHT+IEMpSFVoXQFxGbRDNHv5/DTpD1SOnKy7geNkolV4EeYmABVmQv5Xh9N7sy9JdbKGfd48HVHeqPV2nb3 X-Received: by 2002:a05:6e02:3702:b0:3d0:285a:56b with SMTP id e9e14a558f8ab-3d13df2bbbcmr134922955ab.17.1739232719705; Mon, 10 Feb 2025 16:11:59 -0800 (PST) Received: from postal.iol.unh.edu (postal.iol.unh.edu. [132.177.123.84]) by smtp-relay.gmail.com with ESMTPS id e9e14a558f8ab-3d16050f8b0sm1905705ab.59.2025.02.10.16.11.59 (version=TLS1_2 cipher=ECDHE-ECDSA-AES128-GCM-SHA256 bits=128/128); Mon, 10 Feb 2025 16:11:59 -0800 (PST) X-Relaying-Domain: iol.unh.edu Date: Mon, 10 Feb 2025 16:11:59 -0800 (PST) Message-ID: <67aa95cf.050a0220.1f8ba.ad3aSMTPIN_ADDED_MISSING@mx.google.com> Received: from [172.21.0.5] (unknown [172.18.0.240]) by postal.iol.unh.edu (Postfix) with ESMTP id 323856052471; Mon, 10 Feb 2025 19:11:59 -0500 (EST) Subject: |SUCCESS| pw151282 [PATCH] [RFC] git: consolidate .gitignore files From: dpdklab@iol.unh.edu To: Test Report Cc: dpdk-test-reports@iol.unh.edu In-Reply-To: <20250210172050.8884-1-stephen@networkplumber.org> References: <20250210172050.8884-1-stephen@networkplumber.org> Content-Type: text/plain X-BeenThere: test-report@dpdk.org X-Mailman-Version: 2.1.29 Precedence: list List-Id: automatic DPDK test reports List-Unsubscribe: , List-Archive: List-Post: List-Help: List-Subscribe: , Errors-To: test-report-bounces@dpdk.org Test-Label: iol-sample-apps-testing Test-Status: SUCCESS http://dpdk.org/patch/151282 _Testing PASS_ Submitter: Stephen Hemminger Date: Monday, February 10 2025 17:20:49 DPDK git baseline: Repo:dpdk Branch: master CommitID:1f4fbb0ae68aeee517d491143bcd653ed527508f 151282 --> testing pass Upstream job id: ACVP-FIPS-testing#8866 Test environment and result as below: +--------------------+----------------------+----------------------+ | Environment | compressdev_zlib_pmd | dpdk_fips_validation | +====================+======================+======================+ | Ubuntu 22.04 (ARM) | PASS | SKIPPED | +--------------------+----------------------+----------------------+ | Ubuntu 22.04 | PASS | SKIPPED | +--------------------+----------------------+----------------------+ | Ubuntu 20.04 | SKIPPED | PASS | +--------------------+----------------------+----------------------+ Ubuntu 22.04 (ARM) Kernel: 5.15.0-97-generic Compiler: gcc gcc (Ubuntu 11.4.0-1ubuntu1~22.04) 11.4.0 Ubuntu 22.04 Kernel: 5.15.0-100-generic Compiler: gcc gcc (Ubuntu 11.4.0-1ubuntu1~22.04) 11.4.0 Ubuntu 20.04 Kernel: Depends on container host Compiler: gcc (Ubuntu 9.4.0-1ubuntu1~20.04.2) 9.4.0 To view detailed results, visit: https://lab.dpdk.org/results/dashboard/patchsets/32551/ UNH-IOL DPDK Community Lab To manage your email subscriptions, visit: https://lab.dpdk.org/results/dashboard/preferences/subscriptions/