From mboxrd@z Thu Jan 1 00:00:00 1970 Return-Path: Received: from mails.dpdk.org (mails.dpdk.org [217.70.189.124]) by inbox.dpdk.org (Postfix) with ESMTP id 3937F461EE for ; Tue, 11 Feb 2025 01:56:14 +0100 (CET) Received: from mails.dpdk.org (localhost [127.0.0.1]) by mails.dpdk.org (Postfix) with ESMTP id 12459402B1; Tue, 11 Feb 2025 01:56:14 +0100 (CET) Received: from mail-pj1-f100.google.com (mail-pj1-f100.google.com [209.85.216.100]) by mails.dpdk.org (Postfix) with ESMTP id 3E43C402AB for ; Tue, 11 Feb 2025 01:56:12 +0100 (CET) Received: by mail-pj1-f100.google.com with SMTP id 98e67ed59e1d1-2f9b9c0088fso7918745a91.0 for ; Mon, 10 Feb 2025 16:56:12 -0800 (PST) DKIM-Signature: v=1; a=rsa-sha256; c=relaxed/relaxed; d=iol.unh.edu; s=unh-iol; t=1739235371; x=1739840171; darn=dpdk.org; h=references:in-reply-to:cc:to:from:subject:message-id:date:from:to :cc:subject:date:message-id:reply-to; bh=N+s22fk+rYTbBQkD1g/gQESwZ/UiHFpLVrnpK/vO4AE=; b=hPUsUg/BUtK5t0C21KyJs+0FFzejpFT+zyR5zLCcFqEkeBFpLRUtSiRpGUmJ8djixd /Tk8mk37A+Gss84tfN5sc3HRJB1WSzDPoFx7uv2GaydcAt1wgo519pfCx6MsUIn8RNGw h/pYaZsUsBU4fR0/NdJnFM0tOlA/B7FA8HlWc= X-Google-DKIM-Signature: v=1; a=rsa-sha256; c=relaxed/relaxed; d=1e100.net; s=20230601; t=1739235371; x=1739840171; h=references:in-reply-to:cc:to:from:subject:message-id:date :x-gm-message-state:from:to:cc:subject:date:message-id:reply-to; bh=N+s22fk+rYTbBQkD1g/gQESwZ/UiHFpLVrnpK/vO4AE=; b=Ek41a079fRkp2hevFYtFOMxntZdZxBMEcHoDgywwiHYnhVInfXNaoy/EKW5ciagoom wyAVfMdC4dDp8djbY3JxcwT5G241jlTN7MZWBa3aMOV4nqG7IEyAsBTsgJAnJiftMgrI c19DjyUmis9aEaGK+TKShXe4p9Eh7QsnFvOJJqx9UV9HttPzporbHj36G8N+yrz4u8OR KtCeI2vTykJb4Ujhk8PytC3sYRcdsYPe8TX1Cj9LUaNjUJuuZ+Zp+EKhi0/SabOlt1JX uY+weXnlMYVhJiiP7tjEJVMIsljqolun9A/41CP72phIQ55/6DoeWTBuDDm73WrT5xg2 ZRVw== X-Gm-Message-State: AOJu0YyVt+j7LwzqfhAK6kRTW5+qS+qwXztcvjpSHFBb5apt3FJ41ReJ dX7sDDdP0AIz5l1xqyjVcRTKDNkh9Qve9V74tr/6SNk5GCsakOPnN+xNAujCzOppvf0OvFz4AfF cE+nX43mNY6F4LubqkhCszIEo0HeeiuBly0n219Yd X-Gm-Gg: ASbGncsbvBb45MqEoWp1+BJNqcJhuP9k4GXSR53KF7Foggr+ZOOuNpaq/cONNUqYkQ3 JYCjXoaYZi//VQndtoTgwMCv0cHq7a1EF+HFVQbdcw61fGPBRXKbYOpsKHB1TXRwUvYZFO5Jck0 WHq56+yQc6JZGb5zev6nh5TL63b0cASOLtuMHylM+4Gy7WBIgjFYez0B8j3GLWut/xRgFk/JQQW fLFYFuRtedM0co/8cfC5kipcVRgC6R1w6LGJmgmYBLPjT42QPSq1ADFUg5zP0QD2u24frOfR+kk ZKHL0Hd7fAHx/1xC68Uk2a5i4MVuPw== X-Google-Smtp-Source: AGHT+IHxkX2MZvaBkUjjF1M17VYtnkyDiSR+1YhyUcmxElUgmoEqM+VGd50JodkOE2JjJ4bes0ku8/g7OmWc X-Received: by 2002:a17:90b:4b0d:b0:2ee:c30f:33c9 with SMTP id 98e67ed59e1d1-2faa0960968mr2327838a91.14.1739235371343; Mon, 10 Feb 2025 16:56:11 -0800 (PST) Received: from postal.iol.unh.edu (postal.iol.unh.edu. [132.177.123.84]) by smtp-relay.gmail.com with ESMTPS id d9443c01a7336-21f3653bab3sm5802645ad.36.2025.02.10.16.56.11 (version=TLS1_2 cipher=ECDHE-ECDSA-AES128-GCM-SHA256 bits=128/128); Mon, 10 Feb 2025 16:56:11 -0800 (PST) X-Relaying-Domain: iol.unh.edu Date: Mon, 10 Feb 2025 16:56:11 -0800 (PST) Message-ID: <67aaa02b.170a0220.2a91d5.ed37SMTPIN_ADDED_MISSING@mx.google.com> Received: from [172.21.0.8] (unknown [172.18.0.240]) by postal.iol.unh.edu (Postfix) with ESMTP id 7EDE26052471; Mon, 10 Feb 2025 19:56:10 -0500 (EST) Subject: |SUCCESS| pw151281 [PATCH] drivers: fix build warnings when using ic From: dpdklab@iol.unh.edu To: Test Report Cc: dpdk-test-reports@iol.unh.edu In-Reply-To: <20250210171957.1670913-1-bruce.richardson@intel.com> References: <20250210171957.1670913-1-bruce.richardson@intel.com> Content-Type: text/plain X-BeenThere: test-report@dpdk.org X-Mailman-Version: 2.1.29 Precedence: list List-Id: automatic DPDK test reports List-Unsubscribe: , List-Archive: List-Post: List-Help: List-Subscribe: , Errors-To: test-report-bounces@dpdk.org Test-Label: iol-compile-arm64-testing Test-Status: SUCCESS http://dpdk.org/patch/151281 _Testing PASS_ Submitter: Bruce Richardson Date: Monday, February 10 2025 17:19:57 DPDK git baseline: Repo:dpdk Branch: master CommitID:4dc0eac848506d9365fc93fdd6f32f3fc81c00d1 151281 --> testing pass Upstream job id: Generic-DPDK-Compile-Meson#360284 Test environment and result as below: +----------------------------------------+--------------------+ | Environment | dpdk_meson_compile | +========================================+====================+ | RHEL9 (ARM) | PASS | +----------------------------------------+--------------------+ | Ubuntu 20.04 ARM SVE | PASS | +----------------------------------------+--------------------+ | Ubuntu 20.04 ARM GCC Cross Compile | PASS | +----------------------------------------+--------------------+ | Fedora 40 (ARM) | PASS | +----------------------------------------+--------------------+ | Fedora 41 (ARM Clang) | PASS | +----------------------------------------+--------------------+ | Ubuntu 20.04 (ARM) | PASS | +----------------------------------------+--------------------+ | Fedora 40 (ARM Clang) | PASS | +----------------------------------------+--------------------+ | Fedora 41 (ARM) | PASS | +----------------------------------------+--------------------+ | Ubuntu 22.04 (ARM) | PASS | +----------------------------------------+--------------------+ | Ubuntu 24.04 (ARM) | PASS | +----------------------------------------+--------------------+ | CentOS Stream 9 (ARM) | PASS | +----------------------------------------+--------------------+ | CentOS Stream 10 (ARM) | PASS | +----------------------------------------+--------------------+ | Debian 12 (arm) | PASS | +----------------------------------------+--------------------+ | Debian 11 (Buster) (ARM) | PASS | +----------------------------------------+--------------------+ | Ubuntu 20.04 ARM Clang Cross Compile | PASS | +----------------------------------------+--------------------+ | Ubuntu 20.04 aarch32 GCC Cross Compile | PASS | +----------------------------------------+--------------------+ | Debian 12 with MUSDK | PASS | +----------------------------------------+--------------------+ RHEL9 (ARM) Kernel: Depends on container host Compiler: gcc 11.5.0 20240719 (Red Hat 11.5.0-2) Ubuntu 20.04 ARM SVE Kernel: Depends on container host Compiler: gcc (Ubuntu 10.5.0-1ubuntu1~20.04) 10.5.0 Ubuntu 20.04 ARM GCC Cross Compile Kernel: Depends on container host Compiler: aarch64-linux-gnu-gcc (Ubuntu 9.4.0-1ubuntu1~20.04.2) 9.4.0 Fedora 40 (ARM) Kernel: Depends on container host Compiler: gcc 14.2.1 20240912 (Red Hat 14.2.1-3) Fedora 41 (ARM Clang) Kernel: Depends on container host Compiler: clang 19.1.5 (Fedora 19.1.5-1.fc41) Ubuntu 20.04 (ARM) Kernel: Depends on container host Compiler: gcc (Ubuntu 9.4.0-1ubuntu1~20.04.2) 9.4.0 Fedora 40 (ARM Clang) Kernel: Depends on container host Compiler: clang 18.1.8 (Fedora 18.1.8-1.fc40) Fedora 41 (ARM) Kernel: Depends on container host Compiler: gcc 14.2.1 20240912 (Red Hat 14.2.1-3) Ubuntu 22.04 (ARM) Kernel: Depends on container host Compiler: gcc (Ubuntu 11.4.0-1ubuntu1~22.04) 11.4.0 Ubuntu 24.04 (ARM) Kernel: Depends on container host Compiler: gcc (Ubuntu 13.3.0-6ubuntu2~24.04) 13.3.0 CentOS Stream 9 (ARM) Kernel: Depends on container host Compiler: gcc 11.5.0 20240719 (Red Hat 11.5.0-2) CentOS Stream 10 (ARM) Kernel: Depends on container host Compiler: gcc 14.2.1 20241104 (Red Hat 14.2.1-6) Debian 12 (arm) Kernel: Depends on container host Compiler: gcc (Debian 12.2.0-14) 12.2.0 Debian 11 (Buster) (ARM) Kernel: Depends on container host Compiler: gcc (Debian 10.2.1-6) 10.2.1 20210110 Ubuntu 20.04 ARM Clang Cross Compile Kernel: Depends on container host Compiler: clang 10.0.0-4ubuntu1 Ubuntu 20.04 aarch32 GCC Cross Compile Kernel: Depends on container host Compiler: gcc 9.4.0 Debian 12 with MUSDK Kernel: Depends on container host Compiler: gcc (Debian 12.2.0-14) 12.2.0 To view detailed results, visit: https://lab.dpdk.org/results/dashboard/patchsets/32550/ UNH-IOL DPDK Community Lab To manage your email subscriptions, visit: https://lab.dpdk.org/results/dashboard/preferences/subscriptions/