From mboxrd@z Thu Jan 1 00:00:00 1970 Return-Path: Received: from mails.dpdk.org (mails.dpdk.org [217.70.189.124]) by inbox.dpdk.org (Postfix) with ESMTP id B8187461EF for ; Tue, 11 Feb 2025 02:00:32 +0100 (CET) Received: from mails.dpdk.org (localhost [127.0.0.1]) by mails.dpdk.org (Postfix) with ESMTP id A3512402B1; Tue, 11 Feb 2025 02:00:32 +0100 (CET) Received: from mail-il1-f227.google.com (mail-il1-f227.google.com [209.85.166.227]) by mails.dpdk.org (Postfix) with ESMTP id D6C13402AB for ; Tue, 11 Feb 2025 02:00:31 +0100 (CET) Received: by mail-il1-f227.google.com with SMTP id e9e14a558f8ab-3d149f4c64aso9460955ab.0 for ; Mon, 10 Feb 2025 17:00:31 -0800 (PST) DKIM-Signature: v=1; a=rsa-sha256; c=relaxed/relaxed; d=iol.unh.edu; s=unh-iol; t=1739235631; x=1739840431; darn=dpdk.org; h=references:in-reply-to:cc:to:from:subject:message-id:date:from:to :cc:subject:date:message-id:reply-to; bh=jPhukxtz9vCQsncN+QO6ytPlp7bcR7vA2VUFh8OTWsY=; b=JjFSm8lgF62ak7GNysOVP02NI75cwNLy5r7VtpZwROGm5lKfRHOKugVJArFLUvkiNi kJlhLuAs3jbGPinrwWu7hMcJ29F9AQGx66JIWulKY3E8LjWP6suDh5adxvvbGhr12gic H9N4K2n6tFy5tRYKZeWPSEIDmsRzrrSfa6bdQ= X-Google-DKIM-Signature: v=1; a=rsa-sha256; c=relaxed/relaxed; d=1e100.net; s=20230601; t=1739235631; x=1739840431; h=references:in-reply-to:cc:to:from:subject:message-id:date :x-gm-message-state:from:to:cc:subject:date:message-id:reply-to; bh=jPhukxtz9vCQsncN+QO6ytPlp7bcR7vA2VUFh8OTWsY=; b=gycUx4qbucl6ed2wDsYrnOobNRj1u+bgaTvppxjezwHE790JG3MFQ//7ORJjYBCyTp eSYyAB8qXLX06EeODTL/9AoqIh9MEvxwJLv8GZ5JN9lC8k8/8UzkNpFQUm8ZZYg/FW7Y uzC9acG+14Hyw62D+Afjcn4bsDsadka8esDFvLj1s6twQADJYfmeIjGM9Dd/c+oopM9U xEoMJBPps9UgQSiPeL7uk9v8oNB8jBTYX9zjwUr3I87o/P4+53EfjO7gN/Sfp72etCOq 8hLPibXWktIaQXN7H6THk2amZZaFAjsGAdLUXZm5YKL2lTYpOWz8pQYC7OIzq6ufaTvH Y2Rg== X-Gm-Message-State: AOJu0YwaeXLSbvJyMWB+72T4HjZi8OnmtiIqbx1Z7SaSuFEn7fRfeXDp nRPZ2uCqrPHKrYl0jKCrRKu9xf9bHqbYT5/8lc/6VOIHfdgUVMVzP46n0VXDJIUnHLXaOjfGrh8 /XSi5no0l6ptgfLNKsOokKxfIQ/0rGA9/SUwF/2D1 X-Gm-Gg: ASbGncuIGzUApyx6ngEvCNj0evakvCwmTVQqK2dLUpv8n2qNWnqXQWkj7ZzBKdzVISz Lzp86LLQAkkL1+bViws2KNZeJsnJjpNBWT2YPE9BGYNeCvLHe4E+0z8n7ISCsgq6GcEc/qbaVSD /LTfTkekqrax21ofar9091/fsUBw+3or0v3+3LD3euxntM3IHWqriqI7lf8sgMpX8Bfev6AtW04 D3xt7KiwPi/6uG/WuABmEAY/N07qblVvAqc+CVmFDDaNoEq4iBe/xQobXRmSA2rwKOp/T2bFNcx 88Rgkj7ow9ebpJxFxpP/+AxW4G8vBw== X-Google-Smtp-Source: AGHT+IGCSU64pbETrttr3KSuEW0nDV7+ksG0YQPkjHTOCYnfGYJJlBP7jL/sXEPqQNRSgtu61L5Ol8WBVrkh X-Received: by 2002:a05:6e02:1b0e:b0:3cf:cac9:b02d with SMTP id e9e14a558f8ab-3d13dd609b2mr124736865ab.8.1739235631187; Mon, 10 Feb 2025 17:00:31 -0800 (PST) Received: from postal.iol.unh.edu (postal.iol.unh.edu. [132.177.123.84]) by smtp-relay.gmail.com with ESMTPS id 8926c6da1cb9f-4ecf060142bsm252456173.26.2025.02.10.17.00.31 (version=TLS1_2 cipher=ECDHE-ECDSA-AES128-GCM-SHA256 bits=128/128); Mon, 10 Feb 2025 17:00:31 -0800 (PST) X-Relaying-Domain: iol.unh.edu Date: Mon, 10 Feb 2025 17:00:31 -0800 (PST) Message-ID: <67aaa12f.050a0220.75d8d.dcbfSMTPIN_ADDED_MISSING@mx.google.com> Received: from [172.21.0.5] (unknown [172.18.0.240]) by postal.iol.unh.edu (Postfix) with ESMTP id A56876052471; Mon, 10 Feb 2025 20:00:30 -0500 (EST) Subject: |SUCCESS| pw151280 [PATCH] [v3] build: replace support for icc with From: dpdklab@iol.unh.edu To: Test Report Cc: dpdk-test-reports@iol.unh.edu In-Reply-To: <20250210171845.1669874-1-bruce.richardson@intel.com> References: <20250210171845.1669874-1-bruce.richardson@intel.com> Content-Type: text/plain X-BeenThere: test-report@dpdk.org X-Mailman-Version: 2.1.29 Precedence: list List-Id: automatic DPDK test reports List-Unsubscribe: , List-Archive: List-Post: List-Help: List-Subscribe: , Errors-To: test-report-bounces@dpdk.org Test-Label: iol-abi-testing Test-Status: SUCCESS http://dpdk.org/patch/151280 _Testing PASS_ Submitter: Bruce Richardson Date: Monday, February 10 2025 17:18:42 DPDK git baseline: Repo:dpdk Branch: master CommitID:7587660f199266ce45aabb8c2259dd09452cb01d 151280 --> testing pass Upstream job id: Generic-DPDK-Compile-ABI#115715 Test environment and result as below: +-------------------+----------+ | Environment | abi_test | +===================+==========+ | CentOS Stream 9 | PASS | +-------------------+----------+ | CentOS Stream 10 | PASS | +-------------------+----------+ | Debian Bullseye | PASS | +-------------------+----------+ | Debian 12 | PASS | +-------------------+----------+ | Fedora 40 (Clang) | PASS | +-------------------+----------+ | Fedora 41 | PASS | +-------------------+----------+ | Fedora 40 | PASS | +-------------------+----------+ | Fedora 41 (Clang) | PASS | +-------------------+----------+ | openSUSE Leap 15 | PASS | +-------------------+----------+ | RHEL8 | PASS | +-------------------+----------+ | RHEL9 | PASS | +-------------------+----------+ | Ubuntu 22.04 | PASS | +-------------------+----------+ | Ubuntu 24.04 | PASS | +-------------------+----------+ CentOS Stream 9 Kernel: Depends on container host Compiler: gcc 11.5.0 20240719 (Red Hat 11.5.0-2) CentOS Stream 10 Kernel: Depends on container host Compiler: gcc 14.2.1 20241104 (Red Hat 14.2.1-6) Debian Bullseye Kernel: Depends on container host Compiler: gcc (Debian 10.2.1-6) 10.2.1 20210110 Debian 12 Kernel: Depends on container host Compiler: gcc (Debian 12.2.0-14) 12.2.0 Fedora 40 (Clang) Kernel: Depends on container host Compiler: clang 18.1.8 (Fedora 18.1.8-1.fc40) Fedora 41 Kernel: Depends on container host Compiler: gcc 14.2.1 20240912 (Red Hat 14.2.1-3) Fedora 40 Kernel: Depends on container host Compiler: gcc 14.2.1 20240912 (Red Hat 14.2.1-3) Fedora 41 (Clang) Kernel: Depends on container host Compiler: clang 19.1.5 (Fedora 19.1.5-1.fc41) openSUSE Leap 15 Kernel: Depends on container host Compiler: gcc (SUSE Linux) 7.5.0 RHEL8 Kernel: Depends on container host Compiler: gcc 8.5.0 20210514 (Red Hat 8.5.0-22) RHEL9 Kernel: Depends on container host Compiler: gcc 11.5.0 20240719 (Red Hat 11.5.0-2) Ubuntu 22.04 Kernel: Depends on container host Compiler: gcc (Ubuntu 11.4.0-1ubuntu1~22.04) 11.4.0 Ubuntu 24.04 Kernel: Depends on container host Compiler: gcc (Ubuntu 13.3.0-6ubuntu2~24.04) 13.3.0 To view detailed results, visit: https://lab.dpdk.org/results/dashboard/patchsets/32549/ UNH-IOL DPDK Community Lab To manage your email subscriptions, visit: https://lab.dpdk.org/results/dashboard/preferences/subscriptions/