From: dpdklab@iol.unh.edu
To: Test Report <test-report@dpdk.org>
Cc: dpdk-test-reports@iol.unh.edu
Subject: |SUCCESS| pw151291-151295 [PATCH] [v3,5/5] eal/x86: defer power intr
Date: Mon, 10 Feb 2025 17:55:23 -0800 (PST) [thread overview]
Message-ID: <67aaae0b.050a0220.2eb914.3724SMTPIN_ADDED_MISSING@mx.google.com> (raw)
In-Reply-To: <20250210213158.4165701-6-david.marchand@redhat.com>
Test-Label: iol-compile-amd64-testing
Test-Status: SUCCESS
http://dpdk.org/patch/151295
_Testing PASS_
Submitter: David Marchand <david.marchand@redhat.com>
Date: Monday, February 10 2025 21:31:58
DPDK git baseline: Repo:dpdk
Branch: master
CommitID:99cc389af4e16011c821cabb867e6646357f429d
151291-151295 --> testing pass
Upstream job id: Generic-VM-DPDK-Compile-Meson#33216
Test environment and result as below:
+---------------------+--------------------+-------------------+
| Environment | dpdk_meson_compile | dpdk_msvc_compile |
+=====================+====================+===================+
| FreeBSD 13.4 | PASS | SKIPPED |
+---------------------+--------------------+-------------------+
| FreeBSD 14.2 | PASS | SKIPPED |
+---------------------+--------------------+-------------------+
| Windows Server 2022 | SKIPPED | PASS |
+---------------------+--------------------+-------------------+
FreeBSD 13.4
Kernel: 13.4-RELEASE-p1
Compiler: clang 18.1.6
FreeBSD 14.2
Kernel: 14.2-RELEASE
Compiler: clang 18.1.6
Windows Server 2022
Kernel: 10.0.20348.2031
Compiler: clang 15.0.7, gcc 14.1.0 (MinGW), and MSVC VS 19.39.33521
To view detailed results, visit:
https://lab.dpdk.org/results/dashboard/patchsets/32555/
UNH-IOL DPDK Community Lab
To manage your email subscriptions, visit:
https://lab.dpdk.org/results/dashboard/preferences/subscriptions/
next prev parent reply other threads:[~2025-02-11 1:55 UTC|newest]
Thread overview: 19+ messages / expand[flat|nested] mbox.gz Atom feed top
[not found] <20250210213158.4165701-6-david.marchand@redhat.com>
2025-02-10 21:03 ` |SUCCESS| pw151291-151295 [PATCH v3 5/5] eal/x86: defer power intrinsics variable allocation qemudev
2025-02-10 21:08 ` qemudev
2025-02-10 21:32 ` |SUCCESS| pw151295 " checkpatch
2025-02-10 22:45 ` 0-day Robot
2025-02-11 0:11 ` |SUCCESS| pw151291-151295 [PATCH] [v3,5/5] eal/x86: defer power intr dpdklab
2025-02-11 0:23 ` dpdklab
2025-02-11 0:24 ` dpdklab
2025-02-11 0:26 ` dpdklab
2025-02-11 0:27 ` dpdklab
2025-02-11 0:30 ` dpdklab
2025-02-11 0:58 ` dpdklab
2025-02-11 1:52 ` |PENDING| " dpdklab
2025-02-11 1:55 ` dpdklab [this message]
2025-02-11 2:01 ` dpdklab
2025-02-11 2:54 ` dpdklab
2025-02-11 3:12 ` |SUCCESS| " dpdklab
2025-02-11 5:21 ` dpdklab
2025-02-11 5:41 ` dpdklab
2025-02-11 7:11 ` dpdklab
Reply instructions:
You may reply publicly to this message via plain-text email
using any one of the following methods:
* Save the following mbox file, import it into your mail client,
and reply-to-all from there: mbox
Avoid top-posting and favor interleaved quoting:
https://en.wikipedia.org/wiki/Posting_style#Interleaved_style
* Reply using the --to, --cc, and --in-reply-to
switches of git-send-email(1):
git send-email \
--in-reply-to=67aaae0b.050a0220.2eb914.3724SMTPIN_ADDED_MISSING@mx.google.com \
--to=dpdklab@iol.unh.edu \
--cc=dpdk-test-reports@iol.unh.edu \
--cc=test-report@dpdk.org \
/path/to/YOUR_REPLY
https://kernel.org/pub/software/scm/git/docs/git-send-email.html
* If your mail client supports setting the In-Reply-To header
via mailto: links, try the mailto: link
Be sure your reply has a Subject: header at the top and a blank line
before the message body.
This is a public inbox, see mirroring instructions
for how to clone and mirror all data and code used for this inbox;
as well as URLs for NNTP newsgroup(s).