From mboxrd@z Thu Jan 1 00:00:00 1970 Return-Path: Received: from mails.dpdk.org (mails.dpdk.org [217.70.189.124]) by inbox.dpdk.org (Postfix) with ESMTP id 93190461EF for ; Tue, 11 Feb 2025 02:55:25 +0100 (CET) Received: from mails.dpdk.org (localhost [127.0.0.1]) by mails.dpdk.org (Postfix) with ESMTP id 76EB3402B1; Tue, 11 Feb 2025 02:55:25 +0100 (CET) Received: from mail-qk1-f227.google.com (mail-qk1-f227.google.com [209.85.222.227]) by mails.dpdk.org (Postfix) with ESMTP id A592E402AB for ; Tue, 11 Feb 2025 02:55:24 +0100 (CET) Received: by mail-qk1-f227.google.com with SMTP id af79cd13be357-7c068097157so70352385a.1 for ; Mon, 10 Feb 2025 17:55:24 -0800 (PST) DKIM-Signature: v=1; a=rsa-sha256; c=relaxed/relaxed; d=iol.unh.edu; s=unh-iol; t=1739238924; x=1739843724; darn=dpdk.org; h=references:in-reply-to:cc:to:from:subject:message-id:date:from:to :cc:subject:date:message-id:reply-to; bh=WKPnJbRyRc/upd+rOLBS50Zw+vEc0vDrDPd8Yav/eQQ=; b=hWszZ87tQh2iT2cNBe1+6JptQs7Uu5MAi2aEPTSeHCYaW1ufossnC+RXLaNTCZyfgi xyLY+ZGkMhUwFEF0cdm69Jlqb5P+gfPC3pAUKcn2WJIEL8+FkntdkXYu/6vqZoKOg6yJ 8PPTgvtgVHiFLqiW+SqAFjeCsbUZxxDa6i760= X-Google-DKIM-Signature: v=1; a=rsa-sha256; c=relaxed/relaxed; d=1e100.net; s=20230601; t=1739238924; x=1739843724; h=references:in-reply-to:cc:to:from:subject:message-id:date :x-gm-message-state:from:to:cc:subject:date:message-id:reply-to; bh=WKPnJbRyRc/upd+rOLBS50Zw+vEc0vDrDPd8Yav/eQQ=; b=ESuObrWyGTnqeL0YnBjWlUHssDkxkbJnI7FHX4A2aQhzfiKtJyy29OiMihCyRSCSTX CQOBPUaZCvTzMbjzMbpHOLutoSkigbWnhRY8dTiJ9QcOn25F4Ub38hpQvMWc95wAgzzl KeFEcd66seJNJTtLpZglONewMiTzOlHqlB9K+fBVvieDTIlW8TgZ1JU6x7NZUA+pPQLB kzROltFsiJpzMWVCIXO0byEpnqKefX01oav/legvwyiFOTCH6c+qeQ21a89aO5cgo17l o1E6dSlF6nIdfKLHGigOl6el+Vzr5M2ahkWorUqNz+h1ywdlBhU1a0VHz9fNE8hHbqrX qiiw== X-Gm-Message-State: AOJu0Yz+D41bFZ14PsDePz+oFggbyRpRPKygFkjIj0OypUfWEddpbQbH /22EDOv5cUXJckQR47Hyq5Ah+slxExQ+j9wYbSyDAFT9l9xhMwvu0JiBPfLDRgLktAGJmtyHZUj dBLrQlfaVSbzWZRW921VtSZI6qY1vG16kJHprN9x1Ha5GNgHPS8bCnpag X-Gm-Gg: ASbGncuPXrc8IyY26/XFZ0t+gv2VlpvYDXn3qIbXkTJJz2r5+z9isOjSz9ZBOI7mrx2 i/lDqc078LHqI//zclyrUZ9h0q+Mg8q257/35JoyteEfXKb/Bwal7YGaFkjl0HA+X3LMnt1gPso 8oULGTDr++pPyzR9vZJPAqkDaxTQIE2diuJFE0qhKpfqcYFr9PnAVFwEPvbF7bPuJxFqh7ZguVd X8iAGR5BCxgJG980Cuu05aaElAwQWvlShRO8cuMMWJ5H0uWQaSt1fgfxozdBEybbBToDdtAxbfQ IrV2LzCuuQZ0MXsqCZT8tx6MZO8RiH7rt3ugp7lxLg== X-Google-Smtp-Source: AGHT+IGH2/s+i4rr2OwylTDRkNi1R356u0D3W2ySTOnHMpK02HwWtthAYbhcjylCH3TpHiD9kQN3el41SHkQ X-Received: by 2002:a05:620a:1a28:b0:7b6:d7be:2e4 with SMTP id af79cd13be357-7c0690f6fc4mr255154185a.26.1739238923966; Mon, 10 Feb 2025 17:55:23 -0800 (PST) Received: from postal.iol.unh.edu (postal.iol.unh.edu. [2606:4100:3880:1234::84]) by smtp-relay.gmail.com with ESMTPS id 6a1803df08f44-6e4546c89b0sm3636416d6.14.2025.02.10.17.55.23 (version=TLS1_2 cipher=ECDHE-ECDSA-AES128-GCM-SHA256 bits=128/128); Mon, 10 Feb 2025 17:55:23 -0800 (PST) X-Relaying-Domain: iol.unh.edu Date: Mon, 10 Feb 2025 17:55:23 -0800 (PST) Message-ID: <67aaae0b.050a0220.2eb914.3724SMTPIN_ADDED_MISSING@mx.google.com> Received: from [172.21.0.8] (unknown [172.18.0.240]) by postal.iol.unh.edu (Postfix) with ESMTP id A013C6052471; Mon, 10 Feb 2025 20:55:23 -0500 (EST) Subject: |SUCCESS| pw151291-151295 [PATCH] [v3,5/5] eal/x86: defer power intr From: dpdklab@iol.unh.edu To: Test Report Cc: dpdk-test-reports@iol.unh.edu In-Reply-To: <20250210213158.4165701-6-david.marchand@redhat.com> References: <20250210213158.4165701-6-david.marchand@redhat.com> Content-Type: text/plain X-BeenThere: test-report@dpdk.org X-Mailman-Version: 2.1.29 Precedence: list List-Id: automatic DPDK test reports List-Unsubscribe: , List-Archive: List-Post: List-Help: List-Subscribe: , Errors-To: test-report-bounces@dpdk.org Test-Label: iol-compile-amd64-testing Test-Status: SUCCESS http://dpdk.org/patch/151295 _Testing PASS_ Submitter: David Marchand Date: Monday, February 10 2025 21:31:58 DPDK git baseline: Repo:dpdk Branch: master CommitID:99cc389af4e16011c821cabb867e6646357f429d 151291-151295 --> testing pass Upstream job id: Generic-VM-DPDK-Compile-Meson#33216 Test environment and result as below: +---------------------+--------------------+-------------------+ | Environment | dpdk_meson_compile | dpdk_msvc_compile | +=====================+====================+===================+ | FreeBSD 13.4 | PASS | SKIPPED | +---------------------+--------------------+-------------------+ | FreeBSD 14.2 | PASS | SKIPPED | +---------------------+--------------------+-------------------+ | Windows Server 2022 | SKIPPED | PASS | +---------------------+--------------------+-------------------+ FreeBSD 13.4 Kernel: 13.4-RELEASE-p1 Compiler: clang 18.1.6 FreeBSD 14.2 Kernel: 14.2-RELEASE Compiler: clang 18.1.6 Windows Server 2022 Kernel: 10.0.20348.2031 Compiler: clang 15.0.7, gcc 14.1.0 (MinGW), and MSVC VS 19.39.33521 To view detailed results, visit: https://lab.dpdk.org/results/dashboard/patchsets/32555/ UNH-IOL DPDK Community Lab To manage your email subscriptions, visit: https://lab.dpdk.org/results/dashboard/preferences/subscriptions/