From mboxrd@z Thu Jan 1 00:00:00 1970 Return-Path: Received: from mails.dpdk.org (mails.dpdk.org [217.70.189.124]) by inbox.dpdk.org (Postfix) with ESMTP id EE0DB461EF for ; Tue, 11 Feb 2025 02:58:32 +0100 (CET) Received: from mails.dpdk.org (localhost [127.0.0.1]) by mails.dpdk.org (Postfix) with ESMTP id D05EE402B1; Tue, 11 Feb 2025 02:58:32 +0100 (CET) Received: from mail-il1-f228.google.com (mail-il1-f228.google.com [209.85.166.228]) by mails.dpdk.org (Postfix) with ESMTP id 04B51402AB for ; Tue, 11 Feb 2025 02:58:32 +0100 (CET) Received: by mail-il1-f228.google.com with SMTP id e9e14a558f8ab-3d051dca3b6so19211725ab.1 for ; Mon, 10 Feb 2025 17:58:31 -0800 (PST) DKIM-Signature: v=1; a=rsa-sha256; c=relaxed/relaxed; d=iol.unh.edu; s=unh-iol; t=1739239111; x=1739843911; darn=dpdk.org; h=references:in-reply-to:cc:to:from:subject:message-id:date:from:to :cc:subject:date:message-id:reply-to; bh=NT/QXjZxxIMOJPIRulkbUTTHtL0WJ5MKmMe3pWNei8Q=; b=Ek9uUDs/DW/3IMdVFzGHwjohvEJfLrB9UVfdVznuxIRsjz/BD42KoZL+YthPJOmRzl r+uLwiRTD0lwfPp13GxnKV+Ko4fpBZmuMoZdX8o/dLDU9SzCTE0Pqotb8XdOh4IJ7a7U cpAb4tyE8FX/nFx9wQbdkwusqdZH+TBXCF1p0= X-Google-DKIM-Signature: v=1; a=rsa-sha256; c=relaxed/relaxed; d=1e100.net; s=20230601; t=1739239111; x=1739843911; h=references:in-reply-to:cc:to:from:subject:message-id:date :x-gm-message-state:from:to:cc:subject:date:message-id:reply-to; bh=NT/QXjZxxIMOJPIRulkbUTTHtL0WJ5MKmMe3pWNei8Q=; b=iQ10B0vXUejJgmmi4YobcxkdJVMuI2bJVxRPHeZ5vniIk0UwUNPPCeJ4/xp3+LqqyH hXoCDNCgpPeLN6Suk7Lz2tygHY9y3PiCgY1HBi0ABBybuufW/u7ztJKbqiSwgupVphOF sHfVC7A1/RNxRPLOdkIRGhbCwVahKMEpqCZ2R+oQiNynYuo1ldgniVyJHQ/1sKFG0fPx WNioyX5q1pp1KvsEzG+96IBhWaNXjZiKGE+QJ9xs+X6r+mu+zVViq0g4wD1kjyxpCP/D usJsXxUMUnaMRHKfIfChUrR7kdPbr/Dwqhpu/DJYI5KJM3VvBqEYdaUcmJwZWW74hpZf 7WeA== X-Gm-Message-State: AOJu0YwiT2uHgHAbSd48SFVqGayyuY/E9bzYcoMIJx47QqLXeeWem5tp 7gQH1CuE+Si6FgAmegec7jjf82A4abEqCqfp8vLHkaMY4w5KIKKabig2T6rRJpwCa3oDwcfo0zA cqF/yF6KjBb/ETMUfTsTDviBUfEaKjlVoKzKVt0M3rdtqqdxH7y9IVoZv X-Gm-Gg: ASbGncsHhIRsbsFfEMxYlq2WS332TacJNEktibVeJvo19HIZVo4RUNhEZFiC1uHgK4I qkzEGz4D2hhAGutrgDijt7JOHyBrJ0popz6xWiZMkc7LHcw3jk8Sv5a95yImj4oq7PE3PDwWtwG G43ivHwhFL7lpEHsZsQto464LAksVMg41pazeuDM+3RHwQwBSp9mJfnRMvu6q2LtY671Dcs831A MYp5TEVot7d9rsc+aeb+hxvEi9Vghog1wEgJVUVxaXroUOlOwPrWvEJeeniW07+EYdPNdhHlQCR pubDai5K2BQrjotdz7GDRiVFf/lpCqm3K2RmB3B7zQ== X-Google-Smtp-Source: AGHT+IGeK+ZEv4GPoPpM/Aj9XmqKBKqHJYd0t7ExVSH047yf1arvpX6MaO8NmZpL3piI7uJfMOcNpm5cKdQM X-Received: by 2002:a05:6e02:1b0e:b0:3cf:cac9:b02d with SMTP id e9e14a558f8ab-3d13dd609b2mr125885375ab.8.1739239111312; Mon, 10 Feb 2025 17:58:31 -0800 (PST) Received: from postal.iol.unh.edu (postal.iol.unh.edu. [2606:4100:3880:1234::84]) by smtp-relay.gmail.com with ESMTPS id e9e14a558f8ab-3d160cbe8d5sm1973325ab.17.2025.02.10.17.58.31 (version=TLS1_2 cipher=ECDHE-ECDSA-AES128-GCM-SHA256 bits=128/128); Mon, 10 Feb 2025 17:58:31 -0800 (PST) X-Relaying-Domain: iol.unh.edu Date: Mon, 10 Feb 2025 17:58:31 -0800 (PST) Message-ID: <67aaaec7.050a0220.1199c1.a89eSMTPIN_ADDED_MISSING@mx.google.com> Received: from [172.21.0.5] (unknown [172.18.0.240]) by postal.iol.unh.edu (Postfix) with ESMTP id BD9BE6052471; Mon, 10 Feb 2025 20:58:30 -0500 (EST) Subject: |SUCCESS| pw151280 [PATCH] [v3] build: replace support for icc with From: dpdklab@iol.unh.edu To: Test Report Cc: dpdk-test-reports@iol.unh.edu In-Reply-To: <20250210171845.1669874-1-bruce.richardson@intel.com> References: <20250210171845.1669874-1-bruce.richardson@intel.com> Content-Type: text/plain X-BeenThere: test-report@dpdk.org X-Mailman-Version: 2.1.29 Precedence: list List-Id: automatic DPDK test reports List-Unsubscribe: , List-Archive: List-Post: List-Help: List-Subscribe: , Errors-To: test-report-bounces@dpdk.org Test-Label: iol-unit-arm64-testing Test-Status: SUCCESS http://dpdk.org/patch/151280 _Testing PASS_ Submitter: Bruce Richardson Date: Monday, February 10 2025 17:18:42 DPDK git baseline: Repo:dpdk Branch: master CommitID:7587660f199266ce45aabb8c2259dd09452cb01d 151280 --> testing pass Upstream job id: Generic-Unit-Test-DPDK#313816 Test environment and result as below: +-----------------------------+----------------+--------------+---------------------------+------------------------------+ | Environment | dpdk_unit_test | lpm_autotest | cryptodev_sw_zuc_autotest | cryptodev_sw_snow3g_autotest | +=============================+================+==============+===========================+==============================+ | 32-bit Ubuntu 22.04.4 (ARM) | PASS | SKIPPED | SKIPPED | SKIPPED | +-----------------------------+----------------+--------------+---------------------------+------------------------------+ | CentOS Stream 10 (ARM) | PASS | SKIPPED | SKIPPED | SKIPPED | +-----------------------------+----------------+--------------+---------------------------+------------------------------+ | Debian 11 (Buster) (ARM) | PASS | SKIPPED | SKIPPED | SKIPPED | +-----------------------------+----------------+--------------+---------------------------+------------------------------+ | CentOS Stream 9 (ARM) | PASS | SKIPPED | SKIPPED | SKIPPED | +-----------------------------+----------------+--------------+---------------------------+------------------------------+ | Debian 12 (arm) | PASS | SKIPPED | PASS | PASS | +-----------------------------+----------------+--------------+---------------------------+------------------------------+ | Fedora 40 (ARM Clang) | PASS | SKIPPED | SKIPPED | SKIPPED | +-----------------------------+----------------+--------------+---------------------------+------------------------------+ | Fedora 41 (ARM) | PASS | SKIPPED | SKIPPED | SKIPPED | +-----------------------------+----------------+--------------+---------------------------+------------------------------+ | Fedora 40 (ARM) | PASS | SKIPPED | SKIPPED | SKIPPED | +-----------------------------+----------------+--------------+---------------------------+------------------------------+ | Ubuntu 20.04 (ARM) | PASS | SKIPPED | SKIPPED | SKIPPED | +-----------------------------+----------------+--------------+---------------------------+------------------------------+ | Fedora 41 (ARM Clang) | PASS | SKIPPED | SKIPPED | SKIPPED | +-----------------------------+----------------+--------------+---------------------------+------------------------------+ | RHEL9 (ARM) | PASS | SKIPPED | SKIPPED | SKIPPED | +-----------------------------+----------------+--------------+---------------------------+------------------------------+ | Ubuntu 22.04 (ARM) | PASS | SKIPPED | SKIPPED | SKIPPED | +-----------------------------+----------------+--------------+---------------------------+------------------------------+ | Ubuntu 24.04 (ARM) | PASS | SKIPPED | SKIPPED | SKIPPED | +-----------------------------+----------------+--------------+---------------------------+------------------------------+ | Ubuntu 20.04 ARM SVE | SKIPPED | PASS | SKIPPED | SKIPPED | +-----------------------------+----------------+--------------+---------------------------+------------------------------+ 32-bit Ubuntu 22.04.4 (ARM) Kernel: 5.15.83+ aarch64 Compiler: gcc (Ubuntu 11.4.0-1ubuntu1~22.04) 11.4.0 CentOS Stream 10 (ARM) Kernel: Depends on container host Compiler: gcc 14.2.1 20241104 (Red Hat 14.2.1-6) Debian 11 (Buster) (ARM) Kernel: Depends on container host Compiler: gcc (Debian 10.2.1-6) 10.2.1 20210110 CentOS Stream 9 (ARM) Kernel: Depends on container host Compiler: gcc 11.5.0 20240719 (Red Hat 11.5.0-2) Debian 12 (arm) Kernel: Depends on container host Compiler: gcc (Debian 12.2.0-14) 12.2.0 Fedora 40 (ARM Clang) Kernel: Depends on container host Compiler: clang 18.1.8 (Fedora 18.1.8-1.fc40) Fedora 41 (ARM) Kernel: Depends on container host Compiler: gcc 14.2.1 20240912 (Red Hat 14.2.1-3) Fedora 40 (ARM) Kernel: Depends on container host Compiler: gcc 14.2.1 20240912 (Red Hat 14.2.1-3) Ubuntu 20.04 (ARM) Kernel: Depends on container host Compiler: gcc (Ubuntu 9.4.0-1ubuntu1~20.04.2) 9.4.0 Fedora 41 (ARM Clang) Kernel: Depends on container host Compiler: clang 19.1.5 (Fedora 19.1.5-1.fc41) RHEL9 (ARM) Kernel: Depends on container host Compiler: gcc 11.5.0 20240719 (Red Hat 11.5.0-2) Ubuntu 22.04 (ARM) Kernel: Depends on container host Compiler: gcc (Ubuntu 11.4.0-1ubuntu1~22.04) 11.4.0 Ubuntu 24.04 (ARM) Kernel: Depends on container host Compiler: gcc (Ubuntu 13.3.0-6ubuntu2~24.04) 13.3.0 Ubuntu 20.04 ARM SVE Kernel: Depends on container host Compiler: gcc (Ubuntu 10.5.0-1ubuntu1~20.04) 10.5.0 To view detailed results, visit: https://lab.dpdk.org/results/dashboard/patchsets/32549/ UNH-IOL DPDK Community Lab To manage your email subscriptions, visit: https://lab.dpdk.org/results/dashboard/preferences/subscriptions/