From mboxrd@z Thu Jan 1 00:00:00 1970 Return-Path: Received: from mails.dpdk.org (mails.dpdk.org [217.70.189.124]) by inbox.dpdk.org (Postfix) with ESMTP id D1EE5461EF for ; Tue, 11 Feb 2025 03:15:34 +0100 (CET) Received: from mails.dpdk.org (localhost [127.0.0.1]) by mails.dpdk.org (Postfix) with ESMTP id A9703402B1; Tue, 11 Feb 2025 03:15:34 +0100 (CET) Received: from mail-pl1-f227.google.com (mail-pl1-f227.google.com [209.85.214.227]) by mails.dpdk.org (Postfix) with ESMTP id B32C4402AB for ; Tue, 11 Feb 2025 03:15:32 +0100 (CET) Received: by mail-pl1-f227.google.com with SMTP id d9443c01a7336-21c2f1b610dso122768645ad.0 for ; Mon, 10 Feb 2025 18:15:32 -0800 (PST) DKIM-Signature: v=1; a=rsa-sha256; c=relaxed/relaxed; d=iol.unh.edu; s=unh-iol; t=1739240132; x=1739844932; darn=dpdk.org; h=references:in-reply-to:cc:to:from:subject:message-id:date:from:to :cc:subject:date:message-id:reply-to; bh=IBxM7SgiAUSqUKJsxjd8X+RuAfVsSHggPlVRnAsyPDI=; b=MV/35TqoBECyY9w5a49oC37iu4uNUy3dbFWH4IE3BNCdl8yHDSfpIV3wS8XYCKv4Nu h1+Uug/Yq+ggBKN5eNJus+aS5HX7LKSKGIjT8tsg+2IljR0tKW89/ZRTOBZOqaoSFPYq P10E9JChHZQ5oEQs7+UeJLYf3azpZD6NB0bQ0= X-Google-DKIM-Signature: v=1; a=rsa-sha256; c=relaxed/relaxed; d=1e100.net; s=20230601; t=1739240132; x=1739844932; h=references:in-reply-to:cc:to:from:subject:message-id:date :x-gm-message-state:from:to:cc:subject:date:message-id:reply-to; bh=IBxM7SgiAUSqUKJsxjd8X+RuAfVsSHggPlVRnAsyPDI=; b=VgOGyWYd/942E94CkdP3kL04jU2gPDMYgELyYy1HOy9wOLLdtIisJ+DeiUo96xfZGl mbtW7tPU/DuOcodPqBzWjQ+DozFiI9C1m+JJKJb+bT9EZm2b08syaYnri5k94rWnL5Ya hvUOhcPd8lNgAGBvGgFfAUtpYIlOXPrNiB+QQeriD8vLqRMml6DhHS9h3i1Nk6JNWPn2 3Spm1p6mP1+D9vtW+2cSf+ot9b1C5wqg818a2F16fY59wqRSWvtThvYOKVrGIDERwdBi jYB0zC+B7sfeB509+4j9DoGMgFUsfQmjqKjf/KSHpOSWJvzkWgwDqClX+GAqoYQe9+m4 UFow== X-Gm-Message-State: AOJu0YyFLU86sBeZax96PssVW2/nhtXI2NXVmQSx4m3DTiwhxEMUTSKX CqHrmv6f6MsEcKmYwLk6IR9axiQFxAI1se+rgRjWkPRRNbuCEUlLHwjfhwvQ3SD31vvy51ElIVf Cw/DejyaZGLJjAHECA06bWZajXs9WGk2sNE9HZCKAiBypVpu4WgX0l9Vf X-Gm-Gg: ASbGnctkv/taA5I4ZVy2ZYdvys7kYnrpaCuYXvzUq/KXTkyPrg3Yi3RioSolJKN1dEA vzFJuDqAaj9W6H94F3XQ7+5bpQsPKsFwoLgqa0hn79PVmi7FN11NwseuUZTRTrjKbtX0SpeJGsf k4KU8CiEb625VmvKOGbMQYUQhkEIR/FvEzqOa8SRwXoMMbjrZkBu5iX6wsE4huEvgTW0PHWwh32 wZbo+no6ryUz7fhlYfXT4xN6vUMU8tPOGdVo8ptJEP0Fx9x72Pq21ZdfgJXmiq1HR4fpnyJgxo+ 2Q9FJAvVOAr1Yjv3cIzkrz4FsULpA31pGNPAXwuZUw== X-Google-Smtp-Source: AGHT+IHoONR9QkxrFcialk27eAtvnL3v5wpBJpOy3hn2gkq7Thx2AF39bl8CqYJtYhxi8v6CyV9eNN+nRUqW X-Received: by 2002:a05:6a21:9985:b0:1eb:7da4:305e with SMTP id adf61e73a8af0-1ee03b70cbcmr24251371637.39.1739240131767; Mon, 10 Feb 2025 18:15:31 -0800 (PST) Received: from postal.iol.unh.edu (postal.iol.unh.edu. [2606:4100:3880:1234::84]) by smtp-relay.gmail.com with ESMTPS id 41be03b00d2f7-ad5450ec71asm258204a12.8.2025.02.10.18.15.31 (version=TLS1_2 cipher=ECDHE-ECDSA-AES128-GCM-SHA256 bits=128/128); Mon, 10 Feb 2025 18:15:31 -0800 (PST) X-Relaying-Domain: iol.unh.edu Date: Mon, 10 Feb 2025 18:15:31 -0800 (PST) Message-ID: <67aab2c3.630a0220.f59a8.d9a8SMTPIN_ADDED_MISSING@mx.google.com> Received: from [172.21.0.6] (unknown [172.18.0.240]) by postal.iol.unh.edu (Postfix) with ESMTP id EB4136052471; Mon, 10 Feb 2025 21:15:30 -0500 (EST) Subject: |SUCCESS| pw151280 [PATCH] [v3] build: replace support for icc with From: dpdklab@iol.unh.edu To: Test Report Cc: dpdk-test-reports@iol.unh.edu In-Reply-To: <20250210171845.1669874-1-bruce.richardson@intel.com> References: <20250210171845.1669874-1-bruce.richardson@intel.com> Content-Type: text/plain X-BeenThere: test-report@dpdk.org X-Mailman-Version: 2.1.29 Precedence: list List-Id: automatic DPDK test reports List-Unsubscribe: , List-Archive: List-Post: List-Help: List-Subscribe: , Errors-To: test-report-bounces@dpdk.org Test-Label: iol-unit-amd64-testing Test-Status: SUCCESS http://dpdk.org/patch/151280 _Testing PASS_ Submitter: Bruce Richardson Date: Monday, February 10 2025 17:18:42 DPDK git baseline: Repo:dpdk Branch: master CommitID:7587660f199266ce45aabb8c2259dd09452cb01d 151280 --> testing pass Upstream job id: Generic-Unit-Test-DPDK#313840 Test environment and result as below: +---------------------+----------------+ | Environment | dpdk_unit_test | +=====================+================+ | CentOS Stream 10 | PASS | +---------------------+----------------+ | CentOS Stream 9 | PASS | +---------------------+----------------+ | Debian Bullseye | PASS | +---------------------+----------------+ | Debian 12 | PASS | +---------------------+----------------+ | Fedora 40 | PASS | +---------------------+----------------+ | Fedora 40 (Clang) | PASS | +---------------------+----------------+ | Fedora 41 (Clang) | PASS | +---------------------+----------------+ | Fedora 41 | PASS | +---------------------+----------------+ | Ubuntu 20.04 | PASS | +---------------------+----------------+ | RHEL8 | PASS | +---------------------+----------------+ | RHEL9 | PASS | +---------------------+----------------+ | Ubuntu 24.04 | PASS | +---------------------+----------------+ | Ubuntu 22.04 | PASS | +---------------------+----------------+ | Windows Server 2022 | PASS | +---------------------+----------------+ CentOS Stream 10 Kernel: Depends on container host Compiler: gcc 14.2.1 20241104 (Red Hat 14.2.1-6) CentOS Stream 9 Kernel: Depends on container host Compiler: gcc 11.5.0 20240719 (Red Hat 11.5.0-2) Debian Bullseye Kernel: Depends on container host Compiler: gcc (Debian 10.2.1-6) 10.2.1 20210110 Debian 12 Kernel: Depends on container host Compiler: gcc (Debian 12.2.0-14) 12.2.0 Fedora 40 Kernel: Depends on container host Compiler: gcc 14.2.1 20240912 (Red Hat 14.2.1-3) Fedora 40 (Clang) Kernel: Depends on container host Compiler: clang 18.1.8 (Fedora 18.1.8-1.fc40) Fedora 41 (Clang) Kernel: Depends on container host Compiler: clang 19.1.5 (Fedora 19.1.5-1.fc41) Fedora 41 Kernel: Depends on container host Compiler: gcc 14.2.1 20240912 (Red Hat 14.2.1-3) Ubuntu 20.04 Kernel: Depends on container host Compiler: gcc (Ubuntu 9.4.0-1ubuntu1~20.04.2) 9.4.0 RHEL8 Kernel: Depends on container host Compiler: gcc 8.5.0 20210514 (Red Hat 8.5.0-22) RHEL9 Kernel: Depends on container host Compiler: gcc 11.5.0 20240719 (Red Hat 11.5.0-2) Ubuntu 24.04 Kernel: Depends on container host Compiler: gcc (Ubuntu 13.3.0-6ubuntu2~24.04) 13.3.0 Ubuntu 22.04 Kernel: Depends on container host Compiler: gcc (Ubuntu 11.4.0-1ubuntu1~22.04) 11.4.0 Windows Server 2022 Kernel: 10.0.20348.2031 Compiler: clang 15.0.7, gcc 14.1.0 (MinGW), and MSVC VS 19.39.33521 To view detailed results, visit: https://lab.dpdk.org/results/dashboard/patchsets/32549/ UNH-IOL DPDK Community Lab To manage your email subscriptions, visit: https://lab.dpdk.org/results/dashboard/preferences/subscriptions/