From: dpdklab@iol.unh.edu
To: Test Report <test-report@dpdk.org>
Cc: dpdk-test-reports@iol.unh.edu
Subject: |SUCCESS| pw151280 [PATCH] [v3] build: replace support for icc with
Date: Mon, 10 Feb 2025 18:16:28 -0800 (PST) [thread overview]
Message-ID: <67aab2fc.050a0220.6e6cd.c5d4SMTPIN_ADDED_MISSING@mx.google.com> (raw)
In-Reply-To: <20250210171845.1669874-1-bruce.richardson@intel.com>
Test-Label: iol-compile-amd64-testing
Test-Status: SUCCESS
http://dpdk.org/patch/151280
_Testing PASS_
Submitter: Bruce Richardson <bruce.richardson@intel.com>
Date: Monday, February 10 2025 17:18:42
DPDK git baseline: Repo:dpdk
Branch: master
CommitID:7587660f199266ce45aabb8c2259dd09452cb01d
151280 --> testing pass
Upstream job id: Generic-DPDK-Compile-Meson#360302
Test environment and result as below:
+---------------------+--------------------+-------------------+------------------+-------------------+-------------------------+
| Environment | dpdk_meson_compile | dpdk_compile_spdk | dpdk_compile_ovs | dpdk_msvc_compile | dpdk_llvm_clang_compile |
+=====================+====================+===================+==================+===================+=========================+
| CentOS Stream 9 | PASS | PASS | SKIPPED | SKIPPED | SKIPPED |
+---------------------+--------------------+-------------------+------------------+-------------------+-------------------------+
| Debian Bullseye | PASS | PASS | SKIPPED | SKIPPED | SKIPPED |
+---------------------+--------------------+-------------------+------------------+-------------------+-------------------------+
| CentOS Stream 10 | PASS | SKIPPED | SKIPPED | SKIPPED | SKIPPED |
+---------------------+--------------------+-------------------+------------------+-------------------+-------------------------+
| Fedora 40 (Clang) | PASS | PASS | SKIPPED | SKIPPED | SKIPPED |
+---------------------+--------------------+-------------------+------------------+-------------------+-------------------------+
| Debian 12 | PASS | PASS | SKIPPED | SKIPPED | SKIPPED |
+---------------------+--------------------+-------------------+------------------+-------------------+-------------------------+
| Fedora 41 (Clang) | PASS | PASS | PASS | SKIPPED | SKIPPED |
+---------------------+--------------------+-------------------+------------------+-------------------+-------------------------+
| Fedora 40 | PASS | PASS | SKIPPED | SKIPPED | SKIPPED |
+---------------------+--------------------+-------------------+------------------+-------------------+-------------------------+
| openSUSE Leap 15 | PASS | SKIPPED | SKIPPED | SKIPPED | SKIPPED |
+---------------------+--------------------+-------------------+------------------+-------------------+-------------------------+
| RHEL8 | PASS | SKIPPED | SKIPPED | SKIPPED | SKIPPED |
+---------------------+--------------------+-------------------+------------------+-------------------+-------------------------+
| RHEL9 | PASS | SKIPPED | SKIPPED | SKIPPED | SKIPPED |
+---------------------+--------------------+-------------------+------------------+-------------------+-------------------------+
| Ubuntu 20.04 | PASS | SKIPPED | SKIPPED | SKIPPED | SKIPPED |
+---------------------+--------------------+-------------------+------------------+-------------------+-------------------------+
| Ubuntu 22.04 | PASS | PASS | SKIPPED | SKIPPED | SKIPPED |
+---------------------+--------------------+-------------------+------------------+-------------------+-------------------------+
| Ubuntu 24.04 | PASS | PASS | PASS | SKIPPED | SKIPPED |
+---------------------+--------------------+-------------------+------------------+-------------------+-------------------------+
| Alpine | PASS | SKIPPED | SKIPPED | SKIPPED | SKIPPED |
+---------------------+--------------------+-------------------+------------------+-------------------+-------------------------+
| FreeBSD 13.4 | PASS | SKIPPED | SKIPPED | SKIPPED | SKIPPED |
+---------------------+--------------------+-------------------+------------------+-------------------+-------------------------+
| FreeBSD 14.2 | PASS | SKIPPED | SKIPPED | SKIPPED | SKIPPED |
+---------------------+--------------------+-------------------+------------------+-------------------+-------------------------+
| Fedora 41 | PASS | PASS | PASS | SKIPPED | SKIPPED |
+---------------------+--------------------+-------------------+------------------+-------------------+-------------------------+
| Windows Server 2022 | SKIPPED | SKIPPED | SKIPPED | PASS | PASS |
+---------------------+--------------------+-------------------+------------------+-------------------+-------------------------+
CentOS Stream 9
Kernel: Depends on container host
Compiler: gcc 11.5.0 20240719 (Red Hat 11.5.0-2)
Debian Bullseye
Kernel: Depends on container host
Compiler: gcc (Debian 10.2.1-6) 10.2.1 20210110
CentOS Stream 10
Kernel: Depends on container host
Compiler: gcc 14.2.1 20241104 (Red Hat 14.2.1-6)
Fedora 40 (Clang)
Kernel: Depends on container host
Compiler: clang 18.1.8 (Fedora 18.1.8-1.fc40)
Debian 12
Kernel: Depends on container host
Compiler: gcc (Debian 12.2.0-14) 12.2.0
Fedora 41 (Clang)
Kernel: Depends on container host
Compiler: clang 19.1.5 (Fedora 19.1.5-1.fc41)
Fedora 40
Kernel: Depends on container host
Compiler: gcc 14.2.1 20240912 (Red Hat 14.2.1-3)
openSUSE Leap 15
Kernel: Depends on container host
Compiler: gcc (SUSE Linux) 7.5.0
RHEL8
Kernel: Depends on container host
Compiler: gcc 8.5.0 20210514 (Red Hat 8.5.0-22)
RHEL9
Kernel: Depends on container host
Compiler: gcc 11.5.0 20240719 (Red Hat 11.5.0-2)
Ubuntu 20.04
Kernel: Depends on container host
Compiler: gcc (Ubuntu 9.4.0-1ubuntu1~20.04.2) 9.4.0
Ubuntu 22.04
Kernel: Depends on container host
Compiler: gcc (Ubuntu 11.4.0-1ubuntu1~22.04) 11.4.0
Ubuntu 24.04
Kernel: Depends on container host
Compiler: gcc (Ubuntu 13.3.0-6ubuntu2~24.04) 13.3.0
Alpine
Kernel: Depends on container host
Compiler: gcc (Alpine 14.2.0) 14.2.0
FreeBSD 13.4
Kernel: 13.4-RELEASE-p1
Compiler: clang 18.1.6
FreeBSD 14.2
Kernel: 14.2-RELEASE
Compiler: clang 18.1.6
Fedora 41
Kernel: Depends on container host
Compiler: gcc 14.2.1 20240912 (Red Hat 14.2.1-3)
Windows Server 2022
Kernel: 10.0.20348.2031
Compiler: clang 15.0.7, gcc 14.1.0 (MinGW), and MSVC VS 19.39.33521
To view detailed results, visit:
https://lab.dpdk.org/results/dashboard/patchsets/32549/
UNH-IOL DPDK Community Lab
To manage your email subscriptions, visit:
https://lab.dpdk.org/results/dashboard/preferences/subscriptions/
next prev parent reply other threads:[~2025-02-11 2:16 UTC|newest]
Thread overview: 41+ messages / expand[flat|nested] mbox.gz Atom feed top
[not found] <20250210171845.1669874-1-bruce.richardson@intel.com>
2025-02-10 17:04 ` |SUCCESS| pw151280 [PATCH v3] build: replace support for icc with icx qemudev
2025-02-10 17:09 ` qemudev
2025-02-10 17:19 ` checkpatch
2025-02-10 18:25 ` 0-day Robot
2025-02-10 21:21 ` |SUCCESS| pw151280 [PATCH] [v3] build: replace support for icc with dpdklab
2025-02-10 21:34 ` dpdklab
2025-02-10 21:46 ` dpdklab
2025-02-10 21:56 ` dpdklab
2025-02-10 22:02 ` dpdklab
2025-02-10 22:22 ` |PENDING| " dpdklab
2025-02-10 22:38 ` |SUCCESS| " dpdklab
2025-02-10 22:42 ` dpdklab
2025-02-10 22:46 ` dpdklab
2025-02-10 22:49 ` dpdklab
2025-02-10 22:51 ` dpdklab
2025-02-10 22:56 ` dpdklab
2025-02-10 23:00 ` dpdklab
2025-02-10 23:12 ` |PENDING| " dpdklab
2025-02-10 23:14 ` dpdklab
2025-02-10 23:15 ` |SUCCESS| " dpdklab
2025-02-10 23:23 ` |PENDING| " dpdklab
2025-02-10 23:24 ` |SUCCESS| " dpdklab
2025-02-10 23:35 ` |PENDING| " dpdklab
2025-02-10 23:47 ` dpdklab
2025-02-10 23:59 ` |SUCCESS| " dpdklab
2025-02-11 0:26 ` |PENDING| " dpdklab
2025-02-11 1:00 ` |SUCCESS| " dpdklab
2025-02-11 1:16 ` |PENDING| " dpdklab
2025-02-11 1:17 ` |SUCCESS| " dpdklab
2025-02-11 1:58 ` dpdklab
2025-02-11 2:15 ` dpdklab
2025-02-11 2:16 ` dpdklab [this message]
2025-02-11 2:43 ` dpdklab
2025-02-11 3:39 ` dpdklab
2025-02-11 3:41 ` dpdklab
2025-02-11 4:00 ` dpdklab
2025-02-11 4:13 ` dpdklab
2025-02-11 4:28 ` dpdklab
2025-02-11 4:35 ` dpdklab
2025-02-11 4:37 ` dpdklab
2025-02-11 5:37 ` dpdklab
Reply instructions:
You may reply publicly to this message via plain-text email
using any one of the following methods:
* Save the following mbox file, import it into your mail client,
and reply-to-all from there: mbox
Avoid top-posting and favor interleaved quoting:
https://en.wikipedia.org/wiki/Posting_style#Interleaved_style
* Reply using the --to, --cc, and --in-reply-to
switches of git-send-email(1):
git send-email \
--in-reply-to=67aab2fc.050a0220.6e6cd.c5d4SMTPIN_ADDED_MISSING@mx.google.com \
--to=dpdklab@iol.unh.edu \
--cc=dpdk-test-reports@iol.unh.edu \
--cc=test-report@dpdk.org \
/path/to/YOUR_REPLY
https://kernel.org/pub/software/scm/git/docs/git-send-email.html
* If your mail client supports setting the In-Reply-To header
via mailto: links, try the mailto: link
Be sure your reply has a Subject: header at the top and a blank line
before the message body.
This is a public inbox, see mirroring instructions
for how to clone and mirror all data and code used for this inbox;
as well as URLs for NNTP newsgroup(s).