From mboxrd@z Thu Jan 1 00:00:00 1970 Return-Path: Received: from mails.dpdk.org (mails.dpdk.org [217.70.189.124]) by inbox.dpdk.org (Postfix) with ESMTP id CD496461EF for ; Tue, 11 Feb 2025 03:43:48 +0100 (CET) Received: from mails.dpdk.org (localhost [127.0.0.1]) by mails.dpdk.org (Postfix) with ESMTP id AFCC8402AB; Tue, 11 Feb 2025 03:43:48 +0100 (CET) Received: from mail-pj1-f99.google.com (mail-pj1-f99.google.com [209.85.216.99]) by mails.dpdk.org (Postfix) with ESMTP id B95FB40150 for ; Tue, 11 Feb 2025 03:43:46 +0100 (CET) Received: by mail-pj1-f99.google.com with SMTP id 98e67ed59e1d1-2fa2c1ab145so6527297a91.3 for ; Mon, 10 Feb 2025 18:43:46 -0800 (PST) DKIM-Signature: v=1; a=rsa-sha256; c=relaxed/relaxed; d=iol.unh.edu; s=unh-iol; t=1739241825; x=1739846625; darn=dpdk.org; h=references:in-reply-to:cc:to:from:subject:message-id:date:from:to :cc:subject:date:message-id:reply-to; bh=Pg2V06DKZ2lChygrr1nheXu1mDqLfdc/iJX5LFIFJjI=; b=GFxtZuXLsZYVp22nuMbObni3XsF6lKBVpFP+1rQFLYugxq/E2dNf2QiabVG8FQAhwg 1W74fUMD1Kb3namIUAPckQzgcL/awnrjqbLY1fWKDAtKjh7Ldl9rAadyLVMH5t98e6JM //r/tSENxCeGR2dZfAGGXx0JtwYjIGui0F7QY= X-Google-DKIM-Signature: v=1; a=rsa-sha256; c=relaxed/relaxed; d=1e100.net; s=20230601; t=1739241825; x=1739846625; h=references:in-reply-to:cc:to:from:subject:message-id:date :x-gm-message-state:from:to:cc:subject:date:message-id:reply-to; bh=Pg2V06DKZ2lChygrr1nheXu1mDqLfdc/iJX5LFIFJjI=; b=DBeKxmVbGBz7+KLUvuV/XyaDHULao7+jycW5TSK+UgPz4d989Tr4JIaiqbxPbwQY85 Uf4hdaSpCEXoWi4lsRMZDkblrwX2XIsHnXIxEWquWkznkmCL9hr/eGcbnapLtofxatle gYhLUwSUj6yTvFSIhb3bqfXMd6mQyVbUFDDKxh0L7yp/3QHk3qPGZJJYfGCKH5J9RvKh jcg9AyKra0OxCdxBgdW1Bc496IfkrPrzAib+RFA6ogUy+xFUEWAShkDSA7f07e6ZJ9F8 Heuiz8Npq+TEHWHaFlP+6p0rGNSLYbscFUa1H/msrGNXb/HLFpAO8nH4ATLfYiL0fs3A /FNA== X-Gm-Message-State: AOJu0Yx/oUfAH86aoz1HiAcNvxnxBTIiK9WKfEF+OGAvnXU6f05E0Kxv 5vN02rQRJWr3RNe6wZS9Z6DmQBNezwATVJ0PuswifkXejgpILwzBaeA7k94HqWeMnd4px02B+tr 2sy1RzolyYslwfLQDwK4Ob1MUJq5l3Ft0Pc9MVlnGYR4nPGC7fs9sXsTF X-Gm-Gg: ASbGncvKO1bwRCSDWzSljxyYwauI8MMZyE/DW0o9hCUaSr/mxeQmvx9+i0ztNTCxf+v 4MQI9you/Jhw7eFrKY3JvRzW3Imc1Q+zWYnZNGruPScXEVfIY0RTgxg1FOmz3Wd8wBeo8d80vL6 NNxwKznctu+T2NBp0PajSdu45sbgKAqvTSJP8pMWAKvfefUSiciJ1s+nMTNCmo/iQZ9B5gDyQav N/fFhJYtothYmSo7dgh4U4bEmbKVrD7c6zzN04QsPrgjMhEQT5MnZ4JoHD7s195QIWKX6nBBm44 R7rlZsnscUEuHBDuWK6XQVP9eoSDipJqJS0/eanEag== X-Google-Smtp-Source: AGHT+IGmZ+ISHcB2k9bGO/L4ZCUNt/HHaMMXdvMwVe1a6oInti+u5oUJx9hsZ/WGVc3aP7YU60oLrSpbD+o5 X-Received: by 2002:a17:90b:364d:b0:2ee:c4f2:a76d with SMTP id 98e67ed59e1d1-2fa24274bd2mr22707760a91.21.1739241825650; Mon, 10 Feb 2025 18:43:45 -0800 (PST) Received: from postal.iol.unh.edu (postal.iol.unh.edu. [2606:4100:3880:1234::84]) by smtp-relay.gmail.com with ESMTPS id 98e67ed59e1d1-2fa09b610a2sm726488a91.12.2025.02.10.18.43.45 (version=TLS1_2 cipher=ECDHE-ECDSA-AES128-GCM-SHA256 bits=128/128); Mon, 10 Feb 2025 18:43:45 -0800 (PST) X-Relaying-Domain: iol.unh.edu Date: Mon, 10 Feb 2025 18:43:45 -0800 (PST) Message-ID: <67aab961.170a0220.22cc82.5875SMTPIN_ADDED_MISSING@mx.google.com> Received: from [172.21.0.5] (unknown [172.18.0.240]) by postal.iol.unh.edu (Postfix) with ESMTP id C365A6052471; Mon, 10 Feb 2025 21:43:44 -0500 (EST) Subject: |SUCCESS| pw151280 [PATCH] [v3] build: replace support for icc with From: dpdklab@iol.unh.edu To: Test Report Cc: dpdk-test-reports@iol.unh.edu In-Reply-To: <20250210171845.1669874-1-bruce.richardson@intel.com> References: <20250210171845.1669874-1-bruce.richardson@intel.com> Content-Type: text/plain X-BeenThere: test-report@dpdk.org X-Mailman-Version: 2.1.29 Precedence: list List-Id: automatic DPDK test reports List-Unsubscribe: , List-Archive: List-Post: List-Help: List-Subscribe: , Errors-To: test-report-bounces@dpdk.org Test-Label: iol-compile-amd64-testing Test-Status: SUCCESS http://dpdk.org/patch/151280 _Testing PASS_ Submitter: Bruce Richardson Date: Monday, February 10 2025 17:18:42 DPDK git baseline: Repo:dpdk Branch: master CommitID:7587660f199266ce45aabb8c2259dd09452cb01d 151280 --> testing pass Upstream job id: Generic-DPDK-Compile-Meson#360335 Test environment and result as below: +---------------------+-------------------+--------------------+-------------------+------------------+ | Environment | dpdk_msvc_compile | dpdk_meson_compile | dpdk_compile_spdk | dpdk_compile_ovs | +=====================+===================+====================+===================+==================+ | Windows Server 2022 | PASS | SKIPPED | SKIPPED | SKIPPED | +---------------------+-------------------+--------------------+-------------------+------------------+ | FreeBSD 13.4 | SKIPPED | PASS | SKIPPED | SKIPPED | +---------------------+-------------------+--------------------+-------------------+------------------+ | FreeBSD 14.2 | SKIPPED | PASS | SKIPPED | SKIPPED | +---------------------+-------------------+--------------------+-------------------+------------------+ | CentOS Stream 9 | SKIPPED | PASS | PASS | SKIPPED | +---------------------+-------------------+--------------------+-------------------+------------------+ | CentOS Stream 10 | SKIPPED | PASS | SKIPPED | SKIPPED | +---------------------+-------------------+--------------------+-------------------+------------------+ | Debian Bullseye | SKIPPED | PASS | PASS | SKIPPED | +---------------------+-------------------+--------------------+-------------------+------------------+ | Debian 12 | SKIPPED | PASS | PASS | SKIPPED | +---------------------+-------------------+--------------------+-------------------+------------------+ | Fedora 40 (Clang) | SKIPPED | PASS | PASS | SKIPPED | +---------------------+-------------------+--------------------+-------------------+------------------+ | Fedora 40 | SKIPPED | PASS | PASS | SKIPPED | +---------------------+-------------------+--------------------+-------------------+------------------+ | Fedora 41 (Clang) | SKIPPED | PASS | PASS | PASS | +---------------------+-------------------+--------------------+-------------------+------------------+ | Fedora 41 | SKIPPED | PASS | PASS | PASS | +---------------------+-------------------+--------------------+-------------------+------------------+ | openSUSE Leap 15 | SKIPPED | PASS | SKIPPED | SKIPPED | +---------------------+-------------------+--------------------+-------------------+------------------+ | RHEL8 | SKIPPED | PASS | SKIPPED | SKIPPED | +---------------------+-------------------+--------------------+-------------------+------------------+ | RHEL9 | SKIPPED | PASS | SKIPPED | SKIPPED | +---------------------+-------------------+--------------------+-------------------+------------------+ | Ubuntu 20.04 | SKIPPED | PASS | SKIPPED | SKIPPED | +---------------------+-------------------+--------------------+-------------------+------------------+ | Ubuntu 22.04 | SKIPPED | PASS | PASS | SKIPPED | +---------------------+-------------------+--------------------+-------------------+------------------+ | Ubuntu 24.04 | SKIPPED | PASS | PASS | PASS | +---------------------+-------------------+--------------------+-------------------+------------------+ | Alpine | SKIPPED | PASS | SKIPPED | SKIPPED | +---------------------+-------------------+--------------------+-------------------+------------------+ Windows Server 2022 Kernel: 10.0.20348.2031 Compiler: clang 15.0.7, gcc 14.1.0 (MinGW), and MSVC VS 19.39.33521 FreeBSD 13.4 Kernel: 13.4-RELEASE-p1 Compiler: clang 18.1.6 FreeBSD 14.2 Kernel: 14.2-RELEASE Compiler: clang 18.1.6 CentOS Stream 9 Kernel: Depends on container host Compiler: gcc 11.5.0 20240719 (Red Hat 11.5.0-2) CentOS Stream 10 Kernel: Depends on container host Compiler: gcc 14.2.1 20241104 (Red Hat 14.2.1-6) Debian Bullseye Kernel: Depends on container host Compiler: gcc (Debian 10.2.1-6) 10.2.1 20210110 Debian 12 Kernel: Depends on container host Compiler: gcc (Debian 12.2.0-14) 12.2.0 Fedora 40 (Clang) Kernel: Depends on container host Compiler: clang 18.1.8 (Fedora 18.1.8-1.fc40) Fedora 40 Kernel: Depends on container host Compiler: gcc 14.2.1 20240912 (Red Hat 14.2.1-3) Fedora 41 (Clang) Kernel: Depends on container host Compiler: clang 19.1.5 (Fedora 19.1.5-1.fc41) Fedora 41 Kernel: Depends on container host Compiler: gcc 14.2.1 20240912 (Red Hat 14.2.1-3) openSUSE Leap 15 Kernel: Depends on container host Compiler: gcc (SUSE Linux) 7.5.0 RHEL8 Kernel: Depends on container host Compiler: gcc 8.5.0 20210514 (Red Hat 8.5.0-22) RHEL9 Kernel: Depends on container host Compiler: gcc 11.5.0 20240719 (Red Hat 11.5.0-2) Ubuntu 20.04 Kernel: Depends on container host Compiler: gcc (Ubuntu 9.4.0-1ubuntu1~20.04.2) 9.4.0 Ubuntu 22.04 Kernel: Depends on container host Compiler: gcc (Ubuntu 11.4.0-1ubuntu1~22.04) 11.4.0 Ubuntu 24.04 Kernel: Depends on container host Compiler: gcc (Ubuntu 13.3.0-6ubuntu2~24.04) 13.3.0 Alpine Kernel: Depends on container host Compiler: gcc (Alpine 14.2.0) 14.2.0 To view detailed results, visit: https://lab.dpdk.org/results/dashboard/patchsets/32549/ UNH-IOL DPDK Community Lab To manage your email subscriptions, visit: https://lab.dpdk.org/results/dashboard/preferences/subscriptions/