From mboxrd@z Thu Jan 1 00:00:00 1970 Return-Path: Received: from mails.dpdk.org (mails.dpdk.org [217.70.189.124]) by inbox.dpdk.org (Postfix) with ESMTP id CFCEB461F2 for ; Tue, 11 Feb 2025 04:12:37 +0100 (CET) Received: from mails.dpdk.org (localhost [127.0.0.1]) by mails.dpdk.org (Postfix) with ESMTP id A76E6402AB; Tue, 11 Feb 2025 04:12:37 +0100 (CET) Received: from mail-qv1-f97.google.com (mail-qv1-f97.google.com [209.85.219.97]) by mails.dpdk.org (Postfix) with ESMTP id 78B5740150 for ; Tue, 11 Feb 2025 04:12:36 +0100 (CET) Received: by mail-qv1-f97.google.com with SMTP id 6a1803df08f44-6e432beabbdso38103016d6.3 for ; Mon, 10 Feb 2025 19:12:36 -0800 (PST) DKIM-Signature: v=1; a=rsa-sha256; c=relaxed/relaxed; d=iol.unh.edu; s=unh-iol; t=1739243556; x=1739848356; darn=dpdk.org; h=references:in-reply-to:cc:to:from:subject:message-id:date:from:to :cc:subject:date:message-id:reply-to; bh=O7QWAYNFE8kzVNHp/3vjWcjITCXsuhWz98VqzFuGXMA=; b=UkSGUvuXtuo9lxaUedcr/+hYqOuPSWsKPwJQdhLrCftiDzG7sNDjaFltMSFE+HxehM clD7/HeAgELAUmPwk41gQXyGEYb5TGIX8JwNe6OMFq3bWktyhWeNZ/YTvb8VWj8dbhH6 DBwvSHJG6N1TQ6BZAjUc8IlwA+Pek982Fucck= X-Google-DKIM-Signature: v=1; a=rsa-sha256; c=relaxed/relaxed; d=1e100.net; s=20230601; t=1739243556; x=1739848356; h=references:in-reply-to:cc:to:from:subject:message-id:date :x-gm-message-state:from:to:cc:subject:date:message-id:reply-to; bh=O7QWAYNFE8kzVNHp/3vjWcjITCXsuhWz98VqzFuGXMA=; b=o6UYQuCR0/2dSap09QsT8CI1DUxV8ZK5fcENKmzUOKQSUZC8Na9itTt6Le0M5SSzVT GBWWXfIHDyDmMk8lmmJoWZvN227OKbdPrXhE9cjuus4y1CfalMqeaBe2YCI2frreXwQ4 0MK1ScukXIPZHTozxNtkvtpGTcmAkU16//zK1+1l3IyzJgtFIp3ZrXKGEEG4SQ02TGhv Sp7328zEsLRzVCNGyCVo2vrwGfHkiOQK/q2TOGCQcnFut2fRhd9wzZBDRA4vlA22F6i/ M8rFo0oACKqN4zCZJQPBl4cnFYmfDNYpFjPRbHZrXNE0ymUvjZYaILkn+NgyhJbE39Ec 9Guw== X-Gm-Message-State: AOJu0YxsqAKZc3TkVd5BYnkrbxODAK066g+byQ2bfBS3qbnIqBjGriZI u33f9Dik8HcnvWOoknFJ/82nWXqnwLrIQh9wSpdbc3TfBlhZZ2NnBlF+WWzXQOFPh0TcrMRimgE zUY5kDaUaAWP/Ttn9PScgMjQb70H42QPVsCM7jev2 X-Gm-Gg: ASbGncuT8EgZNTc6KIXEDYK6pCCLxBClcOJC7tAYy9fq+U+wEW4AyJam2TvcRf2lknx 6SiseYo2p9Rq1R9aAoNSAWQ79haD8s2OmfnDIZC6cBt++0Ga5b6la5H2+QXYJZ2kQyFpHpSuQwY gXVxnwZsqqMhXji1qjd1vThpqBP0KUP3+fwxFqrSW7+3QJzxrw80DoA0GFfIt5E/snBeXBCqkSC Cx+6UZSF0J0WAcQCFzEi6FFInWKQeBSgrz/xPO39Rq6hAnvz/1ydN9IouXEo4FCtl+yfTukq/YW YXyZtU8hF87rqgcRNJZyYpQwgz5Weg== X-Google-Smtp-Source: AGHT+IFumLvDhMIWpEQ0lc/fgzLhRsH12+m62kH27uQlJqrAvpYCeLOixRET4Dpeb1+3COypV8maaYWdjNIh X-Received: by 2002:a05:6214:20ce:b0:6e1:715f:cdd0 with SMTP id 6a1803df08f44-6e4455ed8d1mr303084966d6.16.1739243555772; Mon, 10 Feb 2025 19:12:35 -0800 (PST) Received: from postal.iol.unh.edu (postal.iol.unh.edu. [132.177.123.84]) by smtp-relay.gmail.com with ESMTPS id 6a1803df08f44-6e4483471c3sm5154586d6.32.2025.02.10.19.12.35 (version=TLS1_2 cipher=ECDHE-ECDSA-AES128-GCM-SHA256 bits=128/128); Mon, 10 Feb 2025 19:12:35 -0800 (PST) X-Relaying-Domain: iol.unh.edu Date: Mon, 10 Feb 2025 19:12:35 -0800 (PST) Message-ID: <67aac023.050a0220.62c2c.a421SMTPIN_ADDED_MISSING@mx.google.com> Received: from [172.21.0.5] (unknown [172.18.0.240]) by postal.iol.unh.edu (Postfix) with ESMTP id 4316F6052471; Mon, 10 Feb 2025 22:12:35 -0500 (EST) Subject: |SUCCESS| pw151291-151295 [PATCH] [v3,5/5] eal/x86: defer power intr From: dpdklab@iol.unh.edu To: Test Report Cc: dpdk-test-reports@iol.unh.edu In-Reply-To: <20250210213158.4165701-6-david.marchand@redhat.com> References: <20250210213158.4165701-6-david.marchand@redhat.com> Content-Type: text/plain X-BeenThere: test-report@dpdk.org X-Mailman-Version: 2.1.29 Precedence: list List-Id: automatic DPDK test reports List-Unsubscribe: , List-Archive: List-Post: List-Help: List-Subscribe: , Errors-To: test-report-bounces@dpdk.org Test-Label: iol-unit-amd64-testing Test-Status: SUCCESS http://dpdk.org/patch/151295 _Testing PASS_ Submitter: David Marchand Date: Monday, February 10 2025 21:31:58 DPDK git baseline: Repo:dpdk Branch: master CommitID:99cc389af4e16011c821cabb867e6646357f429d 151291-151295 --> testing pass Upstream job id: Generic-Unit-Test-DPDK#313868 Test environment and result as below: +---------------------+----------------+ | Environment | dpdk_unit_test | +=====================+================+ | CentOS Stream 9 | PASS | +---------------------+----------------+ | Debian Bullseye | PASS | +---------------------+----------------+ | CentOS Stream 10 | PASS | +---------------------+----------------+ | Debian 12 | PASS | +---------------------+----------------+ | Fedora 40 | PASS | +---------------------+----------------+ | Fedora 41 | PASS | +---------------------+----------------+ | Fedora 40 (Clang) | PASS | +---------------------+----------------+ | RHEL8 | PASS | +---------------------+----------------+ | Fedora 41 (Clang) | PASS | +---------------------+----------------+ | RHEL9 | PASS | +---------------------+----------------+ | Ubuntu 20.04 | PASS | +---------------------+----------------+ | Ubuntu 22.04 | PASS | +---------------------+----------------+ | Ubuntu 24.04 | PASS | +---------------------+----------------+ | Windows Server 2022 | PASS | +---------------------+----------------+ CentOS Stream 9 Kernel: Depends on container host Compiler: gcc 11.5.0 20240719 (Red Hat 11.5.0-2) Debian Bullseye Kernel: Depends on container host Compiler: gcc (Debian 10.2.1-6) 10.2.1 20210110 CentOS Stream 10 Kernel: Depends on container host Compiler: gcc 14.2.1 20241104 (Red Hat 14.2.1-6) Debian 12 Kernel: Depends on container host Compiler: gcc (Debian 12.2.0-14) 12.2.0 Fedora 40 Kernel: Depends on container host Compiler: gcc 14.2.1 20240912 (Red Hat 14.2.1-3) Fedora 41 Kernel: Depends on container host Compiler: gcc 14.2.1 20240912 (Red Hat 14.2.1-3) Fedora 40 (Clang) Kernel: Depends on container host Compiler: clang 18.1.8 (Fedora 18.1.8-1.fc40) RHEL8 Kernel: Depends on container host Compiler: gcc 8.5.0 20210514 (Red Hat 8.5.0-22) Fedora 41 (Clang) Kernel: Depends on container host Compiler: clang 19.1.5 (Fedora 19.1.5-1.fc41) RHEL9 Kernel: Depends on container host Compiler: gcc 11.5.0 20240719 (Red Hat 11.5.0-2) Ubuntu 20.04 Kernel: Depends on container host Compiler: gcc (Ubuntu 9.4.0-1ubuntu1~20.04.2) 9.4.0 Ubuntu 22.04 Kernel: Depends on container host Compiler: gcc (Ubuntu 11.4.0-1ubuntu1~22.04) 11.4.0 Ubuntu 24.04 Kernel: Depends on container host Compiler: gcc (Ubuntu 13.3.0-6ubuntu2~24.04) 13.3.0 Windows Server 2022 Kernel: 10.0.20348.2031 Compiler: clang 15.0.7, gcc 14.1.0 (MinGW), and MSVC VS 19.39.33521 To view detailed results, visit: https://lab.dpdk.org/results/dashboard/patchsets/32555/ UNH-IOL DPDK Community Lab To manage your email subscriptions, visit: https://lab.dpdk.org/results/dashboard/preferences/subscriptions/