From mboxrd@z Thu Jan 1 00:00:00 1970 Return-Path: Received: from mails.dpdk.org (mails.dpdk.org [217.70.189.124]) by inbox.dpdk.org (Postfix) with ESMTP id 236ED461F2 for ; Tue, 11 Feb 2025 04:39:20 +0100 (CET) Received: from mails.dpdk.org (localhost [127.0.0.1]) by mails.dpdk.org (Postfix) with ESMTP id 00177402A1; Tue, 11 Feb 2025 04:39:19 +0100 (CET) Received: from mail-pj1-f97.google.com (mail-pj1-f97.google.com [209.85.216.97]) by mails.dpdk.org (Postfix) with ESMTP id 5A79740150 for ; Tue, 11 Feb 2025 04:39:18 +0100 (CET) Received: by mail-pj1-f97.google.com with SMTP id 98e67ed59e1d1-2f9f6a2fa8dso7005500a91.1 for ; Mon, 10 Feb 2025 19:39:18 -0800 (PST) DKIM-Signature: v=1; a=rsa-sha256; c=relaxed/relaxed; d=iol.unh.edu; s=unh-iol; t=1739245157; x=1739849957; darn=dpdk.org; h=references:in-reply-to:cc:to:from:subject:message-id:date:from:to :cc:subject:date:message-id:reply-to; bh=WmfS4JnttwNN+RNz8wtcakn0QPPe7Gf7zHj8u4XLj8U=; b=GO6GbZmEBpWhQUOGqhdQBteGp7k+wx1hhofzebH3MoiQizcfcqFfjGuNJRRGLKb/Xb rxziaEKliYc+dIsKNc9dL7+ymOaXAdF3kXy2ALEhQiGbU7oi98FpahdTUlGcDX1n7EzL Fk9rkdAP/to8dtj/y6C7FWTKTooeJ1brUr5+g= X-Google-DKIM-Signature: v=1; a=rsa-sha256; c=relaxed/relaxed; d=1e100.net; s=20230601; t=1739245157; x=1739849957; h=references:in-reply-to:cc:to:from:subject:message-id:date :x-gm-message-state:from:to:cc:subject:date:message-id:reply-to; bh=WmfS4JnttwNN+RNz8wtcakn0QPPe7Gf7zHj8u4XLj8U=; b=pug32ssHbj7z7UmEYHQ46SUPXwY/iYBPbOiDyKiXa9oC8qAA/3kKFuoFOH5SO5LCv6 rzqRydbVRe7AXLdz8LTqnordIiO1zuSh0IgtH6taCFA/iyO5JYA3o1gXtIza+LNxdwCm oSWOfKVRTC6EypTeEqplgjIsRpT5laQMLj5WwBu9BQ3e/mtoG/yc9q+TXp7KBSalUett STN2D6Qy4X/C+fU9SMmLtsI+NbRwAYZ++CstXYNR5ixMqJIXpOBGhafdv0aSX4ao+gTP 63etxBitZe6rJGVpKvtzxvWRan8oJ1daAYiUw++07jc/PTGAZMr/SXty9qyWYb5TJqOU m5Ow== X-Gm-Message-State: AOJu0Yzt3Z/NnddPPeTbvmY7KN9uBxLQI35OWA1SGYakBxYvR5d0c0M+ O4TahAlwsBxSQXvISwjJHJtdrLD2N/O5Mz1ep8gdG6vtpp1mH5FrzY6GecOWHTbfnmAdkhxYhSw 9A523VpSxC9lmv3yzrdqhjDzi9K5E3dWxT5C9LLsn X-Gm-Gg: ASbGncuRWSnOe0cyHMWUtJ27emHZzohJjKZeeeWxxA9m45SE5d6CYk8+trKwzFKzdWX YTIliE0bKE0d91XJV6ciENaySCfTri+hiO5eoCKLEtwN5TqzuBlUSvtDetysa0BSIh0taR4wLHX 4gbTwlEa1DwTnyRWd41q4qhcpzEru5lvCDm+/chZi4h8WjA9R1akggDNf2eji6a6nAVenAouJCB qbUBjdxRfHxvxBpTbEXY3X40YFqS8KyHIgSVNgsj3nTzzRvHzsb8ZxSdwUIMh9LP/q2DBeSJPeK CteUwQHTfzyG8P+6UIpFSsfsJmzVZA== X-Google-Smtp-Source: AGHT+IEFYbQoHwx1VtCDy2+FfJSypUVMmCXKxsJ0/Rnzh+QDbZ4H/Cut0ksNsRdWouTVym/WHBJuFvDj5lCG X-Received: by 2002:a17:90b:4f90:b0:2ee:f80c:687c with SMTP id 98e67ed59e1d1-2fa243f2101mr21710272a91.31.1739245157433; Mon, 10 Feb 2025 19:39:17 -0800 (PST) Received: from postal.iol.unh.edu (postal.iol.unh.edu. [132.177.123.84]) by smtp-relay.gmail.com with ESMTPS id 98e67ed59e1d1-2fa09a29d38sm740866a91.4.2025.02.10.19.39.17 (version=TLS1_2 cipher=ECDHE-ECDSA-AES128-GCM-SHA256 bits=128/128); Mon, 10 Feb 2025 19:39:17 -0800 (PST) X-Relaying-Domain: iol.unh.edu Date: Mon, 10 Feb 2025 19:39:17 -0800 (PST) Message-ID: <67aac665.170a0220.341edc.761fSMTPIN_ADDED_MISSING@mx.google.com> Received: from [172.21.0.5] (unknown [172.18.0.240]) by postal.iol.unh.edu (Postfix) with ESMTP id D32226052471; Mon, 10 Feb 2025 22:39:16 -0500 (EST) Subject: |SUCCESS| pw151280 [PATCH] [v3] build: replace support for icc with From: dpdklab@iol.unh.edu To: Test Report Cc: dpdk-test-reports@iol.unh.edu In-Reply-To: <20250210171845.1669874-1-bruce.richardson@intel.com> References: <20250210171845.1669874-1-bruce.richardson@intel.com> Content-Type: text/plain X-BeenThere: test-report@dpdk.org X-Mailman-Version: 2.1.29 Precedence: list List-Id: automatic DPDK test reports List-Unsubscribe: , List-Archive: List-Post: List-Help: List-Subscribe: , Errors-To: test-report-bounces@dpdk.org Test-Label: iol-unit-arm64-testing Test-Status: SUCCESS http://dpdk.org/patch/151280 _Testing PASS_ Submitter: Bruce Richardson Date: Monday, February 10 2025 17:18:42 DPDK git baseline: Repo:dpdk Branch: master CommitID:7587660f199266ce45aabb8c2259dd09452cb01d 151280 --> testing pass Upstream job id: Generic-Unit-Test-DPDK#313830 Test environment and result as below: +--------------------------+----------------+ | Environment | dpdk_unit_test | +==========================+================+ | CentOS Stream 9 (ARM) | PASS | +--------------------------+----------------+ | CentOS Stream 10 (ARM) | PASS | +--------------------------+----------------+ | Debian 11 (Buster) (ARM) | PASS | +--------------------------+----------------+ | Debian 12 (arm) | PASS | +--------------------------+----------------+ | Fedora 40 (ARM) | PASS | +--------------------------+----------------+ | Fedora 41 (ARM) | PASS | +--------------------------+----------------+ | Fedora 40 (ARM Clang) | PASS | +--------------------------+----------------+ | Fedora 41 (ARM Clang) | PASS | +--------------------------+----------------+ | RHEL9 (ARM) | PASS | +--------------------------+----------------+ | Ubuntu 20.04 (ARM) | PASS | +--------------------------+----------------+ | Ubuntu 22.04 (ARM) | PASS | +--------------------------+----------------+ | Ubuntu 24.04 (ARM) | PASS | +--------------------------+----------------+ CentOS Stream 9 (ARM) Kernel: Depends on container host Compiler: gcc 11.5.0 20240719 (Red Hat 11.5.0-2) CentOS Stream 10 (ARM) Kernel: Depends on container host Compiler: gcc 14.2.1 20241104 (Red Hat 14.2.1-6) Debian 11 (Buster) (ARM) Kernel: Depends on container host Compiler: gcc (Debian 10.2.1-6) 10.2.1 20210110 Debian 12 (arm) Kernel: Depends on container host Compiler: gcc (Debian 12.2.0-14) 12.2.0 Fedora 40 (ARM) Kernel: Depends on container host Compiler: gcc 14.2.1 20240912 (Red Hat 14.2.1-3) Fedora 41 (ARM) Kernel: Depends on container host Compiler: gcc 14.2.1 20240912 (Red Hat 14.2.1-3) Fedora 40 (ARM Clang) Kernel: Depends on container host Compiler: clang 18.1.8 (Fedora 18.1.8-1.fc40) Fedora 41 (ARM Clang) Kernel: Depends on container host Compiler: clang 19.1.5 (Fedora 19.1.5-1.fc41) RHEL9 (ARM) Kernel: Depends on container host Compiler: gcc 11.5.0 20240719 (Red Hat 11.5.0-2) Ubuntu 20.04 (ARM) Kernel: Depends on container host Compiler: gcc (Ubuntu 9.4.0-1ubuntu1~20.04.2) 9.4.0 Ubuntu 22.04 (ARM) Kernel: Depends on container host Compiler: gcc (Ubuntu 11.4.0-1ubuntu1~22.04) 11.4.0 Ubuntu 24.04 (ARM) Kernel: Depends on container host Compiler: gcc (Ubuntu 13.3.0-6ubuntu2~24.04) 13.3.0 To view detailed results, visit: https://lab.dpdk.org/results/dashboard/patchsets/32549/ UNH-IOL DPDK Community Lab To manage your email subscriptions, visit: https://lab.dpdk.org/results/dashboard/preferences/subscriptions/