From mboxrd@z Thu Jan 1 00:00:00 1970 Return-Path: Received: from mails.dpdk.org (mails.dpdk.org [217.70.189.124]) by inbox.dpdk.org (Postfix) with ESMTP id B8E12461F2 for ; Tue, 11 Feb 2025 04:46:01 +0100 (CET) Received: from mails.dpdk.org (localhost [127.0.0.1]) by mails.dpdk.org (Postfix) with ESMTP id BEDC2402A1; Tue, 11 Feb 2025 04:46:00 +0100 (CET) Received: from mail-pj1-f100.google.com (mail-pj1-f100.google.com [209.85.216.100]) by mails.dpdk.org (Postfix) with ESMTP id 4D72040150 for ; Tue, 11 Feb 2025 04:45:59 +0100 (CET) Received: by mail-pj1-f100.google.com with SMTP id 98e67ed59e1d1-2fa1e25e337so6277571a91.1 for ; Mon, 10 Feb 2025 19:45:59 -0800 (PST) DKIM-Signature: v=1; a=rsa-sha256; c=relaxed/relaxed; d=iol.unh.edu; s=unh-iol; t=1739245558; x=1739850358; darn=dpdk.org; h=references:in-reply-to:cc:to:from:subject:message-id:date:from:to :cc:subject:date:message-id:reply-to; bh=2gMAoa34Yka6HOvooDhz2COxLIocWjbZamf/VKIs7mo=; b=fD2UKdZI4JYs1PMc9HYluvVDzVq4/pYESFaCbeGtYiiz9wCXX0ZzCHHmufqNyB1/7P pwg7VyAKJbYHYkcQO3AB1F5cnydC3qm3GHNZsOf04oowO6oUKKv+VY9/O07Y7PCwM9Oa bGETajXf9Tyyv2y6TsZusw9LdRit5WoIM0mts= X-Google-DKIM-Signature: v=1; a=rsa-sha256; c=relaxed/relaxed; d=1e100.net; s=20230601; t=1739245558; x=1739850358; h=references:in-reply-to:cc:to:from:subject:message-id:date :x-gm-message-state:from:to:cc:subject:date:message-id:reply-to; bh=2gMAoa34Yka6HOvooDhz2COxLIocWjbZamf/VKIs7mo=; b=P8W85gc8etWOEuKZpI/aBiQH8Q17jDHaQK2EUfG4oWo5x/vDO8vDXuaJXMbXRbaTDr vZxRADtgUk7NWmzSfpMtWQuu4C2Qt476XpfAG4lI97v29QJFvXbOnhmAZTqbvJF2F3He VhjPpOyDDcxdXVHYICUWRTAQAtbszz8aRkkNUrRiZMmXqMUXKBV6Wj5N3L16X7cszjy8 AQgpMCBS36npCZaawv/fEHcPoi4Ix6FZaT5PAJugBXDsboijGbEW+FEVj+21hpW/fIfd iRraPTiG95V5k1ECbR9A1mGb/qyKXVd8llWCkyj1FWxoTW4H7oLVdJdnrio4OTkCJ1n8 CRYw== X-Gm-Message-State: AOJu0YztgSpm2ed+h00xV9FW9Sodx3eMcFhuc9TqTxkpOHdN92bXpBr8 NnlBtBd+5yMUreBT7fTw5xtd3JVig7CYLf/NBVGmFDOqSXa4ezWYSzd9SZCHPOO1bJS6Wh+xvkD 9PDj4mh5v9ArUzn7mNKjtzQoNqckV7pYbhqsIR14H X-Gm-Gg: ASbGncuoG20sietUMCC12Ipar0DH9VvyeqdHH7nB2WR9CQLIeDqeVG1gCIj4H52pJkw MfaCcHsPwMoI7dudtpyEjTme+PnIptpd/2cUx+SJydS4mWwei4rjDbMGn5LN9dY3ck/NWUqhBUF g4Mt654vor+GeAKnO4RQEuPnR/gksME/c/lk0BmSf4N/I41uueIoHX1RJSJfbm/aVfqVVt2lFJG tIlyzqKOpBqr6+gTvxPnwlzbe/d+bvfhXlxQpIkmFwePxKBLc8Hnpzozr/r7G/wY9y97ypo9i97 Ylw+rTv+tJEoYLgT7AS3egTK4AE00w== X-Google-Smtp-Source: AGHT+IEj+xTlgu/wnRmYUQHb2heB6QOqqaEf49TolXdEmvdfedtz2eDKtP/moy443kqSumI6Z/Kiu84gHNOA X-Received: by 2002:a17:90a:e7c5:b0:2ee:cded:9ac7 with SMTP id 98e67ed59e1d1-2fa2417736emr24969135a91.20.1739245558233; Mon, 10 Feb 2025 19:45:58 -0800 (PST) Received: from postal.iol.unh.edu (postal.iol.unh.edu. [132.177.123.84]) by smtp-relay.gmail.com with ESMTPS id 98e67ed59e1d1-2fa09b91dbfsm801662a91.15.2025.02.10.19.45.58 (version=TLS1_2 cipher=ECDHE-ECDSA-AES128-GCM-SHA256 bits=128/128); Mon, 10 Feb 2025 19:45:58 -0800 (PST) X-Relaying-Domain: iol.unh.edu Date: Mon, 10 Feb 2025 19:45:58 -0800 (PST) Message-ID: <67aac7f6.170a0220.92225.a636SMTPIN_ADDED_MISSING@mx.google.com> Received: from [172.21.0.6] (unknown [172.18.0.240]) by postal.iol.unh.edu (Postfix) with ESMTP id 573486052471; Mon, 10 Feb 2025 22:45:57 -0500 (EST) Subject: |SUCCESS| pw151290 [PATCH] [v6] net: add thread-safe crc api From: dpdklab@iol.unh.edu To: Test Report Cc: dpdk-test-reports@iol.unh.edu In-Reply-To: <20250210212710.708809-1-arkadiuszx.kusztal@intel.com> References: <20250210212710.708809-1-arkadiuszx.kusztal@intel.com> Content-Type: text/plain X-BeenThere: test-report@dpdk.org X-Mailman-Version: 2.1.29 Precedence: list List-Id: automatic DPDK test reports List-Unsubscribe: , List-Archive: List-Post: List-Help: List-Subscribe: , Errors-To: test-report-bounces@dpdk.org Test-Label: iol-abi-testing Test-Status: SUCCESS http://dpdk.org/patch/151290 _Testing PASS_ Submitter: Kusztal, ArkadiuszX Date: Monday, February 10 2025 21:27:10 DPDK git baseline: Repo:dpdk Branch: master CommitID:7125636162d67b1c40ba6802a3ff4466d125d243 151290 --> testing pass Upstream job id: Generic-DPDK-Compile-ABI#115735 Test environment and result as below: +-------------------+----------+ | Environment | abi_test | +===================+==========+ | CentOS Stream 9 | PASS | +-------------------+----------+ | Debian Bullseye | PASS | +-------------------+----------+ | CentOS Stream 10 | PASS | +-------------------+----------+ | Fedora 40 (Clang) | PASS | +-------------------+----------+ | Debian 12 | PASS | +-------------------+----------+ | Fedora 41 (Clang) | PASS | +-------------------+----------+ | Fedora 40 | PASS | +-------------------+----------+ | Ubuntu 22.04 | PASS | +-------------------+----------+ | openSUSE Leap 15 | PASS | +-------------------+----------+ | Ubuntu 24.04 | PASS | +-------------------+----------+ | Fedora 41 | PASS | +-------------------+----------+ | RHEL8 | PASS | +-------------------+----------+ | RHEL9 | PASS | +-------------------+----------+ CentOS Stream 9 Kernel: Depends on container host Compiler: gcc 11.5.0 20240719 (Red Hat 11.5.0-2) Debian Bullseye Kernel: Depends on container host Compiler: gcc (Debian 10.2.1-6) 10.2.1 20210110 CentOS Stream 10 Kernel: Depends on container host Compiler: gcc 14.2.1 20241104 (Red Hat 14.2.1-6) Fedora 40 (Clang) Kernel: Depends on container host Compiler: clang 18.1.8 (Fedora 18.1.8-1.fc40) Debian 12 Kernel: Depends on container host Compiler: gcc (Debian 12.2.0-14) 12.2.0 Fedora 41 (Clang) Kernel: Depends on container host Compiler: clang 19.1.5 (Fedora 19.1.5-1.fc41) Fedora 40 Kernel: Depends on container host Compiler: gcc 14.2.1 20240912 (Red Hat 14.2.1-3) Ubuntu 22.04 Kernel: Depends on container host Compiler: gcc (Ubuntu 11.4.0-1ubuntu1~22.04) 11.4.0 openSUSE Leap 15 Kernel: Depends on container host Compiler: gcc (SUSE Linux) 7.5.0 Ubuntu 24.04 Kernel: Depends on container host Compiler: gcc (Ubuntu 13.3.0-6ubuntu2~24.04) 13.3.0 Fedora 41 Kernel: Depends on container host Compiler: gcc 14.2.1 20240912 (Red Hat 14.2.1-3) RHEL8 Kernel: Depends on container host Compiler: gcc 8.5.0 20210514 (Red Hat 8.5.0-22) RHEL9 Kernel: Depends on container host Compiler: gcc 11.5.0 20240719 (Red Hat 11.5.0-2) To view detailed results, visit: https://lab.dpdk.org/results/dashboard/patchsets/32554/ UNH-IOL DPDK Community Lab To manage your email subscriptions, visit: https://lab.dpdk.org/results/dashboard/preferences/subscriptions/