From mboxrd@z Thu Jan 1 00:00:00 1970 Return-Path: Received: from mails.dpdk.org (mails.dpdk.org [217.70.189.124]) by inbox.dpdk.org (Postfix) with ESMTP id 43A8A461F2 for ; Tue, 11 Feb 2025 05:00:46 +0100 (CET) Received: from mails.dpdk.org (localhost [127.0.0.1]) by mails.dpdk.org (Postfix) with ESMTP id 3F8DE402A1; Tue, 11 Feb 2025 05:00:46 +0100 (CET) Received: from mail-il1-f228.google.com (mail-il1-f228.google.com [209.85.166.228]) by mails.dpdk.org (Postfix) with ESMTP id 24B2440150 for ; Tue, 11 Feb 2025 05:00:44 +0100 (CET) Received: by mail-il1-f228.google.com with SMTP id e9e14a558f8ab-3d144f1f68bso11992875ab.3 for ; Mon, 10 Feb 2025 20:00:44 -0800 (PST) DKIM-Signature: v=1; a=rsa-sha256; c=relaxed/relaxed; d=iol.unh.edu; s=unh-iol; t=1739246443; x=1739851243; darn=dpdk.org; h=references:in-reply-to:cc:to:from:subject:message-id:date:from:to :cc:subject:date:message-id:reply-to; bh=5IHP5pt5vGpGjcqdUNepV2D1P7JjFYvcYPduRcGJyR4=; b=BYELpfS8jGyxPOsyrYIcEoxR5BYpO/laGe9rzXdq75wTugeL9zQHsn9j99YSJ6v3Rz qqomwN7ftRK9N5DS4ZJVotIqLOXHdoRGCz3FCgT8mMxTFQRzhjCjpc3W81LxPFR7zDkf 2Bt0xgJpj9oUWHDwDyGJEhVI3xXFYD7cyx3tc= X-Google-DKIM-Signature: v=1; a=rsa-sha256; c=relaxed/relaxed; d=1e100.net; s=20230601; t=1739246443; x=1739851243; h=references:in-reply-to:cc:to:from:subject:message-id:date :x-gm-message-state:from:to:cc:subject:date:message-id:reply-to; bh=5IHP5pt5vGpGjcqdUNepV2D1P7JjFYvcYPduRcGJyR4=; b=ign8qvgK8THJmrKPmrB8OzqY9Sk1608b2dXjqwqvDYoeFVCfAFtR/JhqvgGueSuwlO DPiXVOpaPT2hhQKRU5FL/cjZW708oXBMz27Gf0OMp5uXBV8H2O3Cn0ahpclW2btFn+We +m4ItfsV0cY5vx7aYm3ApaL18sWj2hrQrEG1s22dBQRZOxPt5SqIflAU6tXbVgEQlFK/ tcPoEfGas5SBj746l+88D1Vi60Y4VO98d932xl1aqcjrGMvW01Imz4eyYlNYbB4yiFPk ySDbB066WrqxO208hf5L/ecbsstcHjo76YQEJGaha+nLJAfAwMV6kbwd5LtLpo5jmVug UR9A== X-Gm-Message-State: AOJu0YwZ6SjfPnPdYOE2AcHBlQJItnqXQpZPZ+TMgHdUT2YHDNhqBHJB Bl/xJX3qNG7rAQzEBzQKvk+ndQvrg/lW1DqENLt/apxfArS4o3Bojnpc2qrfCNTciEXjaFCq/UF YWNYdDVTu2vc3cUbYyRIM0TW2LVeCILc0KVRYjhzI X-Gm-Gg: ASbGncvf7kGrMioD87h7CBx7ja3WvLC7wLJr3ChpU+3io+6buBnXEd25OYu4GmeXFYe UhZD6X5eziipUR6T0yxcHMLa2OoM1r5jQUzwD8IoCZTn9kA7RbO/vArCRp4nsGHS7uidzBO55Zc wFXL8p3YAOqitmyYGSMN1gfNw8qdaqxOZeLpR/RyhnUWLsv41v24sgy1hYBjBB0+wlnCIcH8gqm QanSE1DJPMc3mS8DGchN3rIGjlJ95qmg4+OZVuf+yfZNtL0HypLX1yycN9xMBzu/jLWb/hpZN/C OsVH/6VbG3qZuaO4T1H0vxwteWTyAA== X-Google-Smtp-Source: AGHT+IFZ3VfWO+MXTTcSeWFrxWy3HIWEoSD7FR2tv4/o5dTN4BdUOIwAyMGp4iQlfSVx51otK5zT6OCJA8yf X-Received: by 2002:a05:6e02:17ce:b0:3d0:443d:a5ad with SMTP id e9e14a558f8ab-3d13dcd9098mr141801155ab.2.1739246443395; Mon, 10 Feb 2025 20:00:43 -0800 (PST) Received: from postal.iol.unh.edu (postal.iol.unh.edu. [132.177.123.84]) by smtp-relay.gmail.com with ESMTPS id 8926c6da1cb9f-4ecf254a971sm240760173.44.2025.02.10.20.00.43 (version=TLS1_2 cipher=ECDHE-ECDSA-AES128-GCM-SHA256 bits=128/128); Mon, 10 Feb 2025 20:00:43 -0800 (PST) X-Relaying-Domain: iol.unh.edu Date: Mon, 10 Feb 2025 20:00:43 -0800 (PST) Message-ID: <67aacb6b.050a0220.31be44.cc38SMTPIN_ADDED_MISSING@mx.google.com> Received: from [172.21.0.6] (unknown [172.18.0.240]) by postal.iol.unh.edu (Postfix) with ESMTP id D1D456052471; Mon, 10 Feb 2025 23:00:42 -0500 (EST) Subject: |SUCCESS| pw151280 [PATCH] [v3] build: replace support for icc with From: dpdklab@iol.unh.edu To: Test Report Cc: dpdk-test-reports@iol.unh.edu In-Reply-To: <20250210171845.1669874-1-bruce.richardson@intel.com> References: <20250210171845.1669874-1-bruce.richardson@intel.com> Content-Type: text/plain X-BeenThere: test-report@dpdk.org X-Mailman-Version: 2.1.29 Precedence: list List-Id: automatic DPDK test reports List-Unsubscribe: , List-Archive: List-Post: List-Help: List-Subscribe: , Errors-To: test-report-bounces@dpdk.org Test-Label: iol-compile-amd64-testing Test-Status: SUCCESS http://dpdk.org/patch/151280 _Testing PASS_ Submitter: Bruce Richardson Date: Monday, February 10 2025 17:18:42 DPDK git baseline: Repo:dpdk Branch: master CommitID:7587660f199266ce45aabb8c2259dd09452cb01d 151280 --> testing pass Upstream job id: Windows-Compile-DPDK-Native#26602 Test environment and result as below: +---------------------+-------------------+--------------------+-------------------+------------------+-------------------------+ | Environment | dpdk_msvc_compile | dpdk_meson_compile | dpdk_compile_spdk | dpdk_compile_ovs | dpdk_llvm_clang_compile | +=====================+===================+====================+===================+==================+=========================+ | Windows Server 2022 | PASS | SKIPPED | SKIPPED | SKIPPED | PASS | +---------------------+-------------------+--------------------+-------------------+------------------+-------------------------+ | FreeBSD 13.4 | SKIPPED | PASS | SKIPPED | SKIPPED | SKIPPED | +---------------------+-------------------+--------------------+-------------------+------------------+-------------------------+ | FreeBSD 14.2 | SKIPPED | PASS | SKIPPED | SKIPPED | SKIPPED | +---------------------+-------------------+--------------------+-------------------+------------------+-------------------------+ | CentOS Stream 9 | SKIPPED | PASS | PASS | SKIPPED | SKIPPED | +---------------------+-------------------+--------------------+-------------------+------------------+-------------------------+ | CentOS Stream 10 | SKIPPED | PASS | SKIPPED | SKIPPED | SKIPPED | +---------------------+-------------------+--------------------+-------------------+------------------+-------------------------+ | Debian Bullseye | SKIPPED | PASS | PASS | SKIPPED | SKIPPED | +---------------------+-------------------+--------------------+-------------------+------------------+-------------------------+ | Debian 12 | SKIPPED | PASS | PASS | SKIPPED | SKIPPED | +---------------------+-------------------+--------------------+-------------------+------------------+-------------------------+ | Fedora 40 (Clang) | SKIPPED | PASS | PASS | SKIPPED | SKIPPED | +---------------------+-------------------+--------------------+-------------------+------------------+-------------------------+ | Fedora 40 | SKIPPED | PASS | PASS | SKIPPED | SKIPPED | +---------------------+-------------------+--------------------+-------------------+------------------+-------------------------+ | Fedora 41 (Clang) | SKIPPED | PASS | PASS | PASS | SKIPPED | +---------------------+-------------------+--------------------+-------------------+------------------+-------------------------+ | Fedora 41 | SKIPPED | PASS | PASS | PASS | SKIPPED | +---------------------+-------------------+--------------------+-------------------+------------------+-------------------------+ | openSUSE Leap 15 | SKIPPED | PASS | SKIPPED | SKIPPED | SKIPPED | +---------------------+-------------------+--------------------+-------------------+------------------+-------------------------+ | RHEL8 | SKIPPED | PASS | SKIPPED | SKIPPED | SKIPPED | +---------------------+-------------------+--------------------+-------------------+------------------+-------------------------+ | RHEL9 | SKIPPED | PASS | SKIPPED | SKIPPED | SKIPPED | +---------------------+-------------------+--------------------+-------------------+------------------+-------------------------+ | Ubuntu 20.04 | SKIPPED | PASS | SKIPPED | SKIPPED | SKIPPED | +---------------------+-------------------+--------------------+-------------------+------------------+-------------------------+ | Ubuntu 22.04 | SKIPPED | PASS | PASS | SKIPPED | SKIPPED | +---------------------+-------------------+--------------------+-------------------+------------------+-------------------------+ | Ubuntu 24.04 | SKIPPED | PASS | PASS | PASS | SKIPPED | +---------------------+-------------------+--------------------+-------------------+------------------+-------------------------+ | Alpine | SKIPPED | PASS | SKIPPED | SKIPPED | SKIPPED | +---------------------+-------------------+--------------------+-------------------+------------------+-------------------------+ Windows Server 2022 Kernel: 10.0.20348.2031 Compiler: clang 15.0.7, gcc 14.1.0 (MinGW), and MSVC VS 19.39.33521 FreeBSD 13.4 Kernel: 13.4-RELEASE-p1 Compiler: clang 18.1.6 FreeBSD 14.2 Kernel: 14.2-RELEASE Compiler: clang 18.1.6 CentOS Stream 9 Kernel: Depends on container host Compiler: gcc 11.5.0 20240719 (Red Hat 11.5.0-2) CentOS Stream 10 Kernel: Depends on container host Compiler: gcc 14.2.1 20241104 (Red Hat 14.2.1-6) Debian Bullseye Kernel: Depends on container host Compiler: gcc (Debian 10.2.1-6) 10.2.1 20210110 Debian 12 Kernel: Depends on container host Compiler: gcc (Debian 12.2.0-14) 12.2.0 Fedora 40 (Clang) Kernel: Depends on container host Compiler: clang 18.1.8 (Fedora 18.1.8-1.fc40) Fedora 40 Kernel: Depends on container host Compiler: gcc 14.2.1 20240912 (Red Hat 14.2.1-3) Fedora 41 (Clang) Kernel: Depends on container host Compiler: clang 19.1.5 (Fedora 19.1.5-1.fc41) Fedora 41 Kernel: Depends on container host Compiler: gcc 14.2.1 20240912 (Red Hat 14.2.1-3) openSUSE Leap 15 Kernel: Depends on container host Compiler: gcc (SUSE Linux) 7.5.0 RHEL8 Kernel: Depends on container host Compiler: gcc 8.5.0 20210514 (Red Hat 8.5.0-22) RHEL9 Kernel: Depends on container host Compiler: gcc 11.5.0 20240719 (Red Hat 11.5.0-2) Ubuntu 20.04 Kernel: Depends on container host Compiler: gcc (Ubuntu 9.4.0-1ubuntu1~20.04.2) 9.4.0 Ubuntu 22.04 Kernel: Depends on container host Compiler: gcc (Ubuntu 11.4.0-1ubuntu1~22.04) 11.4.0 Ubuntu 24.04 Kernel: Depends on container host Compiler: gcc (Ubuntu 13.3.0-6ubuntu2~24.04) 13.3.0 Alpine Kernel: Depends on container host Compiler: gcc (Alpine 14.2.0) 14.2.0 To view detailed results, visit: https://lab.dpdk.org/results/dashboard/patchsets/32549/ UNH-IOL DPDK Community Lab To manage your email subscriptions, visit: https://lab.dpdk.org/results/dashboard/preferences/subscriptions/