From: dpdklab@iol.unh.edu
To: Test Report <test-report@dpdk.org>
Cc: dpdk-test-reports@iol.unh.edu
Subject: |SUCCESS| pw151289 [PATCH] drivers/net: signed/unsigned mismatch
Date: Mon, 10 Feb 2025 20:02:06 -0800 (PST) [thread overview]
Message-ID: <67aacbbe.050a0220.90975.c8b9SMTPIN_ADDED_MISSING@mx.google.com> (raw)
In-Reply-To: <1739222725-30747-1-git-send-email-andremue@linux.microsoft.com>
Test-Label: iol-compile-amd64-testing
Test-Status: SUCCESS
http://dpdk.org/patch/151289
_Testing PASS_
Submitter: Andre Muezerie <andremue@linux.microsoft.com>
Date: Monday, February 10 2025 21:25:25
DPDK git baseline: Repo:dpdk
Branch: master
CommitID:d4d1e6c55a2f17785ee6be361599e1c5ab28f0fb
151289 --> testing pass
Upstream job id: Generic-VM-DPDK-Compile-Meson#33220
Test environment and result as below:
+---------------------+-------------------+--------------------+
| Environment | dpdk_msvc_compile | dpdk_meson_compile |
+=====================+===================+====================+
| Windows Server 2022 | PASS | SKIPPED |
+---------------------+-------------------+--------------------+
| FreeBSD 13.4 | SKIPPED | PASS |
+---------------------+-------------------+--------------------+
| FreeBSD 14.2 | SKIPPED | PASS |
+---------------------+-------------------+--------------------+
Windows Server 2022
Kernel: 10.0.20348.2031
Compiler: clang 15.0.7, gcc 14.1.0 (MinGW), and MSVC VS 19.39.33521
FreeBSD 13.4
Kernel: 13.4-RELEASE-p1
Compiler: clang 18.1.6
FreeBSD 14.2
Kernel: 14.2-RELEASE
Compiler: clang 18.1.6
To view detailed results, visit:
https://lab.dpdk.org/results/dashboard/patchsets/32553/
UNH-IOL DPDK Community Lab
To manage your email subscriptions, visit:
https://lab.dpdk.org/results/dashboard/preferences/subscriptions/
next prev parent reply other threads:[~2025-02-11 4:02 UTC|newest]
Thread overview: 22+ messages / expand[flat|nested] mbox.gz Atom feed top
[not found] <1739222725-30747-1-git-send-email-andremue@linux.microsoft.com>
2025-02-10 20:51 ` qemudev
2025-02-10 20:55 ` qemudev
2025-02-10 21:25 ` checkpatch
2025-02-10 22:44 ` 0-day Robot
2025-02-11 2:24 ` dpdklab
2025-02-11 2:30 ` dpdklab
2025-02-11 2:35 ` dpdklab
2025-02-11 2:36 ` dpdklab
2025-02-11 2:42 ` dpdklab
2025-02-11 2:47 ` dpdklab
2025-02-11 3:05 ` dpdklab
2025-02-11 3:53 ` |PENDING| " dpdklab
2025-02-11 4:00 ` dpdklab
2025-02-11 4:02 ` dpdklab [this message]
2025-02-11 4:11 ` dpdklab
2025-02-11 4:35 ` dpdklab
2025-02-11 5:54 ` dpdklab
2025-02-11 5:57 ` |SUCCESS| " dpdklab
2025-02-11 6:26 ` dpdklab
2025-02-11 7:08 ` dpdklab
2025-02-11 8:13 ` dpdklab
2025-02-11 8:53 ` dpdklab
Reply instructions:
You may reply publicly to this message via plain-text email
using any one of the following methods:
* Save the following mbox file, import it into your mail client,
and reply-to-all from there: mbox
Avoid top-posting and favor interleaved quoting:
https://en.wikipedia.org/wiki/Posting_style#Interleaved_style
* Reply using the --to, --cc, and --in-reply-to
switches of git-send-email(1):
git send-email \
--in-reply-to=67aacbbe.050a0220.90975.c8b9SMTPIN_ADDED_MISSING@mx.google.com \
--to=dpdklab@iol.unh.edu \
--cc=dpdk-test-reports@iol.unh.edu \
--cc=test-report@dpdk.org \
/path/to/YOUR_REPLY
https://kernel.org/pub/software/scm/git/docs/git-send-email.html
* If your mail client supports setting the In-Reply-To header
via mailto: links, try the mailto: link
Be sure your reply has a Subject: header at the top and a blank line
before the message body.
This is a public inbox, see mirroring instructions
for how to clone and mirror all data and code used for this inbox;
as well as URLs for NNTP newsgroup(s).