From mboxrd@z Thu Jan 1 00:00:00 1970 Return-Path: Received: from mails.dpdk.org (mails.dpdk.org [217.70.189.124]) by inbox.dpdk.org (Postfix) with ESMTP id 6D930461F2 for ; Tue, 11 Feb 2025 05:02:08 +0100 (CET) Received: from mails.dpdk.org (localhost [127.0.0.1]) by mails.dpdk.org (Postfix) with ESMTP id 68650402A1; Tue, 11 Feb 2025 05:02:08 +0100 (CET) Received: from mail-io1-f99.google.com (mail-io1-f99.google.com [209.85.166.99]) by mails.dpdk.org (Postfix) with ESMTP id BF7DF40150 for ; Tue, 11 Feb 2025 05:02:06 +0100 (CET) Received: by mail-io1-f99.google.com with SMTP id ca18e2360f4ac-851c4f1fb18so134036539f.2 for ; Mon, 10 Feb 2025 20:02:06 -0800 (PST) DKIM-Signature: v=1; a=rsa-sha256; c=relaxed/relaxed; d=iol.unh.edu; s=unh-iol; t=1739246526; x=1739851326; darn=dpdk.org; h=references:in-reply-to:cc:to:from:subject:message-id:date:from:to :cc:subject:date:message-id:reply-to; bh=5T9sS+RYSmQoGbhqgrOpEbMmVMWmPFhi9oV1tKhRAgg=; b=UoyBOlLZbPEadZBHhDTNg2cqNtbE6f+yirNm+c5I1SgX36f7jeSSCcULCEUjM/cpcn xfpnclsLiMmDzJ4msT5M4v+caTx0QQNhVFV7bpEkIuKaWbSNTan82Eo/r+UfqOjJwMFT gOsCmPTG+lpkgIm+U64NwZMpRAFW4sP+I6Rwg= X-Google-DKIM-Signature: v=1; a=rsa-sha256; c=relaxed/relaxed; d=1e100.net; s=20230601; t=1739246526; x=1739851326; h=references:in-reply-to:cc:to:from:subject:message-id:date :x-gm-message-state:from:to:cc:subject:date:message-id:reply-to; bh=5T9sS+RYSmQoGbhqgrOpEbMmVMWmPFhi9oV1tKhRAgg=; b=Ah8VI6JjYtK+8BmVwynMirAa4HVSrEf9NP7g18W0AkMmC+5VFP5ZCJRXf2tKjtWcc6 foNn4W3A1iHrAiwB4M+OitPiJeCUluq31etxMHH9cE3LOahV5Q7D7x+I8Ef/8fEOdNi1 lkrdnbjit0jUksezpGkpKjk9KI81iDWU+8NVMBhDMLDvEP/h11kjSzb06/yMXWmLv9ma fcNp2u2VDUoRf1KWS0j24l/7TIXkpTnBkccZI26lEYHzoi0+7cPJtbj6R4oc+DDi+P0+ Qe1fpEN6dNpoYQB7Y2ZyR0EGAO31re0swR/Oc7oB3Ju4+HIbegjb2dQdprxFxwKynEj/ dp7g== X-Gm-Message-State: AOJu0YxymWS4BfBXJiTmO2Wg8phHhvxAAOGyKT2ezqYBw7uhJWLNWvd+ +IiYNXi4puVcylz1Il5lM1NxtaxiXVLfolUdsYCn3ogwUc+GcI+r1UygwE+BJKUVzE/TnbNMbti 2LpMuMOHkfotQgPqCE3S/lK+0r5eX/Lrroqu/2/tB X-Gm-Gg: ASbGncsBtK4OOHOTqQB589976KUkI2k3ZsHuRVHmao72DpuqXdwGP/K0RDJE7xH9y6L WOF5/DgVqOmZZ6t/j1E31QO4xrXggwp8wYrcVJYRNc1G9if4wqnURtkeAraB6FrjWFihOQWwU6i YI/quHs3jLfVJhvB3+FiC17Km0yHIoBFb88BCUjr6cNW9PDClLfm2//Yj2xQwqwLnVZ+68x5rDz CuHDbnyrYHNIWZ+B1RY/HX+g3YP0rFbIpNQlIh7IEi+RaMWyyv9+avb9EqEuOcXfd8D0JWMp+qo fm9085jFrgyLrEOLippQ08EkUqIlbg== X-Google-Smtp-Source: AGHT+IEMug3f008eSYFf/sGpKWgUR//LIPgDgLB9e4jn4b0SFFaOy3uKKCDuFiu2f9+MYpX3ZnTJ6u+quniN X-Received: by 2002:a05:6e02:310c:b0:3d0:4d76:79ba with SMTP id e9e14a558f8ab-3d13df3e69dmr127993035ab.16.1739246526107; Mon, 10 Feb 2025 20:02:06 -0800 (PST) Received: from postal.iol.unh.edu (postal.iol.unh.edu. [132.177.123.84]) by smtp-relay.gmail.com with ESMTPS id 8926c6da1cb9f-4ecf3d01746sm237299173.67.2025.02.10.20.02.06 (version=TLS1_2 cipher=ECDHE-ECDSA-AES128-GCM-SHA256 bits=128/128); Mon, 10 Feb 2025 20:02:06 -0800 (PST) X-Relaying-Domain: iol.unh.edu Date: Mon, 10 Feb 2025 20:02:06 -0800 (PST) Message-ID: <67aacbbe.050a0220.90975.c8b9SMTPIN_ADDED_MISSING@mx.google.com> Received: from [172.21.0.6] (unknown [172.18.0.240]) by postal.iol.unh.edu (Postfix) with ESMTP id 9834A6052471; Mon, 10 Feb 2025 23:02:05 -0500 (EST) Subject: |SUCCESS| pw151289 [PATCH] drivers/net: signed/unsigned mismatch From: dpdklab@iol.unh.edu To: Test Report Cc: dpdk-test-reports@iol.unh.edu In-Reply-To: <1739222725-30747-1-git-send-email-andremue@linux.microsoft.com> References: <1739222725-30747-1-git-send-email-andremue@linux.microsoft.com> Content-Type: text/plain X-BeenThere: test-report@dpdk.org X-Mailman-Version: 2.1.29 Precedence: list List-Id: automatic DPDK test reports List-Unsubscribe: , List-Archive: List-Post: List-Help: List-Subscribe: , Errors-To: test-report-bounces@dpdk.org Test-Label: iol-compile-amd64-testing Test-Status: SUCCESS http://dpdk.org/patch/151289 _Testing PASS_ Submitter: Andre Muezerie Date: Monday, February 10 2025 21:25:25 DPDK git baseline: Repo:dpdk Branch: master CommitID:d4d1e6c55a2f17785ee6be361599e1c5ab28f0fb 151289 --> testing pass Upstream job id: Generic-VM-DPDK-Compile-Meson#33220 Test environment and result as below: +---------------------+-------------------+--------------------+ | Environment | dpdk_msvc_compile | dpdk_meson_compile | +=====================+===================+====================+ | Windows Server 2022 | PASS | SKIPPED | +---------------------+-------------------+--------------------+ | FreeBSD 13.4 | SKIPPED | PASS | +---------------------+-------------------+--------------------+ | FreeBSD 14.2 | SKIPPED | PASS | +---------------------+-------------------+--------------------+ Windows Server 2022 Kernel: 10.0.20348.2031 Compiler: clang 15.0.7, gcc 14.1.0 (MinGW), and MSVC VS 19.39.33521 FreeBSD 13.4 Kernel: 13.4-RELEASE-p1 Compiler: clang 18.1.6 FreeBSD 14.2 Kernel: 14.2-RELEASE Compiler: clang 18.1.6 To view detailed results, visit: https://lab.dpdk.org/results/dashboard/patchsets/32553/ UNH-IOL DPDK Community Lab To manage your email subscriptions, visit: https://lab.dpdk.org/results/dashboard/preferences/subscriptions/