From mboxrd@z Thu Jan 1 00:00:00 1970 Return-Path: Received: from mails.dpdk.org (mails.dpdk.org [217.70.189.124]) by inbox.dpdk.org (Postfix) with ESMTP id A0788461F2 for ; Tue, 11 Feb 2025 05:13:12 +0100 (CET) Received: from mails.dpdk.org (localhost [127.0.0.1]) by mails.dpdk.org (Postfix) with ESMTP id 88083402AB; Tue, 11 Feb 2025 05:13:12 +0100 (CET) Received: from mail-il1-f227.google.com (mail-il1-f227.google.com [209.85.166.227]) by mails.dpdk.org (Postfix) with ESMTP id C35FE40150 for ; Tue, 11 Feb 2025 05:13:10 +0100 (CET) Received: by mail-il1-f227.google.com with SMTP id e9e14a558f8ab-3ce7c4115e8so20664695ab.1 for ; Mon, 10 Feb 2025 20:13:10 -0800 (PST) DKIM-Signature: v=1; a=rsa-sha256; c=relaxed/relaxed; d=iol.unh.edu; s=unh-iol; t=1739247190; x=1739851990; darn=dpdk.org; h=references:in-reply-to:cc:to:from:subject:message-id:date:from:to :cc:subject:date:message-id:reply-to; bh=9vIk8wmXe62l3IHN2S9RDThy78czv//bTJ57xCfkevk=; b=UxbHfb0jZrph6W5Ou/ifKa6wEMWxdCNmHassJV7qFgaqsXKTkXZluZEdEJRFcljdh+ gYP4HO0crmg0l9IKcY52ywKgPst5YcT8HxsVi/ONbJ3S/NXapy/N+ljBaXI+RyQfSBB5 oePLZt0f9Z6jrA38PY/DxT+Y/Ngp41HUAXzm4= X-Google-DKIM-Signature: v=1; a=rsa-sha256; c=relaxed/relaxed; d=1e100.net; s=20230601; t=1739247190; x=1739851990; h=references:in-reply-to:cc:to:from:subject:message-id:date :x-gm-message-state:from:to:cc:subject:date:message-id:reply-to; bh=9vIk8wmXe62l3IHN2S9RDThy78czv//bTJ57xCfkevk=; b=wYRSN6wcTe2xEz1glaRfA4MZ1qp1SRITH6MybfYI+PiAMzMPAN5cBAQOUjXp2S6A3w mh6Qf2hz25czjxJ/z8XBraBOw6tgE0IsEH3IDqTTW8IhT0go23Bk6FLReBNItp4GuXJD Kdk8RqOeK/nNj6sDfbCLlGIQKvke8CWU4rFiC2qVBS6N26sBVy9LoLsDgY1HqJQBa8Gn Sa4apK3wEDXGRnN37JnGmdaARwA2qY9sR0f5si096W253x9riF8Xt9ahqZbL+VRRxc6C y4jDxcKAVKa42N67clN4s1gDaXiCIqYTDJIkHubGusl+KhjIMqwWCs8fkermP1Lp6aew 7IrQ== X-Gm-Message-State: AOJu0YxwSFFjhZ8DSifejXrGmqzV8tTgM9SGX+tH76br3p0eZJNmZTB5 R24+iSZLCDKF+kKplH2x6h4MTscHzvM7jryl+vn96JfPSUev+eX84xvg60EEkptHXlLUirAlmT4 hj+4lwGyhZa4FaxAV8FsAsHJRxmt3fw9LbXm1guDSfVyajuNok/iqyJtp X-Gm-Gg: ASbGncvMIKruWQ8GeDqIHTgMpHfbXq/Co2iD8w/AAObjlkU263jUjyIKsPHXHZDzY2q bJQbWtMrEZGuRQoSTR9D9qCMyWujUTFyRIAllQG9fBvKG6Qpz4LP3oElnfQbXcAlormfwIr9jH9 zdfPo9VsMF4CxcZS2ylF87O+Yx7c7YE91gcLSSVb92t/RNITc4Pqm/xEQG6tBzfQpGSfun7dj0n MO+ScOR/FzJFPwCqb5+vxjdzNDhyBMopUgI4/1JxXQ4zb5Ge+qywR6gvbqxyLiFJPks8sEjNtoO WzzA7dFo9B5jbXbAuyWBcELNnk5SP1Jstf0uwIPIjA== X-Google-Smtp-Source: AGHT+IGhym2LvkbqahiWfc9cg+Z1szQPcQCy+szTM4rYabM9T+sKV5V8mIgzVisyiSxD30XmdnnOQBQXVg3s X-Received: by 2002:a05:6e02:17ca:b0:3cd:d14c:be69 with SMTP id e9e14a558f8ab-3d16f4d9170mr14088865ab.11.1739247190083; Mon, 10 Feb 2025 20:13:10 -0800 (PST) Received: from postal.iol.unh.edu (postal.iol.unh.edu. [2606:4100:3880:1234::84]) by smtp-relay.gmail.com with ESMTPS id e9e14a558f8ab-3d148395784sm5066475ab.39.2025.02.10.20.13.09 (version=TLS1_2 cipher=ECDHE-ECDSA-AES128-GCM-SHA256 bits=128/128); Mon, 10 Feb 2025 20:13:10 -0800 (PST) X-Relaying-Domain: iol.unh.edu Date: Mon, 10 Feb 2025 20:13:10 -0800 (PST) Message-ID: <67aace56.050a0220.3215ee.a21cSMTPIN_ADDED_MISSING@mx.google.com> Received: from [172.21.0.6] (unknown [172.18.0.240]) by postal.iol.unh.edu (Postfix) with ESMTP id 9DFFA6052471; Mon, 10 Feb 2025 23:13:09 -0500 (EST) Subject: |SUCCESS| pw151280 [PATCH] [v3] build: replace support for icc with From: dpdklab@iol.unh.edu To: Test Report Cc: dpdk-test-reports@iol.unh.edu In-Reply-To: <20250210171845.1669874-1-bruce.richardson@intel.com> References: <20250210171845.1669874-1-bruce.richardson@intel.com> Content-Type: text/plain X-BeenThere: test-report@dpdk.org X-Mailman-Version: 2.1.29 Precedence: list List-Id: automatic DPDK test reports List-Unsubscribe: , List-Archive: List-Post: List-Help: List-Subscribe: , Errors-To: test-report-bounces@dpdk.org Test-Label: iol-compile-amd64-testing Test-Status: SUCCESS http://dpdk.org/patch/151280 _Testing PASS_ Submitter: Bruce Richardson Date: Monday, February 10 2025 17:18:42 DPDK git baseline: Repo:dpdk Branch: master CommitID:7587660f199266ce45aabb8c2259dd09452cb01d 151280 --> testing pass Upstream job id: Windows-Compile-DPDK-Native#26603 Test environment and result as below: +---------------------+-------------------+--------------------+-------------------+------------------+-------------------------+----------------------+ | Environment | dpdk_msvc_compile | dpdk_meson_compile | dpdk_compile_spdk | dpdk_compile_ovs | dpdk_llvm_clang_compile | dpdk_mingw64_compile | +=====================+===================+====================+===================+==================+=========================+======================+ | Windows Server 2022 | PASS | SKIPPED | SKIPPED | SKIPPED | PASS | PASS | +---------------------+-------------------+--------------------+-------------------+------------------+-------------------------+----------------------+ | FreeBSD 13.4 | SKIPPED | PASS | SKIPPED | SKIPPED | SKIPPED | SKIPPED | +---------------------+-------------------+--------------------+-------------------+------------------+-------------------------+----------------------+ | FreeBSD 14.2 | SKIPPED | PASS | SKIPPED | SKIPPED | SKIPPED | SKIPPED | +---------------------+-------------------+--------------------+-------------------+------------------+-------------------------+----------------------+ | CentOS Stream 9 | SKIPPED | PASS | PASS | SKIPPED | SKIPPED | SKIPPED | +---------------------+-------------------+--------------------+-------------------+------------------+-------------------------+----------------------+ | CentOS Stream 10 | SKIPPED | PASS | SKIPPED | SKIPPED | SKIPPED | SKIPPED | +---------------------+-------------------+--------------------+-------------------+------------------+-------------------------+----------------------+ | Debian Bullseye | SKIPPED | PASS | PASS | SKIPPED | SKIPPED | SKIPPED | +---------------------+-------------------+--------------------+-------------------+------------------+-------------------------+----------------------+ | Debian 12 | SKIPPED | PASS | PASS | SKIPPED | SKIPPED | SKIPPED | +---------------------+-------------------+--------------------+-------------------+------------------+-------------------------+----------------------+ | Fedora 40 (Clang) | SKIPPED | PASS | PASS | SKIPPED | SKIPPED | SKIPPED | +---------------------+-------------------+--------------------+-------------------+------------------+-------------------------+----------------------+ | Fedora 40 | SKIPPED | PASS | PASS | SKIPPED | SKIPPED | SKIPPED | +---------------------+-------------------+--------------------+-------------------+------------------+-------------------------+----------------------+ | Fedora 41 (Clang) | SKIPPED | PASS | PASS | PASS | SKIPPED | SKIPPED | +---------------------+-------------------+--------------------+-------------------+------------------+-------------------------+----------------------+ | Fedora 41 | SKIPPED | PASS | PASS | PASS | SKIPPED | SKIPPED | +---------------------+-------------------+--------------------+-------------------+------------------+-------------------------+----------------------+ | openSUSE Leap 15 | SKIPPED | PASS | SKIPPED | SKIPPED | SKIPPED | SKIPPED | +---------------------+-------------------+--------------------+-------------------+------------------+-------------------------+----------------------+ | RHEL8 | SKIPPED | PASS | SKIPPED | SKIPPED | SKIPPED | SKIPPED | +---------------------+-------------------+--------------------+-------------------+------------------+-------------------------+----------------------+ | RHEL9 | SKIPPED | PASS | SKIPPED | SKIPPED | SKIPPED | SKIPPED | +---------------------+-------------------+--------------------+-------------------+------------------+-------------------------+----------------------+ | Ubuntu 20.04 | SKIPPED | PASS | SKIPPED | SKIPPED | SKIPPED | SKIPPED | +---------------------+-------------------+--------------------+-------------------+------------------+-------------------------+----------------------+ | Ubuntu 22.04 | SKIPPED | PASS | PASS | SKIPPED | SKIPPED | SKIPPED | +---------------------+-------------------+--------------------+-------------------+------------------+-------------------------+----------------------+ | Ubuntu 24.04 | SKIPPED | PASS | PASS | PASS | SKIPPED | SKIPPED | +---------------------+-------------------+--------------------+-------------------+------------------+-------------------------+----------------------+ | Alpine | SKIPPED | PASS | SKIPPED | SKIPPED | SKIPPED | SKIPPED | +---------------------+-------------------+--------------------+-------------------+------------------+-------------------------+----------------------+ Windows Server 2022 Kernel: 10.0.20348.2031 Compiler: clang 15.0.7, gcc 14.1.0 (MinGW), and MSVC VS 19.39.33521 FreeBSD 13.4 Kernel: 13.4-RELEASE-p1 Compiler: clang 18.1.6 FreeBSD 14.2 Kernel: 14.2-RELEASE Compiler: clang 18.1.6 CentOS Stream 9 Kernel: Depends on container host Compiler: gcc 11.5.0 20240719 (Red Hat 11.5.0-2) CentOS Stream 10 Kernel: Depends on container host Compiler: gcc 14.2.1 20241104 (Red Hat 14.2.1-6) Debian Bullseye Kernel: Depends on container host Compiler: gcc (Debian 10.2.1-6) 10.2.1 20210110 Debian 12 Kernel: Depends on container host Compiler: gcc (Debian 12.2.0-14) 12.2.0 Fedora 40 (Clang) Kernel: Depends on container host Compiler: clang 18.1.8 (Fedora 18.1.8-1.fc40) Fedora 40 Kernel: Depends on container host Compiler: gcc 14.2.1 20240912 (Red Hat 14.2.1-3) Fedora 41 (Clang) Kernel: Depends on container host Compiler: clang 19.1.5 (Fedora 19.1.5-1.fc41) Fedora 41 Kernel: Depends on container host Compiler: gcc 14.2.1 20240912 (Red Hat 14.2.1-3) openSUSE Leap 15 Kernel: Depends on container host Compiler: gcc (SUSE Linux) 7.5.0 RHEL8 Kernel: Depends on container host Compiler: gcc 8.5.0 20210514 (Red Hat 8.5.0-22) RHEL9 Kernel: Depends on container host Compiler: gcc 11.5.0 20240719 (Red Hat 11.5.0-2) Ubuntu 20.04 Kernel: Depends on container host Compiler: gcc (Ubuntu 9.4.0-1ubuntu1~20.04.2) 9.4.0 Ubuntu 22.04 Kernel: Depends on container host Compiler: gcc (Ubuntu 11.4.0-1ubuntu1~22.04) 11.4.0 Ubuntu 24.04 Kernel: Depends on container host Compiler: gcc (Ubuntu 13.3.0-6ubuntu2~24.04) 13.3.0 Alpine Kernel: Depends on container host Compiler: gcc (Alpine 14.2.0) 14.2.0 To view detailed results, visit: https://lab.dpdk.org/results/dashboard/patchsets/32549/ UNH-IOL DPDK Community Lab To manage your email subscriptions, visit: https://lab.dpdk.org/results/dashboard/preferences/subscriptions/