From mboxrd@z Thu Jan 1 00:00:00 1970 Return-Path: Received: from mails.dpdk.org (mails.dpdk.org [217.70.189.124]) by inbox.dpdk.org (Postfix) with ESMTP id EB96E461F2 for ; Tue, 11 Feb 2025 05:28:52 +0100 (CET) Received: from mails.dpdk.org (localhost [127.0.0.1]) by mails.dpdk.org (Postfix) with ESMTP id CD3F4402A1; Tue, 11 Feb 2025 05:28:52 +0100 (CET) Received: from mail-qv1-f97.google.com (mail-qv1-f97.google.com [209.85.219.97]) by mails.dpdk.org (Postfix) with ESMTP id 5ED8B40150 for ; Tue, 11 Feb 2025 05:28:51 +0100 (CET) Received: by mail-qv1-f97.google.com with SMTP id 6a1803df08f44-6e4554e1c26so25729096d6.0 for ; Mon, 10 Feb 2025 20:28:51 -0800 (PST) DKIM-Signature: v=1; a=rsa-sha256; c=relaxed/relaxed; d=iol.unh.edu; s=unh-iol; t=1739248130; x=1739852930; darn=dpdk.org; h=references:in-reply-to:cc:to:from:subject:message-id:date:from:to :cc:subject:date:message-id:reply-to; bh=AA2cf8u0SS1di5IhzphivJG/R/Zf8jU0/8nWamp/yAk=; b=XlYI34UwJ5ugDaTmZUTnczkPZs8ib/CQ9NH0ehwjauC2zHu5AIu9gOAYgjxuoJAY8S yhvyuhy7U8o15q5lILxn3beiVVn6r/CBEpp8DJaLWxU41PJPWIogiOhYcHI3EMAIGdjQ 0BgnjSUa5+ZHKx+bRz+dN/x35D5VBuKztV4EQ= X-Google-DKIM-Signature: v=1; a=rsa-sha256; c=relaxed/relaxed; d=1e100.net; s=20230601; t=1739248130; x=1739852930; h=references:in-reply-to:cc:to:from:subject:message-id:date :x-gm-message-state:from:to:cc:subject:date:message-id:reply-to; bh=AA2cf8u0SS1di5IhzphivJG/R/Zf8jU0/8nWamp/yAk=; b=MEvfPsY+oaqAFtHxC+8sJj3E+E+d406IRc4QLFEt9NHfpqpXJZ4YLOrSIdJqWPgxwK 156DNpuXAQFrlicdKzSiLb4p1rU45t8m2K9kvC8nEUsjOl2GZ3yKOevPxjdfsWC4dG5C oibOZvV5xPQWz/KJpJH3T20oGcXvl2HhkuN8U9Ja0kHAs0MPnV54vKdnf0sRl98dfMfw ZWy21WSqROzE/PaFipBpAb++MLIbvaw5KAO3UcnBQ+kl7OkCTqT5sngigmFSCRVKyLwa 2ImagXSju3uJf5MWwm79AIXf1JgLD2f5NNUhGNc3aRX5x/qkoPVafRDpDKKDtqBcgc9g TCUA== X-Gm-Message-State: AOJu0YzsJf9jum/798J+4ahucPWwQ1t1doBY/ENcetH5rcG2ubq4ebhr ef2QSeFkIqQ9V9o1QXO7iTdkwFzTFlN2XdTJyu78VjhB5zDOW/leA7dxr9yQb6rsPSAu7rSzf1g oK+4KRZtsqA3C9gIWJ5FPxgVt3gX1nYqFBB1atH60+AmAdO6TbKF9tq3Q X-Gm-Gg: ASbGncsWxZgABHbuob0d16Kv0MqrEmFxpl4614aD5nKBXfMdFBTaejj06RiZrlPYB4A 9LY7dk8c52CnnHewZEnogt0dCVAazFsXEpqzFIRdQGYpySbt8mIJFhcZWQB6WBfFcvx2vLIKU2b UKXNzwUak/EdaF//Dcuy13UIkTKYoshLxsA06wpu8AqfJKt3dhPpfeOVpfaABLD1R/U1UGCIrvP 19sNG3V6pH+d1ikR88m5BFfcGoQjievbXgHWHCPp67lNt4TDXSRFX+PaoDGiYE2zPKj785gYZZH jeXEOLS2/WohKbvLP/fnKLj8SrbMfk0ZCfg9l8iPQQ== X-Google-Smtp-Source: AGHT+IFnU2OhcaRf2AIWr8uLqKRMiW7d26SoicGg23l1BZfDf9QqWHsPMiGoUOB1kwr8Ko1uuRQlWFd+DmQ+ X-Received: by 2002:a05:6214:4004:b0:6e2:383f:4acd with SMTP id 6a1803df08f44-6e468044c2fmr31593906d6.7.1739248130712; Mon, 10 Feb 2025 20:28:50 -0800 (PST) Received: from postal.iol.unh.edu (postal.iol.unh.edu. [2606:4100:3880:1234::84]) by smtp-relay.gmail.com with ESMTPS id 6a1803df08f44-6e45e662178sm2556506d6.16.2025.02.10.20.28.50 (version=TLS1_2 cipher=ECDHE-ECDSA-AES128-GCM-SHA256 bits=128/128); Mon, 10 Feb 2025 20:28:50 -0800 (PST) X-Relaying-Domain: iol.unh.edu Date: Mon, 10 Feb 2025 20:28:50 -0800 (PST) Message-ID: <67aad202.050a0220.2f778b.dddaSMTPIN_ADDED_MISSING@mx.google.com> Received: from [172.21.0.5] (unknown [172.18.0.240]) by postal.iol.unh.edu (Postfix) with ESMTP id 599C76052471; Mon, 10 Feb 2025 23:28:50 -0500 (EST) Subject: |SUCCESS| pw151280 [PATCH] [v3] build: replace support for icc with From: dpdklab@iol.unh.edu To: Test Report Cc: dpdk-test-reports@iol.unh.edu In-Reply-To: <20250210171845.1669874-1-bruce.richardson@intel.com> References: <20250210171845.1669874-1-bruce.richardson@intel.com> Content-Type: text/plain X-BeenThere: test-report@dpdk.org X-Mailman-Version: 2.1.29 Precedence: list List-Id: automatic DPDK test reports List-Unsubscribe: , List-Archive: List-Post: List-Help: List-Subscribe: , Errors-To: test-report-bounces@dpdk.org Test-Label: iol-compile-arm64-testing Test-Status: SUCCESS http://dpdk.org/patch/151280 _Testing PASS_ Submitter: Bruce Richardson Date: Monday, February 10 2025 17:18:42 DPDK git baseline: Repo:dpdk Branch: master CommitID:7587660f199266ce45aabb8c2259dd09452cb01d 151280 --> testing pass Upstream job id: Generic-DPDK-Compile-Meson#360349 Test environment and result as below: +----------------------------------------+--------------------+ | Environment | dpdk_meson_compile | +========================================+====================+ | RHEL9 (ARM) | PASS | +----------------------------------------+--------------------+ | Ubuntu 20.04 ARM GCC Cross Compile | PASS | +----------------------------------------+--------------------+ | Ubuntu 20.04 ARM SVE | PASS | +----------------------------------------+--------------------+ | Debian 12 with MUSDK | PASS | +----------------------------------------+--------------------+ | Fedora 40 (ARM) | PASS | +----------------------------------------+--------------------+ | Fedora 40 (ARM Clang) | PASS | +----------------------------------------+--------------------+ | Fedora 41 (ARM) | PASS | +----------------------------------------+--------------------+ | Fedora 41 (ARM Clang) | PASS | +----------------------------------------+--------------------+ | Ubuntu 20.04 (ARM) | PASS | +----------------------------------------+--------------------+ | Ubuntu 22.04 (ARM) | PASS | +----------------------------------------+--------------------+ | Ubuntu 24.04 (ARM) | PASS | +----------------------------------------+--------------------+ | CentOS Stream 9 (ARM) | PASS | +----------------------------------------+--------------------+ | CentOS Stream 10 (ARM) | PASS | +----------------------------------------+--------------------+ | Debian 11 (Buster) (ARM) | PASS | +----------------------------------------+--------------------+ | Debian 12 (arm) | PASS | +----------------------------------------+--------------------+ | Ubuntu 20.04 ARM Clang Cross Compile | PASS | +----------------------------------------+--------------------+ | Ubuntu 20.04 aarch32 GCC Cross Compile | PASS | +----------------------------------------+--------------------+ RHEL9 (ARM) Kernel: Depends on container host Compiler: gcc 11.5.0 20240719 (Red Hat 11.5.0-2) Ubuntu 20.04 ARM GCC Cross Compile Kernel: Depends on container host Compiler: aarch64-linux-gnu-gcc (Ubuntu 9.4.0-1ubuntu1~20.04.2) 9.4.0 Ubuntu 20.04 ARM SVE Kernel: Depends on container host Compiler: gcc (Ubuntu 10.5.0-1ubuntu1~20.04) 10.5.0 Debian 12 with MUSDK Kernel: Depends on container host Compiler: gcc (Debian 12.2.0-14) 12.2.0 Fedora 40 (ARM) Kernel: Depends on container host Compiler: gcc 14.2.1 20240912 (Red Hat 14.2.1-3) Fedora 40 (ARM Clang) Kernel: Depends on container host Compiler: clang 18.1.8 (Fedora 18.1.8-1.fc40) Fedora 41 (ARM) Kernel: Depends on container host Compiler: gcc 14.2.1 20240912 (Red Hat 14.2.1-3) Fedora 41 (ARM Clang) Kernel: Depends on container host Compiler: clang 19.1.5 (Fedora 19.1.5-1.fc41) Ubuntu 20.04 (ARM) Kernel: Depends on container host Compiler: gcc (Ubuntu 9.4.0-1ubuntu1~20.04.2) 9.4.0 Ubuntu 22.04 (ARM) Kernel: Depends on container host Compiler: gcc (Ubuntu 11.4.0-1ubuntu1~22.04) 11.4.0 Ubuntu 24.04 (ARM) Kernel: Depends on container host Compiler: gcc (Ubuntu 13.3.0-6ubuntu2~24.04) 13.3.0 CentOS Stream 9 (ARM) Kernel: Depends on container host Compiler: gcc 11.5.0 20240719 (Red Hat 11.5.0-2) CentOS Stream 10 (ARM) Kernel: Depends on container host Compiler: gcc 14.2.1 20241104 (Red Hat 14.2.1-6) Debian 11 (Buster) (ARM) Kernel: Depends on container host Compiler: gcc (Debian 10.2.1-6) 10.2.1 20210110 Debian 12 (arm) Kernel: Depends on container host Compiler: gcc (Debian 12.2.0-14) 12.2.0 Ubuntu 20.04 ARM Clang Cross Compile Kernel: Depends on container host Compiler: clang 10.0.0-4ubuntu1 Ubuntu 20.04 aarch32 GCC Cross Compile Kernel: Depends on container host Compiler: gcc 9.4.0 To view detailed results, visit: https://lab.dpdk.org/results/dashboard/patchsets/32549/ UNH-IOL DPDK Community Lab To manage your email subscriptions, visit: https://lab.dpdk.org/results/dashboard/preferences/subscriptions/