From mboxrd@z Thu Jan 1 00:00:00 1970 Return-Path: Received: from mails.dpdk.org (mails.dpdk.org [217.70.189.124]) by inbox.dpdk.org (Postfix) with ESMTP id 5E525461F2 for ; Tue, 11 Feb 2025 05:34:47 +0100 (CET) Received: from mails.dpdk.org (localhost [127.0.0.1]) by mails.dpdk.org (Postfix) with ESMTP id 52F1940156; Tue, 11 Feb 2025 05:34:47 +0100 (CET) Received: from mail-qv1-f100.google.com (mail-qv1-f100.google.com [209.85.219.100]) by mails.dpdk.org (Postfix) with ESMTP id 7CBCF40150 for ; Tue, 11 Feb 2025 05:34:45 +0100 (CET) Received: by mail-qv1-f100.google.com with SMTP id 6a1803df08f44-6e4554e1c26so25761006d6.0 for ; Mon, 10 Feb 2025 20:34:45 -0800 (PST) DKIM-Signature: v=1; a=rsa-sha256; c=relaxed/relaxed; d=iol.unh.edu; s=unh-iol; t=1739248485; x=1739853285; darn=dpdk.org; h=references:in-reply-to:cc:to:from:subject:message-id:date:from:to :cc:subject:date:message-id:reply-to; bh=/XNGJrj4M/5EWoR7j7DgKjz+EmCOtl0DlFdYKwalsDk=; b=YEvecFunk5Hrzt4d8TZippaFgTrG2cM4f8he/81zgfJjOVqwIgybhivwIhHerxgHFp 3eLlJTSVkvQp8Z4xpXIZKX3J21FY8BBukqqRpT6dITCpwYxqFbLRFGxcUNsad3Ph02NB 0ChuDXNMx45vd61TWg78Zw0askfeHjvO0/lTE= X-Google-DKIM-Signature: v=1; a=rsa-sha256; c=relaxed/relaxed; d=1e100.net; s=20230601; t=1739248485; x=1739853285; h=references:in-reply-to:cc:to:from:subject:message-id:date :x-gm-message-state:from:to:cc:subject:date:message-id:reply-to; bh=/XNGJrj4M/5EWoR7j7DgKjz+EmCOtl0DlFdYKwalsDk=; b=n2ZUJ2mmJq31jGtUx4CEElXV+N94uekPxW2qbpX4IcSjS8CAd8O8EEOV4hsEPLfAMR NeN6zsCtcRnzwnhqFhBm16uefG1jqZDDkt3MLNDDcLuc6f+H8ZmwUij0H8aBcq66/eUq eNK3MfQJKlhuN++JTEIJjkDW0+MWbCy1YSVyO9Mfp1mvbOXHH8Bm3fAJM8IxgZqxp3+v aaiXv6eSgiW5e8+bQIfrs5Nuex1p+H2Pu9z4JsFnxZyZ0uL+4YMJxvW7b+O5uRQH7hLQ 98tjnIFC7X94hJaGoUVwrPDIu0ixeaVybLZBk59fct2FEzT3VJVI+qKhYTav5ajIjX2r g0vQ== X-Gm-Message-State: AOJu0YxV8Zw3ZN94HA++E1IBH1xA1y/Trl0XCyKeraYfRkXV5PhKYw8J y+/YRKEvFKTBiHwL2M6uSm9Os2N0Sw5lunLWYxBAOXV2F94ZjaOs4DbJP5WBB+eq8P2QqN4EdW5 5UOBUz7U+2MS90sk4OpdEw52OG/eLdAcHZZ8mW6Kz X-Gm-Gg: ASbGncv2JkN4DNfLefCYZCiJI45xnvY6i1+ysSJwOmAB3LljJ+S9cg0vckrxqGFMvqo zB/iFGKL4/3oYdTxnXCaJqE7dhsSGEd6D6XA1yhfppn2V1aj6GDwP8x64fVWWGD3L86nU0+bcjP QV8tSj0ZmiyYbRJKGCH9ZEhK7a3icEumwKut0CKtlajkft67YLVssAEWB4UUsQZ1meQePZhrzSY 8iQaq3m29lvs+klVhcIbghcAuUpDzt/YPLfgkpWYFdfXffmT3OxrI650S+UMY4TkOTiOVaS99ac XZnvmLiRAPaLjtes2C0qCxCFgkYLbg== X-Google-Smtp-Source: AGHT+IGv2jUTMLcT3adsJNsYfs8PoxYkauW8tynzIXjhDfu3r9t0wO+lAmmXvUfbMCKNFT1H+fH20ty9Qla6 X-Received: by 2002:a05:6214:2a4b:b0:6e4:47b0:8b53 with SMTP id 6a1803df08f44-6e468042edbmr27865846d6.9.1739248484859; Mon, 10 Feb 2025 20:34:44 -0800 (PST) Received: from postal.iol.unh.edu (postal.iol.unh.edu. [132.177.123.84]) by smtp-relay.gmail.com with ESMTPS id 6a1803df08f44-6e45d062f20sm2828866d6.61.2025.02.10.20.34.44 (version=TLS1_2 cipher=ECDHE-ECDSA-AES128-GCM-SHA256 bits=128/128); Mon, 10 Feb 2025 20:34:44 -0800 (PST) X-Relaying-Domain: iol.unh.edu Date: Mon, 10 Feb 2025 20:34:44 -0800 (PST) Message-ID: <67aad364.050a0220.343b06.ee03SMTPIN_ADDED_MISSING@mx.google.com> Received: from [172.21.0.5] (unknown [172.18.0.240]) by postal.iol.unh.edu (Postfix) with ESMTP id 7CE8C6052471; Mon, 10 Feb 2025 23:34:44 -0500 (EST) Subject: |SUCCESS| pw151290 [PATCH] [v6] net: add thread-safe crc api From: dpdklab@iol.unh.edu To: Test Report Cc: dpdk-test-reports@iol.unh.edu In-Reply-To: <20250210212710.708809-1-arkadiuszx.kusztal@intel.com> References: <20250210212710.708809-1-arkadiuszx.kusztal@intel.com> Content-Type: text/plain X-BeenThere: test-report@dpdk.org X-Mailman-Version: 2.1.29 Precedence: list List-Id: automatic DPDK test reports List-Unsubscribe: , List-Archive: List-Post: List-Help: List-Subscribe: , Errors-To: test-report-bounces@dpdk.org Test-Label: iol-unit-amd64-testing Test-Status: SUCCESS http://dpdk.org/patch/151290 _Testing PASS_ Submitter: Kusztal, ArkadiuszX Date: Monday, February 10 2025 21:27:10 DPDK git baseline: Repo:dpdk Branch: master CommitID:7125636162d67b1c40ba6802a3ff4466d125d243 151290 --> testing pass Upstream job id: Generic-Unit-Test-DPDK#313890 Test environment and result as below: +---------------------+----------------+ | Environment | dpdk_unit_test | +=====================+================+ | Debian 12 | PASS | +---------------------+----------------+ | Debian Bullseye | PASS | +---------------------+----------------+ | CentOS Stream 10 | PASS | +---------------------+----------------+ | Fedora 40 | PASS | +---------------------+----------------+ | CentOS Stream 9 | PASS | +---------------------+----------------+ | Fedora 40 (Clang) | PASS | +---------------------+----------------+ | Fedora 41 | PASS | +---------------------+----------------+ | Fedora 41 (Clang) | PASS | +---------------------+----------------+ | Ubuntu 22.04 | PASS | +---------------------+----------------+ | RHEL8 | PASS | +---------------------+----------------+ | RHEL9 | PASS | +---------------------+----------------+ | Ubuntu 20.04 | PASS | +---------------------+----------------+ | Ubuntu 24.04 | PASS | +---------------------+----------------+ | Windows Server 2022 | PASS | +---------------------+----------------+ Debian 12 Kernel: Depends on container host Compiler: gcc (Debian 12.2.0-14) 12.2.0 Debian Bullseye Kernel: Depends on container host Compiler: gcc (Debian 10.2.1-6) 10.2.1 20210110 CentOS Stream 10 Kernel: Depends on container host Compiler: gcc 14.2.1 20241104 (Red Hat 14.2.1-6) Fedora 40 Kernel: Depends on container host Compiler: gcc 14.2.1 20240912 (Red Hat 14.2.1-3) CentOS Stream 9 Kernel: Depends on container host Compiler: gcc 11.5.0 20240719 (Red Hat 11.5.0-2) Fedora 40 (Clang) Kernel: Depends on container host Compiler: clang 18.1.8 (Fedora 18.1.8-1.fc40) Fedora 41 Kernel: Depends on container host Compiler: gcc 14.2.1 20240912 (Red Hat 14.2.1-3) Fedora 41 (Clang) Kernel: Depends on container host Compiler: clang 19.1.5 (Fedora 19.1.5-1.fc41) Ubuntu 22.04 Kernel: Depends on container host Compiler: gcc (Ubuntu 11.4.0-1ubuntu1~22.04) 11.4.0 RHEL8 Kernel: Depends on container host Compiler: gcc 8.5.0 20210514 (Red Hat 8.5.0-22) RHEL9 Kernel: Depends on container host Compiler: gcc 11.5.0 20240719 (Red Hat 11.5.0-2) Ubuntu 20.04 Kernel: Depends on container host Compiler: gcc (Ubuntu 9.4.0-1ubuntu1~20.04.2) 9.4.0 Ubuntu 24.04 Kernel: Depends on container host Compiler: gcc (Ubuntu 13.3.0-6ubuntu2~24.04) 13.3.0 Windows Server 2022 Kernel: 10.0.20348.2031 Compiler: clang 15.0.7, gcc 14.1.0 (MinGW), and MSVC VS 19.39.33521 To view detailed results, visit: https://lab.dpdk.org/results/dashboard/patchsets/32554/ UNH-IOL DPDK Community Lab To manage your email subscriptions, visit: https://lab.dpdk.org/results/dashboard/preferences/subscriptions/