From mboxrd@z Thu Jan 1 00:00:00 1970 Return-Path: Received: from mails.dpdk.org (mails.dpdk.org [217.70.189.124]) by inbox.dpdk.org (Postfix) with ESMTP id 7A4B8461F2 for ; Tue, 11 Feb 2025 05:35:21 +0100 (CET) Received: from mails.dpdk.org (localhost [127.0.0.1]) by mails.dpdk.org (Postfix) with ESMTP id 7245640156; Tue, 11 Feb 2025 05:35:21 +0100 (CET) Received: from mail-yb1-f225.google.com (mail-yb1-f225.google.com [209.85.219.225]) by mails.dpdk.org (Postfix) with ESMTP id 243DC40150 for ; Tue, 11 Feb 2025 05:35:20 +0100 (CET) Received: by mail-yb1-f225.google.com with SMTP id 3f1490d57ef6-e5b4d615362so3086847276.2 for ; Mon, 10 Feb 2025 20:35:20 -0800 (PST) DKIM-Signature: v=1; a=rsa-sha256; c=relaxed/relaxed; d=iol.unh.edu; s=unh-iol; t=1739248519; x=1739853319; darn=dpdk.org; h=references:in-reply-to:cc:to:from:subject:message-id:date:from:to :cc:subject:date:message-id:reply-to; bh=oXENOPCoMsWRARIcq9haoMmFX2NaKgsWzcddHfesxE8=; b=LRrd6mPRkFESls6Ouj3oW4DwRtZiK2oFjrPQjzB1yQCshwuAnRwhgAYl4SGxbwtyDd pUnN9bn9XtlkNlUN/fNXrUAgQV3BBjrywpKVHkkRpvKIp6ZWMCGE1yddPAf+M9PYqPhs 0YxvqfTl1zRug4RO3ZqJokGc/Dsc6IcwLNyng= X-Google-DKIM-Signature: v=1; a=rsa-sha256; c=relaxed/relaxed; d=1e100.net; s=20230601; t=1739248519; x=1739853319; h=references:in-reply-to:cc:to:from:subject:message-id:date :x-gm-message-state:from:to:cc:subject:date:message-id:reply-to; bh=oXENOPCoMsWRARIcq9haoMmFX2NaKgsWzcddHfesxE8=; b=IjReQZIYvZ8M++WsWrsHux8g1veokazxNjhkjotPzwBy2ROX0EZEVfkEHmPmoLexJv kF0d0UUfIwODfcftQN7CfAkswSLXHj6T1DEBoJNEWC8NGRvtyczItCChe1/lek4XPs8g zjMRYrurUzjUaKHf5qLcfcWmjiQ1pd7I4NVcxo0KGQPxfG1T63B4dqyQAHEJ7lawxDCo 8lZJnF/t8qC1TnWSj0zpKcYVOt7XMq++wN2uTOaZaF2GjF2rTevVtYnVLkOs2Nw9hvZ1 gbE+cp1KWAKWCHnJ05GtStkxRrLDa3iFvmRYwNUpKN3xPL9oGmAMnsZxYqR/XQSH0KL5 ZaVg== X-Gm-Message-State: AOJu0YxUExY5+r7VSxF4M6dzq830N01M9rtxcxPM3eAglhdQM5wmE7dm 5Vv9oiCywvLl1Fqj++BUrmHQgmfmEhN0QlrNCBQOUQMWOkejWhAY+b8B4W3WPNzGL2gcFcvB2h4 ctXzd18jBTM2gH9FTNsmiyTzYhLUKlm/ogp5qSe6X X-Gm-Gg: ASbGncswRFkoOR63qVoT2zewC6E9h0erDTV7rmS2rlerA7H5lSDinX4oG8mMGtka8/p i/gfPsMF4IA32IxHxaBtLmlyjGSy8JWMPLzvDVM0chZ6LuW10lifG8EUR3FRPPLUmhlWBmO+N5P VWKbqK9siZ7sxI6yVONsryj0uTxvDNtLo5yx9XHpRui8x9IcNUYAnbk4PA10lovy+R+IjClg+9m l9TDLW6qe83L63KWxCsZLhVqg1qsoZpA41qcd1csILdvHLdN3WTUO0pMg1mmC3ahRZ1x60gba43 UO56ua/CsKlQhFX4VsNp6ZozNVm40w== X-Google-Smtp-Source: AGHT+IFm3jnF25+Ga4f/nXbwQon1/ICm7nCM8wwytZ5nnbYp2wIGvxVlm4Oq4QAjvypuK6HfWd/gXXI/qsZZ X-Received: by 2002:a05:6902:2682:b0:e4a:da1f:12bb with SMTP id 3f1490d57ef6-e5b461c687dmr12881290276.26.1739248519367; Mon, 10 Feb 2025 20:35:19 -0800 (PST) Received: from postal.iol.unh.edu (postal.iol.unh.edu. [132.177.123.84]) by smtp-relay.gmail.com with ESMTPS id 3f1490d57ef6-e5b3a206702sm617232276.10.2025.02.10.20.35.19 (version=TLS1_2 cipher=ECDHE-ECDSA-AES128-GCM-SHA256 bits=128/128); Mon, 10 Feb 2025 20:35:19 -0800 (PST) X-Relaying-Domain: iol.unh.edu Date: Mon, 10 Feb 2025 20:35:19 -0800 (PST) Message-ID: <67aad387.250a0220.bbb86.122fSMTPIN_ADDED_MISSING@mx.google.com> Received: from [172.21.0.5] (unknown [172.18.0.240]) by postal.iol.unh.edu (Postfix) with ESMTP id 063DA6052471; Mon, 10 Feb 2025 23:35:19 -0500 (EST) Subject: |SUCCESS| pw151280 [PATCH] [v3] build: replace support for icc with From: dpdklab@iol.unh.edu To: Test Report Cc: dpdk-test-reports@iol.unh.edu In-Reply-To: <20250210171845.1669874-1-bruce.richardson@intel.com> References: <20250210171845.1669874-1-bruce.richardson@intel.com> Content-Type: text/plain X-BeenThere: test-report@dpdk.org X-Mailman-Version: 2.1.29 Precedence: list List-Id: automatic DPDK test reports List-Unsubscribe: , List-Archive: List-Post: List-Help: List-Subscribe: , Errors-To: test-report-bounces@dpdk.org Test-Label: iol-compile-arm64-testing Test-Status: SUCCESS http://dpdk.org/patch/151280 _Testing PASS_ Submitter: Bruce Richardson Date: Monday, February 10 2025 17:18:42 DPDK git baseline: Repo:dpdk Branch: master CommitID:7587660f199266ce45aabb8c2259dd09452cb01d 151280 --> testing pass Upstream job id: Generic-DPDK-Compile-Meson#360317 Test environment and result as below: +----------------------------------------+--------------------+ | Environment | dpdk_meson_compile | +========================================+====================+ | RHEL9 (ARM) | PASS | +----------------------------------------+--------------------+ | Ubuntu 20.04 ARM GCC Cross Compile | PASS | +----------------------------------------+--------------------+ | Fedora 40 (ARM Clang) | PASS | +----------------------------------------+--------------------+ | Fedora 40 (ARM) | PASS | +----------------------------------------+--------------------+ | Ubuntu 20.04 ARM SVE | PASS | +----------------------------------------+--------------------+ | Fedora 41 (ARM) | PASS | +----------------------------------------+--------------------+ | Fedora 41 (ARM Clang) | PASS | +----------------------------------------+--------------------+ | Ubuntu 20.04 (ARM) | PASS | +----------------------------------------+--------------------+ | Ubuntu 22.04 (ARM) | PASS | +----------------------------------------+--------------------+ | CentOS Stream 9 (ARM) | PASS | +----------------------------------------+--------------------+ | Debian 12 (arm) | PASS | +----------------------------------------+--------------------+ | Debian 11 (Buster) (ARM) | PASS | +----------------------------------------+--------------------+ | CentOS Stream 10 (ARM) | PASS | +----------------------------------------+--------------------+ | Ubuntu 20.04 aarch32 GCC Cross Compile | PASS | +----------------------------------------+--------------------+ | Ubuntu 20.04 ARM Clang Cross Compile | PASS | +----------------------------------------+--------------------+ | Debian 12 with MUSDK | PASS | +----------------------------------------+--------------------+ | Ubuntu 24.04 (ARM) | PASS | +----------------------------------------+--------------------+ RHEL9 (ARM) Kernel: Depends on container host Compiler: gcc 11.5.0 20240719 (Red Hat 11.5.0-2) Ubuntu 20.04 ARM GCC Cross Compile Kernel: Depends on container host Compiler: aarch64-linux-gnu-gcc (Ubuntu 9.4.0-1ubuntu1~20.04.2) 9.4.0 Fedora 40 (ARM Clang) Kernel: Depends on container host Compiler: clang 18.1.8 (Fedora 18.1.8-1.fc40) Fedora 40 (ARM) Kernel: Depends on container host Compiler: gcc 14.2.1 20240912 (Red Hat 14.2.1-3) Ubuntu 20.04 ARM SVE Kernel: Depends on container host Compiler: gcc (Ubuntu 10.5.0-1ubuntu1~20.04) 10.5.0 Fedora 41 (ARM) Kernel: Depends on container host Compiler: gcc 14.2.1 20240912 (Red Hat 14.2.1-3) Fedora 41 (ARM Clang) Kernel: Depends on container host Compiler: clang 19.1.5 (Fedora 19.1.5-1.fc41) Ubuntu 20.04 (ARM) Kernel: Depends on container host Compiler: gcc (Ubuntu 9.4.0-1ubuntu1~20.04.2) 9.4.0 Ubuntu 22.04 (ARM) Kernel: Depends on container host Compiler: gcc (Ubuntu 11.4.0-1ubuntu1~22.04) 11.4.0 CentOS Stream 9 (ARM) Kernel: Depends on container host Compiler: gcc 11.5.0 20240719 (Red Hat 11.5.0-2) Debian 12 (arm) Kernel: Depends on container host Compiler: gcc (Debian 12.2.0-14) 12.2.0 Debian 11 (Buster) (ARM) Kernel: Depends on container host Compiler: gcc (Debian 10.2.1-6) 10.2.1 20210110 CentOS Stream 10 (ARM) Kernel: Depends on container host Compiler: gcc 14.2.1 20241104 (Red Hat 14.2.1-6) Ubuntu 20.04 aarch32 GCC Cross Compile Kernel: Depends on container host Compiler: gcc 9.4.0 Ubuntu 20.04 ARM Clang Cross Compile Kernel: Depends on container host Compiler: clang 10.0.0-4ubuntu1 Debian 12 with MUSDK Kernel: Depends on container host Compiler: gcc (Debian 12.2.0-14) 12.2.0 Ubuntu 24.04 (ARM) Kernel: Depends on container host Compiler: gcc (Ubuntu 13.3.0-6ubuntu2~24.04) 13.3.0 To view detailed results, visit: https://lab.dpdk.org/results/dashboard/patchsets/32549/ UNH-IOL DPDK Community Lab To manage your email subscriptions, visit: https://lab.dpdk.org/results/dashboard/preferences/subscriptions/