From mboxrd@z Thu Jan 1 00:00:00 1970 Return-Path: Received: from mails.dpdk.org (mails.dpdk.org [217.70.189.124]) by inbox.dpdk.org (Postfix) with ESMTP id DE21B461F2 for ; Tue, 11 Feb 2025 05:37:14 +0100 (CET) Received: from mails.dpdk.org (localhost [127.0.0.1]) by mails.dpdk.org (Postfix) with ESMTP id D68DC40156; Tue, 11 Feb 2025 05:37:14 +0100 (CET) Received: from mail-io1-f98.google.com (mail-io1-f98.google.com [209.85.166.98]) by mails.dpdk.org (Postfix) with ESMTP id 71A5A40150 for ; Tue, 11 Feb 2025 05:37:13 +0100 (CET) Received: by mail-io1-f98.google.com with SMTP id ca18e2360f4ac-8552f27a90cso62012239f.0 for ; Mon, 10 Feb 2025 20:37:13 -0800 (PST) DKIM-Signature: v=1; a=rsa-sha256; c=relaxed/relaxed; d=iol.unh.edu; s=unh-iol; t=1739248633; x=1739853433; darn=dpdk.org; h=references:in-reply-to:cc:to:from:subject:message-id:date:from:to :cc:subject:date:message-id:reply-to; bh=Ry29dJSQos97msUyTKPFtCucgX5kiGfVrLFeUkR4Vig=; b=caGCtrw/7+qof2xx+k9HE2l0dMFdh+arMOZfv4hpcXDPP3MeZfqbzwwyzwDW+BKV/u khtzehoaFkX0E24iAbTZ8Le7E/9CyjnGHYenuVVXdNAka72vERj36b+yDWGoaFJOY5bY uLPwZ/x4OYmwGWDgSiKdlBwJWQm+8Qb5sfWk0= X-Google-DKIM-Signature: v=1; a=rsa-sha256; c=relaxed/relaxed; d=1e100.net; s=20230601; t=1739248633; x=1739853433; h=references:in-reply-to:cc:to:from:subject:message-id:date :x-gm-message-state:from:to:cc:subject:date:message-id:reply-to; bh=Ry29dJSQos97msUyTKPFtCucgX5kiGfVrLFeUkR4Vig=; b=Arx9zHiYkumzM54fZHCSWOTwAAIUb1un4/c4i1wFtBAMczv1NzUEQ4eij5t4mKZjzi 2phw3JHrgk9zvJpsE9FZV/L08lU3WHNV0tK7QoGccC7NgW+bLRaSQ4Wt/MjQplapCqJr EzKVmzDcqxkflM32i11gexWpAcAD1KDUq/kO972eCrBCd6ANB00hEws8+1jLvDCHMc4L DF+TAYoMT3fLcCdoLRvrHICP0nfaY06NyCKvZKtjo5xDPR/Lblh6L3Fd4d0xihBpA1r1 /+7kbLGiFDFIY1kdph4hysldDw/dz+9w0BoqLbXWxwOLrYRGVeivYRYHhDN0WTghXVNY zJLA== X-Gm-Message-State: AOJu0Yx7s0BB24MvDbNjspFiCT/6mA2vA3JVJYpBrHFBgu9dVxuOIF1J oVn1xXIuV8tg2gOIAwYCFQO4ZnbRKZHEjBUf4Qgq0+MbchufzX+qCMHXewE05JYxWCHNjPbzPgQ T+/Qo2HhQytYGXHiW1X+apE0VpITecNQ+1QLHFqpt X-Gm-Gg: ASbGncs3ZJyjsdWckyoa0sDVlHenJ3vXO0jes7NjgAcdhZHfggJIKsF3qF+/jMKA7Zx BM4855db5Bv00KjAWJeRwQIeY4rHb393QytnwB+NoUPtPHwOBea4GWcAxoh75H7TXJN9MBVzw5K cCnrAw9xxwPOFZaKgwqUkiFpoFdh5eopsQvLIEBtsjhduocZvmPvrAJLx6DErBi1712T/4WZeqF bnLiovHKXjVKCFqzFu3ke+8VrW7We1+txD6zO0uf0LydUyh5W8eGaAtnAwkuPf507W7CTysq+AP EUBWVgtDxEZ7M3DiH2VALwic/Vwl0Q== X-Google-Smtp-Source: AGHT+IFDNerdMS2DZBBlB5mY3fhhGir82iU0dPLdqygdKQtwmyZffYzIwSOsP9R3NX34yxBSK2VVl5xJO76K X-Received: by 2002:a5e:920d:0:b0:83a:943d:a280 with SMTP id ca18e2360f4ac-855448433c2mr144419339f.1.1739248632725; Mon, 10 Feb 2025 20:37:12 -0800 (PST) Received: from postal.iol.unh.edu (postal.iol.unh.edu. [132.177.123.84]) by smtp-relay.gmail.com with ESMTPS id 8926c6da1cb9f-4ed04e8fe4fsm98342173.17.2025.02.10.20.37.12 (version=TLS1_2 cipher=ECDHE-ECDSA-AES128-GCM-SHA256 bits=128/128); Mon, 10 Feb 2025 20:37:12 -0800 (PST) X-Relaying-Domain: iol.unh.edu Date: Mon, 10 Feb 2025 20:37:12 -0800 (PST) Message-ID: <67aad3f8.050a0220.271335.5e3bSMTPIN_ADDED_MISSING@mx.google.com> Received: from [172.21.0.6] (unknown [172.18.0.240]) by postal.iol.unh.edu (Postfix) with ESMTP id 559566052471; Mon, 10 Feb 2025 23:37:12 -0500 (EST) Subject: |SUCCESS| pw151280 [PATCH] [v3] build: replace support for icc with From: dpdklab@iol.unh.edu To: Test Report Cc: dpdk-test-reports@iol.unh.edu In-Reply-To: <20250210171845.1669874-1-bruce.richardson@intel.com> References: <20250210171845.1669874-1-bruce.richardson@intel.com> Content-Type: text/plain X-BeenThere: test-report@dpdk.org X-Mailman-Version: 2.1.29 Precedence: list List-Id: automatic DPDK test reports List-Unsubscribe: , List-Archive: List-Post: List-Help: List-Subscribe: , Errors-To: test-report-bounces@dpdk.org Test-Label: iol-compile-arm64-testing Test-Status: SUCCESS http://dpdk.org/patch/151280 _Testing PASS_ Submitter: Bruce Richardson Date: Monday, February 10 2025 17:18:42 DPDK git baseline: Repo:dpdk Branch: master CommitID:7587660f199266ce45aabb8c2259dd09452cb01d 151280 --> testing pass Upstream job id: Generic-DPDK-Compile-Meson#360308 Test environment and result as below: +----------------------------------------+--------------------+ | Environment | dpdk_meson_compile | +========================================+====================+ | RHEL9 (ARM) | PASS | +----------------------------------------+--------------------+ | Ubuntu 20.04 ARM GCC Cross Compile | PASS | +----------------------------------------+--------------------+ | Fedora 40 (ARM Clang) | PASS | +----------------------------------------+--------------------+ | Fedora 40 (ARM) | PASS | +----------------------------------------+--------------------+ | Ubuntu 20.04 ARM SVE | PASS | +----------------------------------------+--------------------+ | Fedora 41 (ARM) | PASS | +----------------------------------------+--------------------+ | Fedora 41 (ARM Clang) | PASS | +----------------------------------------+--------------------+ | Ubuntu 20.04 (ARM) | PASS | +----------------------------------------+--------------------+ | Ubuntu 22.04 (ARM) | PASS | +----------------------------------------+--------------------+ | CentOS Stream 9 (ARM) | PASS | +----------------------------------------+--------------------+ | Debian 12 (arm) | PASS | +----------------------------------------+--------------------+ | Debian 11 (Buster) (ARM) | PASS | +----------------------------------------+--------------------+ | CentOS Stream 10 (ARM) | PASS | +----------------------------------------+--------------------+ | Ubuntu 20.04 aarch32 GCC Cross Compile | PASS | +----------------------------------------+--------------------+ | Ubuntu 20.04 ARM Clang Cross Compile | PASS | +----------------------------------------+--------------------+ | Debian 12 with MUSDK | PASS | +----------------------------------------+--------------------+ | Ubuntu 24.04 (ARM) | PASS | +----------------------------------------+--------------------+ RHEL9 (ARM) Kernel: Depends on container host Compiler: gcc 11.5.0 20240719 (Red Hat 11.5.0-2) Ubuntu 20.04 ARM GCC Cross Compile Kernel: Depends on container host Compiler: aarch64-linux-gnu-gcc (Ubuntu 9.4.0-1ubuntu1~20.04.2) 9.4.0 Fedora 40 (ARM Clang) Kernel: Depends on container host Compiler: clang 18.1.8 (Fedora 18.1.8-1.fc40) Fedora 40 (ARM) Kernel: Depends on container host Compiler: gcc 14.2.1 20240912 (Red Hat 14.2.1-3) Ubuntu 20.04 ARM SVE Kernel: Depends on container host Compiler: gcc (Ubuntu 10.5.0-1ubuntu1~20.04) 10.5.0 Fedora 41 (ARM) Kernel: Depends on container host Compiler: gcc 14.2.1 20240912 (Red Hat 14.2.1-3) Fedora 41 (ARM Clang) Kernel: Depends on container host Compiler: clang 19.1.5 (Fedora 19.1.5-1.fc41) Ubuntu 20.04 (ARM) Kernel: Depends on container host Compiler: gcc (Ubuntu 9.4.0-1ubuntu1~20.04.2) 9.4.0 Ubuntu 22.04 (ARM) Kernel: Depends on container host Compiler: gcc (Ubuntu 11.4.0-1ubuntu1~22.04) 11.4.0 CentOS Stream 9 (ARM) Kernel: Depends on container host Compiler: gcc 11.5.0 20240719 (Red Hat 11.5.0-2) Debian 12 (arm) Kernel: Depends on container host Compiler: gcc (Debian 12.2.0-14) 12.2.0 Debian 11 (Buster) (ARM) Kernel: Depends on container host Compiler: gcc (Debian 10.2.1-6) 10.2.1 20210110 CentOS Stream 10 (ARM) Kernel: Depends on container host Compiler: gcc 14.2.1 20241104 (Red Hat 14.2.1-6) Ubuntu 20.04 aarch32 GCC Cross Compile Kernel: Depends on container host Compiler: gcc 9.4.0 Ubuntu 20.04 ARM Clang Cross Compile Kernel: Depends on container host Compiler: clang 10.0.0-4ubuntu1 Debian 12 with MUSDK Kernel: Depends on container host Compiler: gcc (Debian 12.2.0-14) 12.2.0 Ubuntu 24.04 (ARM) Kernel: Depends on container host Compiler: gcc (Ubuntu 13.3.0-6ubuntu2~24.04) 13.3.0 To view detailed results, visit: https://lab.dpdk.org/results/dashboard/patchsets/32549/ UNH-IOL DPDK Community Lab To manage your email subscriptions, visit: https://lab.dpdk.org/results/dashboard/preferences/subscriptions/