From mboxrd@z Thu Jan  1 00:00:00 1970
Return-Path: <test-report-bounces@dpdk.org>
Received: from mails.dpdk.org (mails.dpdk.org [217.70.189.124])
	by inbox.dpdk.org (Postfix) with ESMTP id 3EF0E461F3
	for <public@inbox.dpdk.org>; Tue, 11 Feb 2025 06:21:56 +0100 (CET)
Received: from mails.dpdk.org (localhost [127.0.0.1])
	by mails.dpdk.org (Postfix) with ESMTP id 4839640156;
	Tue, 11 Feb 2025 06:21:55 +0100 (CET)
Received: from mail-io1-f99.google.com (mail-io1-f99.google.com
 [209.85.166.99]) by mails.dpdk.org (Postfix) with ESMTP id A4DD440150
 for <test-report@dpdk.org>; Tue, 11 Feb 2025 06:21:53 +0100 (CET)
Received: by mail-io1-f99.google.com with SMTP id
 ca18e2360f4ac-8552ae0fc4dso131360939f.1
 for <test-report@dpdk.org>; Mon, 10 Feb 2025 21:21:53 -0800 (PST)
DKIM-Signature: v=1; a=rsa-sha256; c=relaxed/relaxed;
 d=iol.unh.edu; s=unh-iol; t=1739251313; x=1739856113; darn=dpdk.org;
 h=references:in-reply-to:cc:to:from:subject:message-id:date:from:to
 :cc:subject:date:message-id:reply-to;
 bh=SEG1YiQbJ8xof4bCWWiBUn9ypLrzpHLV3NahoI3cWmY=;
 b=H7H/y5WWPD7BDuIkp/nU7gfpJwRz/2kSmfiOzAp2wcqpFaE0GE0+Fj2t4tKXAXLyHb
 F/bbVe57sa4TzT06DcVD6k9F2x46TAikaLxM9ENU8lm6sQ17bOf35seCIOFWa96Wy70t
 PO1Fb768yVhzp5YdMXZjW0d9akm/AMsaVnu/Y=
X-Google-DKIM-Signature: v=1; a=rsa-sha256; c=relaxed/relaxed;
 d=1e100.net; s=20230601; t=1739251313; x=1739856113;
 h=references:in-reply-to:cc:to:from:subject:message-id:date
 :x-gm-message-state:from:to:cc:subject:date:message-id:reply-to;
 bh=SEG1YiQbJ8xof4bCWWiBUn9ypLrzpHLV3NahoI3cWmY=;
 b=BRyu6fkUtjmJxiSVrNrDeWi3nBbYDU9PY1/8QHCLFcRJuuPkBM5W/aRTCBjrrjfLKY
 ggdWagoS+IQI6egX3lCKeiYvymuulnIw7XOMcLCvwGHN28UxcA5zoXUEQBsUJpD3CjIT
 WkXQRjcDhqPmADPHRzuBFjZwwBhmtUzpuSo4xIrvFYZ/AbFr0Oxf68rNN0qECfhCLRRo
 CHUckgw3nSAKBqsPEqZx70RiCos9yzk5OC59LSP/uaCdCbx11xkQGmIcK79rrAyi3juT
 7KF3ZcKa2DPj0pitrVnPtpK6XKJ7Y2ihMo1UGP+/RJYx+5XW/BgGUFmFd6Fu0J6FK9fv
 1RPg==
X-Gm-Message-State: AOJu0Yzao6hV+r4b2LpJQeqvuuWOAXbI7ur/crFDMiPs0bsFLitl9Epy
 Xlnt0L/sFWeEskJeDV7Jve2gg9D45U5LDfOZT0Z7tGWLKwMMZXIVUZnlAP3jIW7bEiHp5Tp+jy9
 E2MZ3h6XfYGUr+/lOT1ny45o7s6jAvWKFy0wxDAQB
X-Gm-Gg: ASbGnctUYGgCWFArkS0bneRrgTdigOgP7f6QiscIr0hwQbe9TaXhr+Bjr10jram7M3r
 1EYz/9jmPmIgbkML9Q7YudSjFcAEadauShQepkNV4zzdAJbI9cNtym8ol0rHsTJnecPObtUesWc
 aSH65pGOClSen9Bn/jeVx6P7bz8xdItinE30W06iFs916ba7Q//pRWuzpjLVpP+22zQbpjVHEyU
 17MsR+rQYT9jHNsq3fnL5WGGPZ5I3HehlZAqSk6oSq8IrYXkck5AY3nrnl/dI8adm47d8fRd+cX
 QGecmnT1y45VZJkaUhPGl1kbNBFHIQ==
X-Google-Smtp-Source: AGHT+IEIySyyoiyFzrccbW/osPFDMlpmpbkUAQuvMDFeKjPUMLu935u6zw5LeunDamYIK6ImI/oXxdCYpLMG
X-Received: by 2002:a05:6602:1344:b0:84f:5547:8398 with SMTP id
 ca18e2360f4ac-8554410980dmr257468339f.11.1739251312923; 
 Mon, 10 Feb 2025 21:21:52 -0800 (PST)
Received: from postal.iol.unh.edu (postal.iol.unh.edu. [132.177.123.84])
 by smtp-relay.gmail.com with ESMTPS id
 ca18e2360f4ac-854f6545063sm55721239f.0.2025.02.10.21.21.52
 (version=TLS1_2 cipher=ECDHE-ECDSA-AES128-GCM-SHA256 bits=128/128);
 Mon, 10 Feb 2025 21:21:52 -0800 (PST)
X-Relaying-Domain: iol.unh.edu
Date: Mon, 10 Feb 2025 21:21:52 -0800 (PST)
Message-ID: <67aade70.050a0220.27c983.c601SMTPIN_ADDED_MISSING@mx.google.com>
Received: from [172.21.0.5] (unknown [172.18.0.240])
 by postal.iol.unh.edu (Postfix) with ESMTP id 3BAEA6052471;
 Tue, 11 Feb 2025 00:21:52 -0500 (EST)
Subject: |SUCCESS| pw151291-151295 [PATCH] [v3,5/5] eal/x86: defer power intr
From: dpdklab@iol.unh.edu
To: Test Report <test-report@dpdk.org>
Cc: dpdk-test-reports@iol.unh.edu
In-Reply-To: <20250210213158.4165701-6-david.marchand@redhat.com>
References: <20250210213158.4165701-6-david.marchand@redhat.com>
Content-Type: text/plain
X-BeenThere: test-report@dpdk.org
X-Mailman-Version: 2.1.29
Precedence: list
List-Id: automatic DPDK test reports <test-report.dpdk.org>
List-Unsubscribe: <https://mails.dpdk.org/options/test-report>,
 <mailto:test-report-request@dpdk.org?subject=unsubscribe>
List-Archive: <http://mails.dpdk.org/archives/test-report/>
List-Post: <mailto:test-report@dpdk.org>
List-Help: <mailto:test-report-request@dpdk.org?subject=help>
List-Subscribe: <https://mails.dpdk.org/listinfo/test-report>,
 <mailto:test-report-request@dpdk.org?subject=subscribe>
Errors-To: test-report-bounces@dpdk.org

Test-Label: iol-unit-arm64-testing
Test-Status: SUCCESS
http://dpdk.org/patch/151295

_Testing PASS_

Submitter: David Marchand <david.marchand@redhat.com>
Date: Monday, February 10 2025 21:31:58 
DPDK git baseline: Repo:dpdk
  Branch: master
  CommitID:99cc389af4e16011c821cabb867e6646357f429d

151291-151295 --> testing pass

Upstream job id: Generic-Unit-Test-DPDK#313869

Test environment and result as below:

+-----------------------------+----------------+--------------+---------------------------+------------------------------+
|         Environment         | dpdk_unit_test | lpm_autotest | cryptodev_sw_zuc_autotest | cryptodev_sw_snow3g_autotest |
+=============================+================+==============+===========================+==============================+
| CentOS Stream 9 (ARM)       | PASS           | SKIPPED      | SKIPPED                   | SKIPPED                      |
+-----------------------------+----------------+--------------+---------------------------+------------------------------+
| CentOS Stream 10 (ARM)      | PASS           | SKIPPED      | SKIPPED                   | SKIPPED                      |
+-----------------------------+----------------+--------------+---------------------------+------------------------------+
| 32-bit Ubuntu 22.04.4 (ARM) | PASS           | SKIPPED      | SKIPPED                   | SKIPPED                      |
+-----------------------------+----------------+--------------+---------------------------+------------------------------+
| Debian 11 (Buster) (ARM)    | PASS           | SKIPPED      | SKIPPED                   | SKIPPED                      |
+-----------------------------+----------------+--------------+---------------------------+------------------------------+
| Fedora 40 (ARM)             | PASS           | SKIPPED      | SKIPPED                   | SKIPPED                      |
+-----------------------------+----------------+--------------+---------------------------+------------------------------+
| Debian 12 (arm)             | PASS           | SKIPPED      | PASS                      | PASS                         |
+-----------------------------+----------------+--------------+---------------------------+------------------------------+
| Fedora 41 (ARM)             | PASS           | SKIPPED      | SKIPPED                   | SKIPPED                      |
+-----------------------------+----------------+--------------+---------------------------+------------------------------+
| Fedora 40 (ARM Clang)       | PASS           | SKIPPED      | SKIPPED                   | SKIPPED                      |
+-----------------------------+----------------+--------------+---------------------------+------------------------------+
| Fedora 41 (ARM Clang)       | PASS           | SKIPPED      | SKIPPED                   | SKIPPED                      |
+-----------------------------+----------------+--------------+---------------------------+------------------------------+
| RHEL9 (ARM)                 | PASS           | SKIPPED      | SKIPPED                   | SKIPPED                      |
+-----------------------------+----------------+--------------+---------------------------+------------------------------+
| Ubuntu 20.04 (ARM)          | PASS           | SKIPPED      | SKIPPED                   | SKIPPED                      |
+-----------------------------+----------------+--------------+---------------------------+------------------------------+
| Ubuntu 22.04 (ARM)          | PASS           | SKIPPED      | SKIPPED                   | SKIPPED                      |
+-----------------------------+----------------+--------------+---------------------------+------------------------------+
| Ubuntu 24.04 (ARM)          | PASS           | SKIPPED      | SKIPPED                   | SKIPPED                      |
+-----------------------------+----------------+--------------+---------------------------+------------------------------+
| Ubuntu 20.04 ARM SVE        | SKIPPED        | PASS         | SKIPPED                   | SKIPPED                      |
+-----------------------------+----------------+--------------+---------------------------+------------------------------+


CentOS Stream 9 (ARM)
	Kernel: Depends on container host
	Compiler: gcc 11.5.0 20240719 (Red Hat 11.5.0-2)

CentOS Stream 10 (ARM)
	Kernel: Depends on container host
	Compiler: gcc 14.2.1 20241104 (Red Hat 14.2.1-6)

32-bit Ubuntu 22.04.4 (ARM)
	Kernel: 5.15.83+ aarch64
	Compiler: gcc (Ubuntu 11.4.0-1ubuntu1~22.04) 11.4.0

Debian 11 (Buster) (ARM)
	Kernel: Depends on container host
	Compiler: gcc (Debian 10.2.1-6) 10.2.1 20210110

Fedora 40 (ARM)
	Kernel: Depends on container host
	Compiler: gcc 14.2.1 20240912 (Red Hat 14.2.1-3)

Debian 12 (arm)
	Kernel: Depends on container host
	Compiler: gcc (Debian 12.2.0-14) 12.2.0

Fedora 41 (ARM)
	Kernel: Depends on container host
	Compiler: gcc 14.2.1 20240912 (Red Hat 14.2.1-3)

Fedora 40 (ARM Clang)
	Kernel: Depends on container host
	Compiler: clang 18.1.8 (Fedora 18.1.8-1.fc40)

Fedora 41 (ARM Clang)
	Kernel: Depends on container host
	Compiler: clang 19.1.5 (Fedora 19.1.5-1.fc41)

RHEL9 (ARM)
	Kernel: Depends on container host
	Compiler: gcc 11.5.0 20240719 (Red Hat 11.5.0-2)

Ubuntu 20.04 (ARM)
	Kernel: Depends on container host
	Compiler: gcc (Ubuntu 9.4.0-1ubuntu1~20.04.2) 9.4.0

Ubuntu 22.04 (ARM)
	Kernel: Depends on container host
	Compiler: gcc (Ubuntu 11.4.0-1ubuntu1~22.04) 11.4.0

Ubuntu 24.04 (ARM)
	Kernel: Depends on container host
	Compiler: gcc (Ubuntu 13.3.0-6ubuntu2~24.04) 13.3.0

Ubuntu 20.04 ARM SVE
	Kernel: Depends on container host
	Compiler: gcc (Ubuntu 10.5.0-1ubuntu1~20.04) 10.5.0

To view detailed results, visit:
https://lab.dpdk.org/results/dashboard/patchsets/32555/

UNH-IOL DPDK Community Lab

To manage your email subscriptions, visit: 
https://lab.dpdk.org/results/dashboard/preferences/subscriptions/