From mboxrd@z Thu Jan 1 00:00:00 1970 Return-Path: Received: from mails.dpdk.org (mails.dpdk.org [217.70.189.124]) by inbox.dpdk.org (Postfix) with ESMTP id CD3A4461F3 for ; Tue, 11 Feb 2025 06:37:03 +0100 (CET) Received: from mails.dpdk.org (localhost [127.0.0.1]) by mails.dpdk.org (Postfix) with ESMTP id AE5EE40156; Tue, 11 Feb 2025 06:37:03 +0100 (CET) Received: from mail-pj1-f97.google.com (mail-pj1-f97.google.com [209.85.216.97]) by mails.dpdk.org (Postfix) with ESMTP id 49A7E40150 for ; Tue, 11 Feb 2025 06:37:02 +0100 (CET) Received: by mail-pj1-f97.google.com with SMTP id 98e67ed59e1d1-2fa1d9fb990so8088644a91.2 for ; Mon, 10 Feb 2025 21:37:02 -0800 (PST) DKIM-Signature: v=1; a=rsa-sha256; c=relaxed/relaxed; d=iol.unh.edu; s=unh-iol; t=1739252221; x=1739857021; darn=dpdk.org; h=references:in-reply-to:cc:to:from:subject:message-id:date:from:to :cc:subject:date:message-id:reply-to; bh=B+izLIocL06nfPVVzxCvBS5PpUF7gGKesec62wfTQu8=; b=QbKVD5cs7hcUo8D+h36HUkiM5cPhqBbyoo8HjN2ATHtCHIKhcsbh3jcHd07BKGfLox qIRFicqFkdN73EFYQxEV2AgpHKEUmd/so2wRmaMX+IS93CyExhBGc/Z+lVftyvD8ROaz jyMhYsjw9YjZcW3MunU7JXW5x8yLkeJX+tWSM= X-Google-DKIM-Signature: v=1; a=rsa-sha256; c=relaxed/relaxed; d=1e100.net; s=20230601; t=1739252221; x=1739857021; h=references:in-reply-to:cc:to:from:subject:message-id:date :x-gm-message-state:from:to:cc:subject:date:message-id:reply-to; bh=B+izLIocL06nfPVVzxCvBS5PpUF7gGKesec62wfTQu8=; b=MK3ociup9UbnSrxUgvwdopr3oL3wmNwWheWXxneQoizcil0hoAu4L3TLjLxjH534u+ iWMbwaj9dgD/ourixuIrahZ0U9bYAT8sHeOVMvBemJ7OKfeTECw1rTA3sZBVzmi4Zn97 fzQ6uNHN32sOMJLcpJgX0DsgiXOg9hTRKsOk1acM0YSdsONufky9AS9pVVjClWJGgOBS 0dza16ycqTIXqHjRajZhVBU2E3xd6UNzuLz6TTXIOzWn5IXvAR5NrcKApwBRWW4j9MJy uCmTAZxSjguXd3t/dN6p1pdTtiEy1+glUcz9c0ONdrfUbuZ873j4Tu+s4+w0mwws44W8 PZTA== X-Gm-Message-State: AOJu0YyJWwXjHUeFUp/5KJncu3HuwlGClrw/a0COAy9iOHLrYhhF/z0E Zy1XfsyKLAZMaH+dWgSKSBukLK2TW8X/IIUsM9dO+R8pE7Cv3aRIl3TfmgTzr88xclNdxaB9EBq S4znPQqVPpkTCfqt0eShjhnRiFdSby7+eXISFDN5/ X-Gm-Gg: ASbGncvpEasGy4ZFNzgw8BOkTLAfhuh0hLPfNa7lL7J72IDtzyNeoKJtX32j80bPMOt r1O8XSIyk2dZQEMjsYCYtDiiFbavQxl3h/KUbAY6x1rlXnpoqGtnsWNLC7XlCyHvc4K6ufjjZxE eTanWIVOaM4eQJQiiWrcVFQDpSa3Rr9AnpM1wTP7Th7CXCQy6+c8nqT+THLNSQEKySjtjfPYjEh Ed7vEIn9EoVhxjQk/aIkwODD6vlx5YlefD0332WUqDAwJQSUrVQzyxMg6x0k1XrL7j01055e+ST 6p1cLwDcfOboOY3HNKnFoGyx/E4Ojg== X-Google-Smtp-Source: AGHT+IE1dqsgEuL6zdRndI2YAdWmS8bWfCJctRUL2KK9HPwzQQF+L2mNptPlQUrZX+foXP5T241TvK0Lp7SC X-Received: by 2002:a17:90a:f94e:b0:2f6:d266:f45c with SMTP id 98e67ed59e1d1-2fa23f5abcemr27531444a91.2.1739252221241; Mon, 10 Feb 2025 21:37:01 -0800 (PST) Received: from postal.iol.unh.edu (postal.iol.unh.edu. [132.177.123.84]) by smtp-relay.gmail.com with ESMTPS id 98e67ed59e1d1-2fa289718adsm586111a91.10.2025.02.10.21.37.01 (version=TLS1_2 cipher=ECDHE-ECDSA-AES128-GCM-SHA256 bits=128/128); Mon, 10 Feb 2025 21:37:01 -0800 (PST) X-Relaying-Domain: iol.unh.edu Date: Mon, 10 Feb 2025 21:37:01 -0800 (PST) Message-ID: <67aae1fd.170a0220.37e433.d8ccSMTPIN_ADDED_MISSING@mx.google.com> Received: from [172.21.0.6] (unknown [172.18.0.240]) by postal.iol.unh.edu (Postfix) with ESMTP id 575A96052471; Tue, 11 Feb 2025 00:37:00 -0500 (EST) Subject: |SUCCESS| pw151280 [PATCH] [v3] build: replace support for icc with From: dpdklab@iol.unh.edu To: Test Report Cc: dpdk-test-reports@iol.unh.edu In-Reply-To: <20250210171845.1669874-1-bruce.richardson@intel.com> References: <20250210171845.1669874-1-bruce.richardson@intel.com> Content-Type: text/plain X-BeenThere: test-report@dpdk.org X-Mailman-Version: 2.1.29 Precedence: list List-Id: automatic DPDK test reports List-Unsubscribe: , List-Archive: List-Post: List-Help: List-Subscribe: , Errors-To: test-report-bounces@dpdk.org Test-Label: iol-sample-apps-testing Test-Status: SUCCESS http://dpdk.org/patch/151280 _Testing PASS_ Submitter: Bruce Richardson Date: Monday, February 10 2025 17:18:42 DPDK git baseline: Repo:dpdk Branch: master CommitID:7587660f199266ce45aabb8c2259dd09452cb01d 151280 --> testing pass Upstream job id: ACVP-FIPS-testing#8868 Test environment and result as below: +--------------------+----------------------+----------------------+ | Environment | compressdev_zlib_pmd | dpdk_fips_validation | +====================+======================+======================+ | Ubuntu 22.04 (ARM) | PASS | SKIPPED | +--------------------+----------------------+----------------------+ | Ubuntu 22.04 | PASS | SKIPPED | +--------------------+----------------------+----------------------+ | Ubuntu 20.04 | SKIPPED | PASS | +--------------------+----------------------+----------------------+ Ubuntu 22.04 (ARM) Kernel: 5.15.0-97-generic Compiler: gcc gcc (Ubuntu 11.4.0-1ubuntu1~22.04) 11.4.0 Ubuntu 22.04 Kernel: 5.15.0-100-generic Compiler: gcc gcc (Ubuntu 11.4.0-1ubuntu1~22.04) 11.4.0 Ubuntu 20.04 Kernel: Depends on container host Compiler: gcc (Ubuntu 9.4.0-1ubuntu1~20.04.2) 9.4.0 To view detailed results, visit: https://lab.dpdk.org/results/dashboard/patchsets/32549/ UNH-IOL DPDK Community Lab To manage your email subscriptions, visit: https://lab.dpdk.org/results/dashboard/preferences/subscriptions/