From mboxrd@z Thu Jan 1 00:00:00 1970 Return-Path: Received: from mails.dpdk.org (mails.dpdk.org [217.70.189.124]) by inbox.dpdk.org (Postfix) with ESMTP id 6AE66461F3 for ; Tue, 11 Feb 2025 06:41:13 +0100 (CET) Received: from mails.dpdk.org (localhost [127.0.0.1]) by mails.dpdk.org (Postfix) with ESMTP id 2F88040156; Tue, 11 Feb 2025 06:41:13 +0100 (CET) Received: from mail-io1-f100.google.com (mail-io1-f100.google.com [209.85.166.100]) by mails.dpdk.org (Postfix) with ESMTP id 8259240150 for ; Tue, 11 Feb 2025 06:41:12 +0100 (CET) Received: by mail-io1-f100.google.com with SMTP id ca18e2360f4ac-8553534922dso43655939f.2 for ; Mon, 10 Feb 2025 21:41:12 -0800 (PST) DKIM-Signature: v=1; a=rsa-sha256; c=relaxed/relaxed; d=iol.unh.edu; s=unh-iol; t=1739252472; x=1739857272; darn=dpdk.org; h=references:in-reply-to:cc:to:from:subject:message-id:date:from:to :cc:subject:date:message-id:reply-to; bh=hrw5Yqk1rCViwrsvgRuxCtu2hOKOrShCqJCqloOdXw4=; b=MoJKy851axbyFu7ynQhot5UlJgPYRu2LisKSA4/mope+TP/FoTxIzz48Br4r6u1r94 LxXZy+2+ew/e6w29h1Q5jc/MYgwhx5hxg6mpD9xkYpBCLGi+kKGYSm+OPGj2Zf4e0XAh FZ+VuPFEXgYRC6SNEHb+snGmmmNaGXnDCbMQ8= X-Google-DKIM-Signature: v=1; a=rsa-sha256; c=relaxed/relaxed; d=1e100.net; s=20230601; t=1739252472; x=1739857272; h=references:in-reply-to:cc:to:from:subject:message-id:date :x-gm-message-state:from:to:cc:subject:date:message-id:reply-to; bh=hrw5Yqk1rCViwrsvgRuxCtu2hOKOrShCqJCqloOdXw4=; b=bU9epj95eTVua9wsDXl87TJlCIceN/pkhdu4gnX/C7kv916eTN2BuPWIae8eva69bZ VdAJcx5daP2RAWRdLc9eI2FRvrvc1WPy4Z1AlHBtvZ5mjyubC123pcmpsEJvXxrlgVFj gLxDFvA2UZIaWNknrSb6QX+xNSJoUXjrY+qjhcTuQiFNxJMp8sXsbwVfIHfYxNkbrqjr T4zgv4uMGJ5d0wOK1mXOeN5KitGOtjxrSLIMq+UCevpjXIy7ymVKPaeOa/LGBOtiQGTP 8bBOwnvNa7MgVXIH9tfZ9c1Vu8QqsVHLRJeyNqSUVoFUbErxtqkmbnmPEktNoGV/Fxg4 sWtg== X-Gm-Message-State: AOJu0YxVsa0x70Vwhu0sG/mdRY5XcnhHKwj12ZItWD+SAjVhqR2kRgJq ibkP4lcEnwjGc4gqcyI7oL2xiaZDYdVU6oXF1ZcGFt4GNdG6lmJX1Fe6yAxn0kUPM9An/fOFDXu lbNipTOAcJXvxc6lB53aCsq5WRt0NVZbTH58jNrrY X-Gm-Gg: ASbGncsJtuJZUZl8h/MAY0QIVrK2Ra4dkqLgaXHHgzYBSp2sSVslBMijERVWZwYHlAj c0g+9B3Be4h8PZFRHEKgxbXKJsK5KvocrlBpXF8ZdqyH5yP32hK5yVeYClcec8BUlQCEFVyxlxt LIa6akUKsUs/VHdWwZVdBP1JXm3bp1xkwi4ubzjew/9HU0AXWP0PDeoDuZDXZJXMebQQB//DmZC 1OwLEMFz8/Bz8Ic/U5PduyGT+kMRZrMsjAINPz6707mSiHhjAbsu9hD9Pv3GY5VCywCf1n7TKph KA8WasjRiGAk2MIpMEsnOccrKV6VLQ== X-Google-Smtp-Source: AGHT+IGILcyvqHn53baiZKMDi83qMC+WQwGwkXRFFBYlcbi0hlRcS+Sxx9hWxWuY3qAafBb2tnisRPlP2B8D X-Received: by 2002:a05:6e02:1a84:b0:3cf:b2ca:39cb with SMTP id e9e14a558f8ab-3d13df2c0b4mr136244595ab.22.1739252471752; Mon, 10 Feb 2025 21:41:11 -0800 (PST) Received: from postal.iol.unh.edu (postal.iol.unh.edu. [132.177.123.84]) by smtp-relay.gmail.com with ESMTPS id 8926c6da1cb9f-4ecfe2f4befsm166301173.33.2025.02.10.21.41.11 (version=TLS1_2 cipher=ECDHE-ECDSA-AES128-GCM-SHA256 bits=128/128); Mon, 10 Feb 2025 21:41:11 -0800 (PST) X-Relaying-Domain: iol.unh.edu Date: Mon, 10 Feb 2025 21:41:11 -0800 (PST) Message-ID: <67aae2f7.050a0220.22b7ae.9516SMTPIN_ADDED_MISSING@mx.google.com> Received: from [172.21.0.5] (unknown [172.18.0.240]) by postal.iol.unh.edu (Postfix) with ESMTP id 3C99B6052471; Tue, 11 Feb 2025 00:41:11 -0500 (EST) Subject: |SUCCESS| pw151291-151295 [PATCH] [v3,5/5] eal/x86: defer power intr From: dpdklab@iol.unh.edu To: Test Report Cc: dpdk-test-reports@iol.unh.edu In-Reply-To: <20250210213158.4165701-6-david.marchand@redhat.com> References: <20250210213158.4165701-6-david.marchand@redhat.com> Content-Type: text/plain X-BeenThere: test-report@dpdk.org X-Mailman-Version: 2.1.29 Precedence: list List-Id: automatic DPDK test reports List-Unsubscribe: , List-Archive: List-Post: List-Help: List-Subscribe: , Errors-To: test-report-bounces@dpdk.org Test-Label: iol-compile-amd64-testing Test-Status: SUCCESS http://dpdk.org/patch/151295 _Testing PASS_ Submitter: David Marchand Date: Monday, February 10 2025 21:31:58 DPDK git baseline: Repo:dpdk Branch: master CommitID:99cc389af4e16011c821cabb867e6646357f429d 151291-151295 --> testing pass Upstream job id: Generic-DPDK-Compile-Meson#360354 Test environment and result as below: +---------------------+--------------------+-------------------+-------------------+------------------+-------------------------+----------------------+ | Environment | dpdk_meson_compile | dpdk_msvc_compile | dpdk_compile_spdk | dpdk_compile_ovs | dpdk_llvm_clang_compile | dpdk_mingw64_compile | +=====================+====================+===================+===================+==================+=========================+======================+ | FreeBSD 13.4 | PASS | SKIPPED | SKIPPED | SKIPPED | SKIPPED | SKIPPED | +---------------------+--------------------+-------------------+-------------------+------------------+-------------------------+----------------------+ | FreeBSD 14.2 | PASS | SKIPPED | SKIPPED | SKIPPED | SKIPPED | SKIPPED | +---------------------+--------------------+-------------------+-------------------+------------------+-------------------------+----------------------+ | CentOS Stream 9 | PASS | SKIPPED | PASS | SKIPPED | SKIPPED | SKIPPED | +---------------------+--------------------+-------------------+-------------------+------------------+-------------------------+----------------------+ | Debian Bullseye | PASS | SKIPPED | PASS | SKIPPED | SKIPPED | SKIPPED | +---------------------+--------------------+-------------------+-------------------+------------------+-------------------------+----------------------+ | Debian 12 | PASS | SKIPPED | PASS | SKIPPED | SKIPPED | SKIPPED | +---------------------+--------------------+-------------------+-------------------+------------------+-------------------------+----------------------+ | Fedora 40 (Clang) | PASS | SKIPPED | PASS | SKIPPED | SKIPPED | SKIPPED | +---------------------+--------------------+-------------------+-------------------+------------------+-------------------------+----------------------+ | Fedora 40 | PASS | SKIPPED | PASS | SKIPPED | SKIPPED | SKIPPED | +---------------------+--------------------+-------------------+-------------------+------------------+-------------------------+----------------------+ | Fedora 41 (Clang) | PASS | SKIPPED | PASS | PASS | SKIPPED | SKIPPED | +---------------------+--------------------+-------------------+-------------------+------------------+-------------------------+----------------------+ | Fedora 41 | PASS | SKIPPED | PASS | PASS | SKIPPED | SKIPPED | +---------------------+--------------------+-------------------+-------------------+------------------+-------------------------+----------------------+ | openSUSE Leap 15 | PASS | SKIPPED | SKIPPED | SKIPPED | SKIPPED | SKIPPED | +---------------------+--------------------+-------------------+-------------------+------------------+-------------------------+----------------------+ | RHEL8 | PASS | SKIPPED | SKIPPED | SKIPPED | SKIPPED | SKIPPED | +---------------------+--------------------+-------------------+-------------------+------------------+-------------------------+----------------------+ | RHEL9 | PASS | SKIPPED | SKIPPED | SKIPPED | SKIPPED | SKIPPED | +---------------------+--------------------+-------------------+-------------------+------------------+-------------------------+----------------------+ | Ubuntu 20.04 | PASS | SKIPPED | SKIPPED | SKIPPED | SKIPPED | SKIPPED | +---------------------+--------------------+-------------------+-------------------+------------------+-------------------------+----------------------+ | Ubuntu 22.04 | PASS | SKIPPED | PASS | SKIPPED | SKIPPED | SKIPPED | +---------------------+--------------------+-------------------+-------------------+------------------+-------------------------+----------------------+ | Ubuntu 24.04 | PASS | SKIPPED | PASS | PASS | SKIPPED | SKIPPED | +---------------------+--------------------+-------------------+-------------------+------------------+-------------------------+----------------------+ | Alpine | PASS | SKIPPED | SKIPPED | SKIPPED | SKIPPED | SKIPPED | +---------------------+--------------------+-------------------+-------------------+------------------+-------------------------+----------------------+ | CentOS Stream 10 | PASS | SKIPPED | SKIPPED | SKIPPED | SKIPPED | SKIPPED | +---------------------+--------------------+-------------------+-------------------+------------------+-------------------------+----------------------+ | Windows Server 2022 | SKIPPED | PASS | SKIPPED | SKIPPED | PASS | PASS | +---------------------+--------------------+-------------------+-------------------+------------------+-------------------------+----------------------+ FreeBSD 13.4 Kernel: 13.4-RELEASE-p1 Compiler: clang 18.1.6 FreeBSD 14.2 Kernel: 14.2-RELEASE Compiler: clang 18.1.6 CentOS Stream 9 Kernel: Depends on container host Compiler: gcc 11.5.0 20240719 (Red Hat 11.5.0-2) Debian Bullseye Kernel: Depends on container host Compiler: gcc (Debian 10.2.1-6) 10.2.1 20210110 Debian 12 Kernel: Depends on container host Compiler: gcc (Debian 12.2.0-14) 12.2.0 Fedora 40 (Clang) Kernel: Depends on container host Compiler: clang 18.1.8 (Fedora 18.1.8-1.fc40) Fedora 40 Kernel: Depends on container host Compiler: gcc 14.2.1 20240912 (Red Hat 14.2.1-3) Fedora 41 (Clang) Kernel: Depends on container host Compiler: clang 19.1.5 (Fedora 19.1.5-1.fc41) Fedora 41 Kernel: Depends on container host Compiler: gcc 14.2.1 20240912 (Red Hat 14.2.1-3) openSUSE Leap 15 Kernel: Depends on container host Compiler: gcc (SUSE Linux) 7.5.0 RHEL8 Kernel: Depends on container host Compiler: gcc 8.5.0 20210514 (Red Hat 8.5.0-22) RHEL9 Kernel: Depends on container host Compiler: gcc 11.5.0 20240719 (Red Hat 11.5.0-2) Ubuntu 20.04 Kernel: Depends on container host Compiler: gcc (Ubuntu 9.4.0-1ubuntu1~20.04.2) 9.4.0 Ubuntu 22.04 Kernel: Depends on container host Compiler: gcc (Ubuntu 11.4.0-1ubuntu1~22.04) 11.4.0 Ubuntu 24.04 Kernel: Depends on container host Compiler: gcc (Ubuntu 13.3.0-6ubuntu2~24.04) 13.3.0 Alpine Kernel: Depends on container host Compiler: gcc (Alpine 14.2.0) 14.2.0 CentOS Stream 10 Kernel: Depends on container host Compiler: gcc 14.2.1 20241104 (Red Hat 14.2.1-6) Windows Server 2022 Kernel: 10.0.20348.2031 Compiler: clang 15.0.7, gcc 14.1.0 (MinGW), and MSVC VS 19.39.33521 To view detailed results, visit: https://lab.dpdk.org/results/dashboard/patchsets/32555/ UNH-IOL DPDK Community Lab To manage your email subscriptions, visit: https://lab.dpdk.org/results/dashboard/preferences/subscriptions/