From mboxrd@z Thu Jan 1 00:00:00 1970 Return-Path: Received: from mails.dpdk.org (mails.dpdk.org [217.70.189.124]) by inbox.dpdk.org (Postfix) with ESMTP id F3780461F3 for ; Tue, 11 Feb 2025 06:57:10 +0100 (CET) Received: from mails.dpdk.org (localhost [127.0.0.1]) by mails.dpdk.org (Postfix) with ESMTP id CEA0840156; Tue, 11 Feb 2025 06:57:10 +0100 (CET) Received: from mail-pl1-f227.google.com (mail-pl1-f227.google.com [209.85.214.227]) by mails.dpdk.org (Postfix) with ESMTP id 6236340150 for ; Tue, 11 Feb 2025 06:57:09 +0100 (CET) Received: by mail-pl1-f227.google.com with SMTP id d9443c01a7336-21f2f386cbeso95136905ad.0 for ; Mon, 10 Feb 2025 21:57:09 -0800 (PST) DKIM-Signature: v=1; a=rsa-sha256; c=relaxed/relaxed; d=iol.unh.edu; s=unh-iol; t=1739253428; x=1739858228; darn=dpdk.org; h=references:in-reply-to:cc:to:from:subject:message-id:date:from:to :cc:subject:date:message-id:reply-to; bh=bvdvz7zKXCwUnf+67bAOoWleOnEcc2+8sjGurhQrbX0=; b=AwnTDdrBlCvPJrHfmUzB2Le3YVkMSVtMcLtxpZTGi01XILP60AjwDq/AGBVtkgg/fO jSZG3rZNSBfLwCeBHkiFvR4wtp7/S/8jFOQg12MBgH2CG0iaZnOwCjmlM3AdBXCfCnwu dDwN5UK0l7RQfErpbIGnlkmLT5cyTUCXiPkOo= X-Google-DKIM-Signature: v=1; a=rsa-sha256; c=relaxed/relaxed; d=1e100.net; s=20230601; t=1739253428; x=1739858228; h=references:in-reply-to:cc:to:from:subject:message-id:date :x-gm-message-state:from:to:cc:subject:date:message-id:reply-to; bh=bvdvz7zKXCwUnf+67bAOoWleOnEcc2+8sjGurhQrbX0=; b=GCfzGHWImx/sm1Xea60dAxHrkPdtx78vFFYhd6Ji/AMGxI7WFDdeGkLRHToVOl6YFj 4mY3kvyJ9l7elIRzDAg2r4PqIS8oKXjMSQbCdX6cbSLw6Cq4YUYn7bDS7xPkWPJ3JyLM gDS/BGopSjfCesa3cyQzG5FVlTTVDAFZz5nbeaf5Zwt4vtpOG4XtrrYfdNW2+u73gz9P YcbCBEjZBNeBfkdv4IGE7X2hUtiu0VKKK8dfZOJEjMXj9K5s71+W9XxdgH0NICpt0Ivb Aq5dGT4rP5foOifD+M9r0TIlaPlx3iswFOFlnK4vDBazYiVK21gizw5QVDLS7UGw0HNG iQ7g== X-Gm-Message-State: AOJu0YzM1Sp7RGlVVY8YoztjF+9dFRWLH2vcifUyOhXJZjk1QjdHpYGP 7H6pKf2/T7/AuF+DwWRLQtdXq0+o2Qc/GJHPLT502BYTyt/pIEIVqTPpIKYObxO6jVf/uZ9pCvp /S7GjXj8KSV9RU7ow00UzL31Ft5YcWCokbtc5st8N X-Gm-Gg: ASbGnctlF/oOU6h7tj0xta83OU81g57eZXEdD54fJY+eMr9Vc8GBWE6QovSEpeSnjhm suBKWTBKaNsVluhhCROCcqoUYm58cOu+e/u95e7Zlq1rBpPqhrY1YkpHht98zgQs6lz7/JLsYqM XUCFjkN76Ue5PsI55yfGt2GJUAUbGNcH9IMOUjGC15l4v2l5LW9OSXzjUNiLHImy0KtWcG/DJce J/f71T6/lPCQDzwLWEm2+xLyDZ38YS76d8c/gM3P9UN2DizuO/UQQuhtLWJlX/lCiIC0Pjr7z46 gKrrta8WGgW2gXHS5U5FkQlCir6a4w== X-Google-Smtp-Source: AGHT+IGBDL6ETeasB90TxxAnO4mnE6tTCHlm/h27EEibbeM4LXUyxWyYiSm08lnko5MeYPzyYFZQUwJVoXCj X-Received: by 2002:a17:903:1250:b0:216:4016:5aea with SMTP id d9443c01a7336-21f4e7059damr270870435ad.29.1739253428515; Mon, 10 Feb 2025 21:57:08 -0800 (PST) Received: from postal.iol.unh.edu (postal.iol.unh.edu. [132.177.123.84]) by smtp-relay.gmail.com with ESMTPS id d9443c01a7336-21f3650ce00sm5997585ad.19.2025.02.10.21.57.08 (version=TLS1_2 cipher=ECDHE-ECDSA-AES128-GCM-SHA256 bits=128/128); Mon, 10 Feb 2025 21:57:08 -0800 (PST) X-Relaying-Domain: iol.unh.edu Date: Mon, 10 Feb 2025 21:57:08 -0800 (PST) Message-ID: <67aae6b4.170a0220.b5198.eb33SMTPIN_ADDED_MISSING@mx.google.com> Received: from [172.21.0.6] (unknown [172.18.0.240]) by postal.iol.unh.edu (Postfix) with ESMTP id A29126052471; Tue, 11 Feb 2025 00:57:07 -0500 (EST) Subject: |SUCCESS| pw151289 [PATCH] drivers/net: signed/unsigned mismatch From: dpdklab@iol.unh.edu To: Test Report Cc: dpdk-test-reports@iol.unh.edu In-Reply-To: <1739222725-30747-1-git-send-email-andremue@linux.microsoft.com> References: <1739222725-30747-1-git-send-email-andremue@linux.microsoft.com> Content-Type: text/plain X-BeenThere: test-report@dpdk.org X-Mailman-Version: 2.1.29 Precedence: list List-Id: automatic DPDK test reports List-Unsubscribe: , List-Archive: List-Post: List-Help: List-Subscribe: , Errors-To: test-report-bounces@dpdk.org Test-Label: iol-abi-testing Test-Status: SUCCESS http://dpdk.org/patch/151289 _Testing PASS_ Submitter: Andre Muezerie Date: Monday, February 10 2025 21:25:25 DPDK git baseline: Repo:dpdk Branch: master CommitID:d4d1e6c55a2f17785ee6be361599e1c5ab28f0fb 151289 --> testing pass Upstream job id: Generic-DPDK-Compile-ABI#115741 Test environment and result as below: +-------------------+----------+ | Environment | abi_test | +===================+==========+ | CentOS Stream 9 | PASS | +-------------------+----------+ | Fedora 40 (Clang) | PASS | +-------------------+----------+ | Debian Bullseye | PASS | +-------------------+----------+ | Debian 12 | PASS | +-------------------+----------+ | CentOS Stream 10 | PASS | +-------------------+----------+ | RHEL8 | PASS | +-------------------+----------+ | Ubuntu 22.04 | PASS | +-------------------+----------+ | openSUSE Leap 15 | PASS | +-------------------+----------+ | Fedora 41 (Clang) | PASS | +-------------------+----------+ | Fedora 41 | PASS | +-------------------+----------+ | RHEL9 | PASS | +-------------------+----------+ | Ubuntu 24.04 | PASS | +-------------------+----------+ | Fedora 40 | PASS | +-------------------+----------+ CentOS Stream 9 Kernel: Depends on container host Compiler: gcc 11.5.0 20240719 (Red Hat 11.5.0-2) Fedora 40 (Clang) Kernel: Depends on container host Compiler: clang 18.1.8 (Fedora 18.1.8-1.fc40) Debian Bullseye Kernel: Depends on container host Compiler: gcc (Debian 10.2.1-6) 10.2.1 20210110 Debian 12 Kernel: Depends on container host Compiler: gcc (Debian 12.2.0-14) 12.2.0 CentOS Stream 10 Kernel: Depends on container host Compiler: gcc 14.2.1 20241104 (Red Hat 14.2.1-6) RHEL8 Kernel: Depends on container host Compiler: gcc 8.5.0 20210514 (Red Hat 8.5.0-22) Ubuntu 22.04 Kernel: Depends on container host Compiler: gcc (Ubuntu 11.4.0-1ubuntu1~22.04) 11.4.0 openSUSE Leap 15 Kernel: Depends on container host Compiler: gcc (SUSE Linux) 7.5.0 Fedora 41 (Clang) Kernel: Depends on container host Compiler: clang 19.1.5 (Fedora 19.1.5-1.fc41) Fedora 41 Kernel: Depends on container host Compiler: gcc 14.2.1 20240912 (Red Hat 14.2.1-3) RHEL9 Kernel: Depends on container host Compiler: gcc 11.5.0 20240719 (Red Hat 11.5.0-2) Ubuntu 24.04 Kernel: Depends on container host Compiler: gcc (Ubuntu 13.3.0-6ubuntu2~24.04) 13.3.0 Fedora 40 Kernel: Depends on container host Compiler: gcc 14.2.1 20240912 (Red Hat 14.2.1-3) To view detailed results, visit: https://lab.dpdk.org/results/dashboard/patchsets/32553/ UNH-IOL DPDK Community Lab To manage your email subscriptions, visit: https://lab.dpdk.org/results/dashboard/preferences/subscriptions/