From mboxrd@z Thu Jan 1 00:00:00 1970 Return-Path: Received: from mails.dpdk.org (mails.dpdk.org [217.70.189.124]) by inbox.dpdk.org (Postfix) with ESMTP id 57C94461F3 for ; Tue, 11 Feb 2025 07:26:47 +0100 (CET) Received: from mails.dpdk.org (localhost [127.0.0.1]) by mails.dpdk.org (Postfix) with ESMTP id 5286B40156; Tue, 11 Feb 2025 07:26:47 +0100 (CET) Received: from mail-il1-f228.google.com (mail-il1-f228.google.com [209.85.166.228]) by mails.dpdk.org (Postfix) with ESMTP id C80A540150 for ; Tue, 11 Feb 2025 07:26:46 +0100 (CET) Received: by mail-il1-f228.google.com with SMTP id e9e14a558f8ab-3d1469adf26so11296495ab.0 for ; Mon, 10 Feb 2025 22:26:46 -0800 (PST) DKIM-Signature: v=1; a=rsa-sha256; c=relaxed/relaxed; d=iol.unh.edu; s=unh-iol; t=1739255206; x=1739860006; darn=dpdk.org; h=references:in-reply-to:cc:to:from:subject:message-id:date:from:to :cc:subject:date:message-id:reply-to; bh=rMIwNtC9ER2KCJ1GHKppytLt4i+Uk4lgzOCnuSXMVOQ=; b=DvVLYGI4xevLONgpWrWDHcxi67QMutj5ObYAdaBaAiTLQ6tBJr4QxX/IPuuzyWj3IY oivGaIlB88YteJyu1+6GuLb4rTd63SW/d/CIxv7HJktfyIFGz0GGp0GvxE2I0EkjNnkS AE/odMgUNmVUZD+J+6nWG+IIb5OlWnMWmcu+c= X-Google-DKIM-Signature: v=1; a=rsa-sha256; c=relaxed/relaxed; d=1e100.net; s=20230601; t=1739255206; x=1739860006; h=references:in-reply-to:cc:to:from:subject:message-id:date :x-gm-message-state:from:to:cc:subject:date:message-id:reply-to; bh=rMIwNtC9ER2KCJ1GHKppytLt4i+Uk4lgzOCnuSXMVOQ=; b=PzbryvNF9b5/o9ila7PFfzXfHobbEXGymV42wLbJW7LfQ+LP89m8SplcUG2U5vBHhF W842swGFXhgKSUOp/jy0YVHjet8JlAuSz7Vk6E+3Sw2Bef9Nc+nM7i5CBgiGUJqcQZNR QugA+xHcFazCYMPfvsJrnZcKFz9mUQohNIUKmwzdBwT+FCQyJGtiTV05T4fzl08Gy2nC dDk/oaPRR+Ot4RFr4S0im/ar56+hLk3oRGmy4Iaj8c0OKkBkcM5WVl5L+ZHnmkJiPtnI k5ngjTJ+INtXrSpRQwTkQ9D5C6MdA5GzHNoXAnXpicr95gjY8WK9wOM/Mxj9RGTifMkh r+Vg== X-Gm-Message-State: AOJu0YzZxFo1EfgsUxqdDGs2lTXRSsjuATq1EHn9ZEP2XA9V1bK5QyVk ex2GPwiLCwj1hrTxZ99uNJdd3TIv1efnZmPhoJWvB2l2hepa3KLc6YqgoJiQlk0iey6ls9p/UVq 1HCjmfxu3fhxn6OFEGR4ZYj9au1Uxfl+7gncg36rQ X-Gm-Gg: ASbGncs4DtPLN5zO/w/DrJM3sjETayDzySW5YxyAyzP+fFPciDC84RV+2vBtdu77afY 6kqTDm0WMy/TrJ6tnwTPPi/4GvefTR8457Mn2WMZK3jmJyFuG/ySguQyUz9Ys8x4WveJRbGFTyX sNQDMLHD85s34XlUgA6b3OKVEngyuSaFJc/BCZmKvLmHf2ebNn/I0Im0QHG9l9gQJqzomREJML2 7idzSyoENA7nsX8aVWMW9IPP3DHI//BS1yxY0bDHYqF40cPyBYR7oo8FfesG4imognI+zWGwj/y hCJFCXWsw8lp3scRAebDr4IpY9UhNw== X-Google-Smtp-Source: AGHT+IFXT2+dCZsJd4nEslxMjmJW2MjucqxfqPcLBK2J4N8kZ+2DZhK5zv2iNjosHz63zxMjJHWSgjKp4EVG X-Received: by 2002:a05:6e02:17ce:b0:3d0:443d:a5ad with SMTP id e9e14a558f8ab-3d13dcd9098mr144463875ab.2.1739255206138; Mon, 10 Feb 2025 22:26:46 -0800 (PST) Received: from postal.iol.unh.edu (postal.iol.unh.edu. [132.177.123.84]) by smtp-relay.gmail.com with ESMTPS id e9e14a558f8ab-3d15654ef7fsm3473145ab.38.2025.02.10.22.26.46 (version=TLS1_2 cipher=ECDHE-ECDSA-AES128-GCM-SHA256 bits=128/128); Mon, 10 Feb 2025 22:26:46 -0800 (PST) X-Relaying-Domain: iol.unh.edu Date: Mon, 10 Feb 2025 22:26:46 -0800 (PST) Message-ID: <67aaeda6.920a0220.3f036.2217SMTPIN_ADDED_MISSING@mx.google.com> Received: from [172.21.0.9] (unknown [172.18.0.240]) by postal.iol.unh.edu (Postfix) with ESMTP id 99E176052471; Tue, 11 Feb 2025 01:26:45 -0500 (EST) Subject: |SUCCESS| pw151289 [PATCH] drivers/net: signed/unsigned mismatch From: dpdklab@iol.unh.edu To: Test Report Cc: dpdk-test-reports@iol.unh.edu In-Reply-To: <1739222725-30747-1-git-send-email-andremue@linux.microsoft.com> References: <1739222725-30747-1-git-send-email-andremue@linux.microsoft.com> Content-Type: text/plain X-BeenThere: test-report@dpdk.org X-Mailman-Version: 2.1.29 Precedence: list List-Id: automatic DPDK test reports List-Unsubscribe: , List-Archive: List-Post: List-Help: List-Subscribe: , Errors-To: test-report-bounces@dpdk.org Test-Label: iol-unit-amd64-testing Test-Status: SUCCESS http://dpdk.org/patch/151289 _Testing PASS_ Submitter: Andre Muezerie Date: Monday, February 10 2025 21:25:25 DPDK git baseline: Repo:dpdk Branch: master CommitID:d4d1e6c55a2f17785ee6be361599e1c5ab28f0fb 151289 --> testing pass Upstream job id: Generic-Unit-Test-DPDK#313919 Test environment and result as below: +---------------------+----------------+ | Environment | dpdk_unit_test | +=====================+================+ | Debian Bullseye | PASS | +---------------------+----------------+ | Fedora 41 | PASS | +---------------------+----------------+ | CentOS Stream 9 | PASS | +---------------------+----------------+ | Debian 12 | PASS | +---------------------+----------------+ | CentOS Stream 10 | PASS | +---------------------+----------------+ | Fedora 41 (Clang) | PASS | +---------------------+----------------+ | Fedora 40 (Clang) | PASS | +---------------------+----------------+ | RHEL8 | PASS | +---------------------+----------------+ | Ubuntu 20.04 | PASS | +---------------------+----------------+ | Fedora 40 | PASS | +---------------------+----------------+ | RHEL9 | PASS | +---------------------+----------------+ | Ubuntu 24.04 | PASS | +---------------------+----------------+ | Ubuntu 22.04 | PASS | +---------------------+----------------+ | Windows Server 2022 | PASS | +---------------------+----------------+ Debian Bullseye Kernel: Depends on container host Compiler: gcc (Debian 10.2.1-6) 10.2.1 20210110 Fedora 41 Kernel: Depends on container host Compiler: gcc 14.2.1 20240912 (Red Hat 14.2.1-3) CentOS Stream 9 Kernel: Depends on container host Compiler: gcc 11.5.0 20240719 (Red Hat 11.5.0-2) Debian 12 Kernel: Depends on container host Compiler: gcc (Debian 12.2.0-14) 12.2.0 CentOS Stream 10 Kernel: Depends on container host Compiler: gcc 14.2.1 20241104 (Red Hat 14.2.1-6) Fedora 41 (Clang) Kernel: Depends on container host Compiler: clang 19.1.5 (Fedora 19.1.5-1.fc41) Fedora 40 (Clang) Kernel: Depends on container host Compiler: clang 18.1.8 (Fedora 18.1.8-1.fc40) RHEL8 Kernel: Depends on container host Compiler: gcc 8.5.0 20210514 (Red Hat 8.5.0-22) Ubuntu 20.04 Kernel: Depends on container host Compiler: gcc (Ubuntu 9.4.0-1ubuntu1~20.04.2) 9.4.0 Fedora 40 Kernel: Depends on container host Compiler: gcc 14.2.1 20240912 (Red Hat 14.2.1-3) RHEL9 Kernel: Depends on container host Compiler: gcc 11.5.0 20240719 (Red Hat 11.5.0-2) Ubuntu 24.04 Kernel: Depends on container host Compiler: gcc (Ubuntu 13.3.0-6ubuntu2~24.04) 13.3.0 Ubuntu 22.04 Kernel: Depends on container host Compiler: gcc (Ubuntu 11.4.0-1ubuntu1~22.04) 11.4.0 Windows Server 2022 Kernel: 10.0.20348.2031 Compiler: clang 15.0.7, gcc 14.1.0 (MinGW), and MSVC VS 19.39.33521 To view detailed results, visit: https://lab.dpdk.org/results/dashboard/patchsets/32553/ UNH-IOL DPDK Community Lab To manage your email subscriptions, visit: https://lab.dpdk.org/results/dashboard/preferences/subscriptions/