From mboxrd@z Thu Jan 1 00:00:00 1970 Return-Path: Received: from mails.dpdk.org (mails.dpdk.org [217.70.189.124]) by inbox.dpdk.org (Postfix) with ESMTP id 90BA4461F3 for ; Tue, 11 Feb 2025 07:38:43 +0100 (CET) Received: from mails.dpdk.org (localhost [127.0.0.1]) by mails.dpdk.org (Postfix) with ESMTP id 723A840156; Tue, 11 Feb 2025 07:38:43 +0100 (CET) Received: from mail-pl1-f228.google.com (mail-pl1-f228.google.com [209.85.214.228]) by mails.dpdk.org (Postfix) with ESMTP id ED1F640150 for ; Tue, 11 Feb 2025 07:38:41 +0100 (CET) Received: by mail-pl1-f228.google.com with SMTP id d9443c01a7336-21f55fbb72bso62818735ad.2 for ; Mon, 10 Feb 2025 22:38:41 -0800 (PST) DKIM-Signature: v=1; a=rsa-sha256; c=relaxed/relaxed; d=iol.unh.edu; s=unh-iol; t=1739255921; x=1739860721; darn=dpdk.org; h=references:in-reply-to:cc:to:from:subject:message-id:date:from:to :cc:subject:date:message-id:reply-to; bh=gkDbWTuG14yjznQu9oUFSemvRfIAVaIjFkTbepMEtdQ=; b=i4C/WXo0RBMKwaud6wW6878ScnafVBudWkM2NkyzeLdy9NrFJzToKZwWP0OOgmSoWc KK2/0j0+AhM2VcSp6ZpifC1Mj6xU2YOlyFIY8pJA8K3i3HUY8UA54nSyktT9pWOBOrCm h8gYev9YGbKHVnj0KJ0N0cegu4QyLwPoaBfuI= X-Google-DKIM-Signature: v=1; a=rsa-sha256; c=relaxed/relaxed; d=1e100.net; s=20230601; t=1739255921; x=1739860721; h=references:in-reply-to:cc:to:from:subject:message-id:date :x-gm-message-state:from:to:cc:subject:date:message-id:reply-to; bh=gkDbWTuG14yjznQu9oUFSemvRfIAVaIjFkTbepMEtdQ=; b=D3ZHmysiY9TYpMiKHMCcCayaqxc0S/Geicmp+9+F0DDUWHgv/bIUMPuLExKJ1OSqWa Mgis83emmXNJC/s0+6UX9wO6+cdSiy5bdB1dGmK2jicFxVotKboCN/P5+PuZJXv31Ga/ BimBfpBqxPIJzcYMv87AZG1IUt+hU3+fFUSckMYjI8r4f9Yg9tk69V2ZMydD4/tYfcxu M9+9l6V5AcMo/k9T9t/HT+Sh5LpDXiiZ1gd2vzQ7SzaQZ0e7LRGA5DvibXy2jSumSa14 uUyq68n+gZofnv/5w0XJWF6e4lbQ9kNlnFyfixIsX3uakwEqfDFDekBjnXGvMOfMEhMp MXSg== X-Gm-Message-State: AOJu0YzuNcY5UOjipyvTypPZZ0vTeNtNKuYq2mI0YCS9JvxuGsttV2Lz gXB0aX7YbqJMCRHPCLEQn6qpZP8D0sfBRzcQndhFFYz6tEdJI9dLfmvAXUMw7rt3pyIKiXhSO2i cZCfIZNIMSZBlbm0BAWF9zk4u6AakVW4oMrZnSy88qFtbTI3wQaRIHcke X-Gm-Gg: ASbGncv4K22rap5bzwApIRNWSCDZJPr+JYw/ck1iy7batVg5A7J+2q4H2fhM52TyrUa 015fC812sLrUHgo+UZQNnIvOZPfpsVxXJXzXD1J4aFX9yBvuNKT5qR45JxcvUybr15RxPp3WvKW RgIdAatsJKKmR9Q5STsZLa9HyzV+RNdFSpXQA8Jtj2fXJg5TLrvm9GGsYnfYfHXimNmtFHIe2hR VO1qS34qRF3rwBs8Fnbqj2HpTZx2ut6FQqHgLpGMnm3tw6IWz2mqtoAlK4qBjRz7EFnvQUTSfoN wdEpUVk1V6GjJrLlnINah5B1qeK3Okgozvfwlaz5xg== X-Google-Smtp-Source: AGHT+IGhp/7SISOHZKYf3yPnctErK1HT5US1mRNzAZZeSflI4jmde6QEDAiNBe6/3OJfBhzEzgicQmPU9kNZ X-Received: by 2002:a17:903:40d0:b0:216:6769:9ed7 with SMTP id d9443c01a7336-21f4e73bca0mr299925315ad.40.1739255921112; Mon, 10 Feb 2025 22:38:41 -0800 (PST) Received: from postal.iol.unh.edu (postal.iol.unh.edu. [2606:4100:3880:1234::84]) by smtp-relay.gmail.com with ESMTPS id d9443c01a7336-21f3653cad0sm6037735ad.41.2025.02.10.22.38.41 (version=TLS1_2 cipher=ECDHE-ECDSA-AES128-GCM-SHA256 bits=128/128); Mon, 10 Feb 2025 22:38:41 -0800 (PST) X-Relaying-Domain: iol.unh.edu Date: Mon, 10 Feb 2025 22:38:41 -0800 (PST) Message-ID: <67aaf071.170a0220.bd06f.f217SMTPIN_ADDED_MISSING@mx.google.com> Received: from [172.21.0.5] (unknown [172.18.0.240]) by postal.iol.unh.edu (Postfix) with ESMTP id 4BBD86052471; Tue, 11 Feb 2025 01:38:40 -0500 (EST) Subject: |SUCCESS| pw151290 [PATCH] [v6] net: add thread-safe crc api From: dpdklab@iol.unh.edu To: Test Report Cc: dpdk-test-reports@iol.unh.edu In-Reply-To: <20250210212710.708809-1-arkadiuszx.kusztal@intel.com> References: <20250210212710.708809-1-arkadiuszx.kusztal@intel.com> Content-Type: text/plain X-BeenThere: test-report@dpdk.org X-Mailman-Version: 2.1.29 Precedence: list List-Id: automatic DPDK test reports List-Unsubscribe: , List-Archive: List-Post: List-Help: List-Subscribe: , Errors-To: test-report-bounces@dpdk.org Test-Label: iol-unit-arm64-testing Test-Status: SUCCESS http://dpdk.org/patch/151290 _Testing PASS_ Submitter: Kusztal, ArkadiuszX Date: Monday, February 10 2025 21:27:10 DPDK git baseline: Repo:dpdk Branch: master CommitID:7125636162d67b1c40ba6802a3ff4466d125d243 151290 --> testing pass Upstream job id: Generic-Unit-Test-DPDK#313897 Test environment and result as below: +-----------------------------+----------------+------------------------------+--------------+---------------------------+ | Environment | dpdk_unit_test | cryptodev_sw_snow3g_autotest | lpm_autotest | cryptodev_sw_zuc_autotest | +=============================+================+==============================+==============+===========================+ | 32-bit Ubuntu 22.04.4 (ARM) | PASS | SKIPPED | SKIPPED | SKIPPED | +-----------------------------+----------------+------------------------------+--------------+---------------------------+ | CentOS Stream 10 (ARM) | PASS | SKIPPED | SKIPPED | SKIPPED | +-----------------------------+----------------+------------------------------+--------------+---------------------------+ | Debian 12 (arm) | PASS | PASS | SKIPPED | PASS | +-----------------------------+----------------+------------------------------+--------------+---------------------------+ | CentOS Stream 9 (ARM) | PASS | SKIPPED | SKIPPED | SKIPPED | +-----------------------------+----------------+------------------------------+--------------+---------------------------+ | Debian 11 (Buster) (ARM) | PASS | SKIPPED | SKIPPED | SKIPPED | +-----------------------------+----------------+------------------------------+--------------+---------------------------+ | Fedora 40 (ARM) | PASS | SKIPPED | SKIPPED | SKIPPED | +-----------------------------+----------------+------------------------------+--------------+---------------------------+ | Fedora 41 (ARM Clang) | PASS | SKIPPED | SKIPPED | SKIPPED | +-----------------------------+----------------+------------------------------+--------------+---------------------------+ | Fedora 41 (ARM) | PASS | SKIPPED | SKIPPED | SKIPPED | +-----------------------------+----------------+------------------------------+--------------+---------------------------+ | Fedora 40 (ARM Clang) | PASS | SKIPPED | SKIPPED | SKIPPED | +-----------------------------+----------------+------------------------------+--------------+---------------------------+ | RHEL9 (ARM) | PASS | SKIPPED | SKIPPED | SKIPPED | +-----------------------------+----------------+------------------------------+--------------+---------------------------+ | Ubuntu 24.04 (ARM) | PASS | SKIPPED | SKIPPED | SKIPPED | +-----------------------------+----------------+------------------------------+--------------+---------------------------+ | Ubuntu 22.04 (ARM) | PASS | SKIPPED | SKIPPED | SKIPPED | +-----------------------------+----------------+------------------------------+--------------+---------------------------+ | Ubuntu 20.04 (ARM) | PASS | SKIPPED | SKIPPED | SKIPPED | +-----------------------------+----------------+------------------------------+--------------+---------------------------+ | Ubuntu 20.04 ARM SVE | SKIPPED | SKIPPED | PASS | SKIPPED | +-----------------------------+----------------+------------------------------+--------------+---------------------------+ 32-bit Ubuntu 22.04.4 (ARM) Kernel: 5.15.83+ aarch64 Compiler: gcc (Ubuntu 11.4.0-1ubuntu1~22.04) 11.4.0 CentOS Stream 10 (ARM) Kernel: Depends on container host Compiler: gcc 14.2.1 20241104 (Red Hat 14.2.1-6) Debian 12 (arm) Kernel: Depends on container host Compiler: gcc (Debian 12.2.0-14) 12.2.0 CentOS Stream 9 (ARM) Kernel: Depends on container host Compiler: gcc 11.5.0 20240719 (Red Hat 11.5.0-2) Debian 11 (Buster) (ARM) Kernel: Depends on container host Compiler: gcc (Debian 10.2.1-6) 10.2.1 20210110 Fedora 40 (ARM) Kernel: Depends on container host Compiler: gcc 14.2.1 20240912 (Red Hat 14.2.1-3) Fedora 41 (ARM Clang) Kernel: Depends on container host Compiler: clang 19.1.5 (Fedora 19.1.5-1.fc41) Fedora 41 (ARM) Kernel: Depends on container host Compiler: gcc 14.2.1 20240912 (Red Hat 14.2.1-3) Fedora 40 (ARM Clang) Kernel: Depends on container host Compiler: clang 18.1.8 (Fedora 18.1.8-1.fc40) RHEL9 (ARM) Kernel: Depends on container host Compiler: gcc 11.5.0 20240719 (Red Hat 11.5.0-2) Ubuntu 24.04 (ARM) Kernel: Depends on container host Compiler: gcc (Ubuntu 13.3.0-6ubuntu2~24.04) 13.3.0 Ubuntu 22.04 (ARM) Kernel: Depends on container host Compiler: gcc (Ubuntu 11.4.0-1ubuntu1~22.04) 11.4.0 Ubuntu 20.04 (ARM) Kernel: Depends on container host Compiler: gcc (Ubuntu 9.4.0-1ubuntu1~20.04.2) 9.4.0 Ubuntu 20.04 ARM SVE Kernel: Depends on container host Compiler: gcc (Ubuntu 10.5.0-1ubuntu1~20.04) 10.5.0 To view detailed results, visit: https://lab.dpdk.org/results/dashboard/patchsets/32554/ UNH-IOL DPDK Community Lab To manage your email subscriptions, visit: https://lab.dpdk.org/results/dashboard/preferences/subscriptions/