From mboxrd@z Thu Jan 1 00:00:00 1970 Return-Path: Received: from mails.dpdk.org (mails.dpdk.org [217.70.189.124]) by inbox.dpdk.org (Postfix) with ESMTP id CBF54461F4 for ; Tue, 11 Feb 2025 08:11:03 +0100 (CET) Received: from mails.dpdk.org (localhost [127.0.0.1]) by mails.dpdk.org (Postfix) with ESMTP id 93F2940156; Tue, 11 Feb 2025 08:11:03 +0100 (CET) Received: from mail-qk1-f228.google.com (mail-qk1-f228.google.com [209.85.222.228]) by mails.dpdk.org (Postfix) with ESMTP id CF8A340150 for ; Tue, 11 Feb 2025 08:11:02 +0100 (CET) Received: by mail-qk1-f228.google.com with SMTP id af79cd13be357-7be3d681e74so479273185a.0 for ; Mon, 10 Feb 2025 23:11:02 -0800 (PST) DKIM-Signature: v=1; a=rsa-sha256; c=relaxed/relaxed; d=iol.unh.edu; s=unh-iol; t=1739257862; x=1739862662; darn=dpdk.org; h=references:in-reply-to:cc:to:from:subject:message-id:date:from:to :cc:subject:date:message-id:reply-to; bh=ugm8rchZIMPYFHkg/0aA8WruZRk1etPbIlAGNYzRjJc=; b=C/xeC9JiIciFs60JhBMPHKCUAy+3QfIzVlGl1cC1SmJRewsMlMxcaClj6Smz5DP69q bMK8+lly0M9+SW2gLAwnldWePO804byZwoBmifC4eSO5ivKKRAmNCWDS7WDxuKscwqXg RWwUP3UKM0hNYYo14GMFVQqplV/1apbv0ziCU= X-Google-DKIM-Signature: v=1; a=rsa-sha256; c=relaxed/relaxed; d=1e100.net; s=20230601; t=1739257862; x=1739862662; h=references:in-reply-to:cc:to:from:subject:message-id:date :x-gm-message-state:from:to:cc:subject:date:message-id:reply-to; bh=ugm8rchZIMPYFHkg/0aA8WruZRk1etPbIlAGNYzRjJc=; b=E2y3zijwY/Ql5xFSxlHPXbCPBGryG4lh324kQNTFkybgQ17StycBD+wh5Nhq2ne/X/ fwG5hzbWg9XF0fp4V0biRBC1awddgUpFIbqTRNNyxOKdtdGF86EwEIf35aTZUuq+NIz8 B/ZAKRGZZYh3ct2pdSM2TSCwpXn6t1gpExq9rpPRdVUihCXs5aNkAtUwa39PfWVs32Md iA+rgLEXHvkqYLQfBpbCc4i9CbU+oQl1GDcXvcK5n5blBe8c1+OrFW4RcMF23Pb/RHzz GEOnj/SjfQ9p7tIJwt2bov10usaCTPqD39k6dJh65H5hkyulHGsllld2UBZM9cjoMPUv ZSpg== X-Gm-Message-State: AOJu0YyY7ByUP2mOcTn7YovFydiPALlbfgO0R83wozDM1E5ysVskJ5Fc 5v3tVD49qz7IqgccHnNUxZ8Syx/kKTHjDFsUKpHjOGo7edi+VoNvH0cfUeRaTTegLXldpVYkipm 4MRvJZkchf/voWrcTYV0H9pU1+rxxEHEuj4KjTXxR X-Gm-Gg: ASbGnctl1qUhmBgjS4O74Puc5vchp4Y6p8OHnGPuMh4Ut7ShuXaz87QSVgiPlAnKLr1 5hX/OnReIOGPvzs7h98KS/X4tU4dM3HnzD/i5giyDFC/FUcdjQfmGyTSF2s8xdWE4fIkv+bB6ZO t2ZDvNJ78karQernVXleGu26s1iCGVOwUDKALyfVfask4l0qtCCSSwoeZ80F6dOos3NowFNV1ZN 8iPbkj01QZNO+Ypew+kVhoHU9nrHHtjaFBiuidRnlebk9A2x7J223YI6eGagqXUvzFiuiPrM6sA YGh8i3O68BuGhhVq4E7gwTmxncHKNA== X-Google-Smtp-Source: AGHT+IF5qgRkZzCAJZwjc8GQhvw4OgUHmQdNwzQ0MNKt385A1IfiyOENVc8ZXY8T8tz1HYT50VQ7+u0WrGdI X-Received: by 2002:a05:620a:44c2:b0:7be:8304:f241 with SMTP id af79cd13be357-7c06882cf22mr350921085a.50.1739257862241; Mon, 10 Feb 2025 23:11:02 -0800 (PST) Received: from postal.iol.unh.edu (postal.iol.unh.edu. [132.177.123.84]) by smtp-relay.gmail.com with ESMTPS id af79cd13be357-7c041e5e353sm73993885a.4.2025.02.10.23.11.02 (version=TLS1_2 cipher=ECDHE-ECDSA-AES128-GCM-SHA256 bits=128/128); Mon, 10 Feb 2025 23:11:02 -0800 (PST) X-Relaying-Domain: iol.unh.edu Date: Mon, 10 Feb 2025 23:11:02 -0800 (PST) Message-ID: <67aaf806.050a0220.3230b.526dSMTPIN_ADDED_MISSING@mx.google.com> Received: from [172.21.0.6] (unknown [172.18.0.240]) by postal.iol.unh.edu (Postfix) with ESMTP id E31716052471; Tue, 11 Feb 2025 02:11:01 -0500 (EST) Subject: |SUCCESS| pw151291-151295 [PATCH] [v3,5/5] eal/x86: defer power intr From: dpdklab@iol.unh.edu To: Test Report Cc: dpdk-test-reports@iol.unh.edu In-Reply-To: <20250210213158.4165701-6-david.marchand@redhat.com> References: <20250210213158.4165701-6-david.marchand@redhat.com> Content-Type: text/plain X-BeenThere: test-report@dpdk.org X-Mailman-Version: 2.1.29 Precedence: list List-Id: automatic DPDK test reports List-Unsubscribe: , List-Archive: List-Post: List-Help: List-Subscribe: , Errors-To: test-report-bounces@dpdk.org Test-Label: iol-compile-arm64-testing Test-Status: SUCCESS http://dpdk.org/patch/151295 _Testing PASS_ Submitter: David Marchand Date: Monday, February 10 2025 21:31:58 DPDK git baseline: Repo:dpdk Branch: master CommitID:99cc389af4e16011c821cabb867e6646357f429d 151291-151295 --> testing pass Upstream job id: Generic-DPDK-Compile-Meson#360380 Test environment and result as below: +----------------------------------------+--------------------+ | Environment | dpdk_meson_compile | +========================================+====================+ | RHEL9 (ARM) | PASS | +----------------------------------------+--------------------+ | Ubuntu 20.04 ARM GCC Cross Compile | PASS | +----------------------------------------+--------------------+ | Ubuntu 20.04 ARM SVE | PASS | +----------------------------------------+--------------------+ | Debian 12 with MUSDK | PASS | +----------------------------------------+--------------------+ | Fedora 40 (ARM) | PASS | +----------------------------------------+--------------------+ | Fedora 40 (ARM Clang) | PASS | +----------------------------------------+--------------------+ | Fedora 41 (ARM) | PASS | +----------------------------------------+--------------------+ | Fedora 41 (ARM Clang) | PASS | +----------------------------------------+--------------------+ | Ubuntu 20.04 (ARM) | PASS | +----------------------------------------+--------------------+ | Ubuntu 22.04 (ARM) | PASS | +----------------------------------------+--------------------+ | Ubuntu 24.04 (ARM) | PASS | +----------------------------------------+--------------------+ | CentOS Stream 9 (ARM) | PASS | +----------------------------------------+--------------------+ | CentOS Stream 10 (ARM) | PASS | +----------------------------------------+--------------------+ | Debian 11 (Buster) (ARM) | PASS | +----------------------------------------+--------------------+ | Debian 12 (arm) | PASS | +----------------------------------------+--------------------+ | Ubuntu 20.04 ARM Clang Cross Compile | PASS | +----------------------------------------+--------------------+ | Ubuntu 20.04 aarch32 GCC Cross Compile | PASS | +----------------------------------------+--------------------+ RHEL9 (ARM) Kernel: Depends on container host Compiler: gcc 11.5.0 20240719 (Red Hat 11.5.0-2) Ubuntu 20.04 ARM GCC Cross Compile Kernel: Depends on container host Compiler: aarch64-linux-gnu-gcc (Ubuntu 9.4.0-1ubuntu1~20.04.2) 9.4.0 Ubuntu 20.04 ARM SVE Kernel: Depends on container host Compiler: gcc (Ubuntu 10.5.0-1ubuntu1~20.04) 10.5.0 Debian 12 with MUSDK Kernel: Depends on container host Compiler: gcc (Debian 12.2.0-14) 12.2.0 Fedora 40 (ARM) Kernel: Depends on container host Compiler: gcc 14.2.1 20240912 (Red Hat 14.2.1-3) Fedora 40 (ARM Clang) Kernel: Depends on container host Compiler: clang 18.1.8 (Fedora 18.1.8-1.fc40) Fedora 41 (ARM) Kernel: Depends on container host Compiler: gcc 14.2.1 20240912 (Red Hat 14.2.1-3) Fedora 41 (ARM Clang) Kernel: Depends on container host Compiler: clang 19.1.5 (Fedora 19.1.5-1.fc41) Ubuntu 20.04 (ARM) Kernel: Depends on container host Compiler: gcc (Ubuntu 9.4.0-1ubuntu1~20.04.2) 9.4.0 Ubuntu 22.04 (ARM) Kernel: Depends on container host Compiler: gcc (Ubuntu 11.4.0-1ubuntu1~22.04) 11.4.0 Ubuntu 24.04 (ARM) Kernel: Depends on container host Compiler: gcc (Ubuntu 13.3.0-6ubuntu2~24.04) 13.3.0 CentOS Stream 9 (ARM) Kernel: Depends on container host Compiler: gcc 11.5.0 20240719 (Red Hat 11.5.0-2) CentOS Stream 10 (ARM) Kernel: Depends on container host Compiler: gcc 14.2.1 20241104 (Red Hat 14.2.1-6) Debian 11 (Buster) (ARM) Kernel: Depends on container host Compiler: gcc (Debian 10.2.1-6) 10.2.1 20210110 Debian 12 (arm) Kernel: Depends on container host Compiler: gcc (Debian 12.2.0-14) 12.2.0 Ubuntu 20.04 ARM Clang Cross Compile Kernel: Depends on container host Compiler: clang 10.0.0-4ubuntu1 Ubuntu 20.04 aarch32 GCC Cross Compile Kernel: Depends on container host Compiler: gcc 9.4.0 To view detailed results, visit: https://lab.dpdk.org/results/dashboard/patchsets/32555/ UNH-IOL DPDK Community Lab To manage your email subscriptions, visit: https://lab.dpdk.org/results/dashboard/preferences/subscriptions/