From mboxrd@z Thu Jan 1 00:00:00 1970 Return-Path: Received: from mails.dpdk.org (mails.dpdk.org [217.70.189.124]) by inbox.dpdk.org (Postfix) with ESMTP id 40A28461F4 for ; Tue, 11 Feb 2025 08:33:40 +0100 (CET) Received: from mails.dpdk.org (localhost [127.0.0.1]) by mails.dpdk.org (Postfix) with ESMTP id 1962C40156; Tue, 11 Feb 2025 08:33:40 +0100 (CET) Received: from mail-il1-f227.google.com (mail-il1-f227.google.com [209.85.166.227]) by mails.dpdk.org (Postfix) with ESMTP id 74B6440156 for ; Tue, 11 Feb 2025 08:33:38 +0100 (CET) Received: by mail-il1-f227.google.com with SMTP id e9e14a558f8ab-3ce87d31480so17518175ab.2 for ; Mon, 10 Feb 2025 23:33:38 -0800 (PST) DKIM-Signature: v=1; a=rsa-sha256; c=relaxed/relaxed; d=iol.unh.edu; s=unh-iol; t=1739259217; x=1739864017; darn=dpdk.org; h=cc:to:from:subject:message-id:date:from:to:cc:subject:date :message-id:reply-to; bh=yddKWEXnISTc5qJFOuyXt+T8mqfgxlp6IuuQN0k9/LM=; b=BEdZvvR7/1zAXehf+BoDXIql245IEYtGUQF4wn2axiwm9yaw1d+hG0EUbHh7OZwJSd tRVbtPv1KP9zJo96U1Pe89CSYK0PoMgnoDC054sSBGN0hh7YFj52btWP/jox/e++o5FX YadELamABlSdakpA/kBBw8aAwV2KXsfJvbX48= X-Google-DKIM-Signature: v=1; a=rsa-sha256; c=relaxed/relaxed; d=1e100.net; s=20230601; t=1739259217; x=1739864017; h=cc:to:from:subject:message-id:date:x-gm-message-state:from:to:cc :subject:date:message-id:reply-to; bh=yddKWEXnISTc5qJFOuyXt+T8mqfgxlp6IuuQN0k9/LM=; b=ABrakNmuIUhHz6+GZ0eeDbZKXVhrSjO6coAQVMbnuQnasP5OL55f6PjxAmdeNKAF95 FoX5bBMSf91rsSvZpLsQZBqtm0LFAM00W1f461QEVHlaQZsecNDBwP6RcbRk9Ri5ElMQ idPyUGo91sr38G4MtQCyv/cllJHZ5sSEgr5WUzw5McvbXbpIWZTKn7uLY3tHCviOGpoD fAhhcSSyXR1bB513B0I3b7FQpnIRtGJKiA83Bvl7T4Dnndy113wnLtgcujKWq33Fha64 ESrHX0a7a1sNcunkmxAbHt6Kn+AYoKEFnyaBVrTvNRtlkkojGA1rHYG2rfQBF84LlfsQ 0SMg== X-Gm-Message-State: AOJu0YxuS2JAS/xzUw+w6wzuFhIEMmo+2NSNIz+7rkjoRqrS6QOkyfQS CsYcHpqBEXOr7uh9sjjTHcPCZVkxKnCmWdH01aJ2STI/IEvQU4aANCVIuRvXx3a+5B0GhEKNFKb 8pFL5Jq6czTDlU650qLuA6bPCSnGQZmIXxfBtruFo+c+ht5Z9 X-Gm-Gg: ASbGncufNTcyh7IdSsiua2u68slY0zyICSy6boxhpWe+iSOD1WWWSw+4skW+ay5o9/E +QwXMV4jsk8ztC/OsFU24BtW/LhyrO5Bhbd/IyvOPfY1PI0ZFJl7oJTITLX/Cn78e7soJHCPpEw /GhvxHq8cCqlDXqe39ppwPGOoGNISK84XcilQ7eCXP9VPZnusmpBn5g9IvmaQI1JgQgEE7F4uh8 rjGlQVoCBsv+syy8EeL5pGfPXN8F51qD3ArHl3aLQAl3ddDVvRwJzpnlGzeiOtliFY8Cb7GxyNk NnUU6Qkf5qLhmYe/LQS+5qZXq7jqSNsKxuZixxf2BQ== X-Google-Smtp-Source: AGHT+IHqxf17wJFNjQSS3mxIfeOiGTs8haOpQPMCPNoCrtxi636uL9U5LZPuwzjHFw03FuHJaxcb8rfLUown X-Received: by 2002:a05:6e02:1a23:b0:3cf:cd3c:bdfd with SMTP id e9e14a558f8ab-3d13dd3f2c2mr139301565ab.12.1739259217594; Mon, 10 Feb 2025 23:33:37 -0800 (PST) Received: from postal.iol.unh.edu (postal.iol.unh.edu. [2606:4100:3880:1234::84]) by smtp-relay.gmail.com with ESMTPS id e9e14a558f8ab-3d15a699c3esm3047485ab.67.2025.02.10.23.33.37 (version=TLS1_2 cipher=ECDHE-ECDSA-AES128-GCM-SHA256 bits=128/128); Mon, 10 Feb 2025 23:33:37 -0800 (PST) X-Relaying-Domain: iol.unh.edu Date: Mon, 10 Feb 2025 23:33:37 -0800 (PST) Message-ID: <67aafd51.050a0220.2565ea.0060SMTPIN_ADDED_MISSING@mx.google.com> Received: from [172.21.0.5] (unknown [172.18.0.240]) by postal.iol.unh.edu (Postfix) with ESMTP id 3628F6052471; Tue, 11 Feb 2025 02:33:37 -0500 (EST) Subject: |SUCCESS| [GIT MASTER] f2eea2f37a82bb73fb01d56350708f7d70e21379 From: dpdklab@iol.unh.edu To: Test Report Cc: dpdk-test-reports@iol.unh.edu, Xueming Li , Christian Ehrhardt , Kevin Traynor , Luca Boccassi Content-Type: text/plain X-BeenThere: test-report@dpdk.org X-Mailman-Version: 2.1.29 Precedence: list List-Id: automatic DPDK test reports List-Unsubscribe: , List-Archive: List-Post: List-Help: List-Subscribe: , Errors-To: test-report-bounces@dpdk.org _Testing PASS_ Branch: tags/v24.11 f2eea2f37a82bb73fb01d56350708f7d70e21379 --> testing pass Upstream job id: Generic-DPDK-Compile-ABI#115760 Test environment and result as below: +-------------------+----------+ | Environment | abi_test | +===================+==========+ | CentOS Stream 10 | PASS | +-------------------+----------+ | CentOS Stream 9 | PASS | +-------------------+----------+ | Fedora 40 (Clang) | PASS | +-------------------+----------+ | Fedora 41 | PASS | +-------------------+----------+ | openSUSE Leap 15 | PASS | +-------------------+----------+ | Debian Bullseye | PASS | +-------------------+----------+ | Fedora 40 | PASS | +-------------------+----------+ | Fedora 41 (Clang) | PASS | +-------------------+----------+ | Debian 12 | PASS | +-------------------+----------+ | Ubuntu 22.04 | PASS | +-------------------+----------+ | Ubuntu 24.04 | PASS | +-------------------+----------+ | RHEL9 | PASS | +-------------------+----------+ | RHEL8 | PASS | +-------------------+----------+ CentOS Stream 10 Kernel: Depends on container host Compiler: gcc 14.2.1 20241104 (Red Hat 14.2.1-6) CentOS Stream 9 Kernel: Depends on container host Compiler: gcc 11.5.0 20240719 (Red Hat 11.5.0-2) Fedora 40 (Clang) Kernel: Depends on container host Compiler: clang 18.1.8 (Fedora 18.1.8-1.fc40) Fedora 41 Kernel: Depends on container host Compiler: gcc 14.2.1 20240912 (Red Hat 14.2.1-3) openSUSE Leap 15 Kernel: Depends on container host Compiler: gcc (SUSE Linux) 7.5.0 Debian Bullseye Kernel: Depends on container host Compiler: gcc (Debian 10.2.1-6) 10.2.1 20210110 Fedora 40 Kernel: Depends on container host Compiler: gcc 14.2.1 20240912 (Red Hat 14.2.1-3) Fedora 41 (Clang) Kernel: Depends on container host Compiler: clang 19.1.5 (Fedora 19.1.5-1.fc41) Debian 12 Kernel: Depends on container host Compiler: gcc (Debian 12.2.0-14) 12.2.0 Ubuntu 22.04 Kernel: Depends on container host Compiler: gcc (Ubuntu 11.4.0-1ubuntu1~22.04) 11.4.0 Ubuntu 24.04 Kernel: Depends on container host Compiler: gcc (Ubuntu 13.3.0-6ubuntu2~24.04) 13.3.0 RHEL9 Kernel: Depends on container host Compiler: gcc 11.5.0 20240719 (Red Hat 11.5.0-2) RHEL8 Kernel: Depends on container host Compiler: gcc 8.5.0 20210514 (Red Hat 8.5.0-22) To view detailed results, visit: https://lab.dpdk.org/results/dashboard/tarballs/32536/ UNH-IOL DPDK Community Lab To manage your email subscriptions, visit: https://lab.dpdk.org/results/dashboard/preferences/subscriptions/