From mboxrd@z Thu Jan 1 00:00:00 1970 Return-Path: Received: from mails.dpdk.org (mails.dpdk.org [217.70.189.124]) by inbox.dpdk.org (Postfix) with ESMTP id 3E63E461F4 for ; Tue, 11 Feb 2025 09:09:12 +0100 (CET) Received: from mails.dpdk.org (localhost [127.0.0.1]) by mails.dpdk.org (Postfix) with ESMTP id 0E50D40156; Tue, 11 Feb 2025 09:09:12 +0100 (CET) Received: from mail-il1-f225.google.com (mail-il1-f225.google.com [209.85.166.225]) by mails.dpdk.org (Postfix) with ESMTP id A17C940150 for ; Tue, 11 Feb 2025 09:09:10 +0100 (CET) Received: by mail-il1-f225.google.com with SMTP id e9e14a558f8ab-3d03d2bd7d2so53501185ab.0 for ; Tue, 11 Feb 2025 00:09:10 -0800 (PST) DKIM-Signature: v=1; a=rsa-sha256; c=relaxed/relaxed; d=iol.unh.edu; s=unh-iol; t=1739261350; x=1739866150; darn=dpdk.org; h=cc:to:from:subject:message-id:date:from:to:cc:subject:date :message-id:reply-to; bh=OzonecUxuMmgMnVOXGqE8zrWgIczBFR6o0sKk0sOl3E=; b=blx/FEAVlUrIbKHkrAQSQVbhE7n5IsOXH/V/T19wnlhjZU0kImA3zkAUYX/jv/yQN7 tqMNEVn5Sna6n+s6FiB2o/wAgrkXElMG0Q44Vy54YYZGbzt9HOYKV4P6qEoV6ODI7SS4 ORAvZj3zU29EO9+EQjOAYpJki5eHgw2iduBCY= X-Google-DKIM-Signature: v=1; a=rsa-sha256; c=relaxed/relaxed; d=1e100.net; s=20230601; t=1739261350; x=1739866150; h=cc:to:from:subject:message-id:date:x-gm-message-state:from:to:cc :subject:date:message-id:reply-to; bh=OzonecUxuMmgMnVOXGqE8zrWgIczBFR6o0sKk0sOl3E=; b=Cgec8lIMK3geoTvwnewLcib8kGnukj9gaiujcomE1DWOYsiVbo6KNzP5NzQByXVHbE MrdTnWEIK81rfpOQn50jm6CK134FrQvU4TgGZl/yW94V8ipYUTUdYVd00R+moC72F4d6 t82yYn9NH2AHpEvHTVNh5dkDiAAUlMKbnP0nIeiy29XYIGBWtzGvE9RmdHBPug4wOQCQ XVfyjLkw9CHohiltyS82sh0uulLTjrwgY0us0fpu/4PfBQC+KPsXt1PZMRPUl3RpTrX6 9I+PtAqwgKsqfdwwJZxE10WEnM58ZVCb2Ve1hsvSlJa3rjjrLz851ECPdPBqo9+lVfTs nriA== X-Gm-Message-State: AOJu0YwMtWR9PbOSSuVpqs4bbar+5epfuLj4OVUTCC/fsLwu/GXQ7OGM 0ugEXgp57anusMIWgH3IUDT7CyWn7nBQZU2UYG7mLcHDNP1LCwwq77pNV93RsbqPiFwDrqo1wV+ LUg4G8rNHXGEVNEY/UiR4MBiAu1BbvdR3QptiB6Fn1BxP46U3ZM82a72y X-Gm-Gg: ASbGncsATXhh8HuP2ru7xj9NlUgjQxJN7WvpirFT9hAlcaMRoENlTiJD4cxOFLRWrr1 //+Fz98qSa98m+HsMHHOMpCFyJxY5aj1wOKRZ0KPPL0FiiVlUv0rJuUY8x0iykG4iKT0mfex1hk ztvF/JlVWdP4qeMzyqLPQmrAAZH1dTA77szfXKSmFMh7ktjbVDX2ZEaYTgGbAj/cAiscg5RvssR eaVCANeeRAzsGQzmREluMcAupz/tzMh8zqJ2Mpm5YPhUHo/ml8x9ktyD2TprtEw/R7SFr2XUw83 ms5/QJ1ggtX7G6nI8MMn+nlRkWUqjdGe7LaYNMavTw== X-Google-Smtp-Source: AGHT+IHrDtR9SuhwtcrjANbR0Uv4smGP6sVQYSkLenu8L6ALLawLqk6/U6dK2gICptsPFL3IWyGXPhZ+Rqqa X-Received: by 2002:a05:6e02:174f:b0:3cf:ceac:37e1 with SMTP id e9e14a558f8ab-3d13dd4f257mr135267655ab.11.1739261349978; Tue, 11 Feb 2025 00:09:09 -0800 (PST) Received: from postal.iol.unh.edu (postal.iol.unh.edu. [2606:4100:3880:1234::84]) by smtp-relay.gmail.com with ESMTPS id e9e14a558f8ab-3d05e9f05a3sm7166685ab.51.2025.02.11.00.09.09 (version=TLS1_2 cipher=ECDHE-ECDSA-AES128-GCM-SHA256 bits=128/128); Tue, 11 Feb 2025 00:09:09 -0800 (PST) X-Relaying-Domain: iol.unh.edu Date: Tue, 11 Feb 2025 00:09:09 -0800 (PST) Message-ID: <67ab05a5.050a0220.1ee672.5f5eSMTPIN_ADDED_MISSING@mx.google.com> Received: from [172.21.0.5] (unknown [172.18.0.240]) by postal.iol.unh.edu (Postfix) with ESMTP id 717846052471; Tue, 11 Feb 2025 03:09:09 -0500 (EST) Subject: |SUCCESS| [GIT MASTER] d4d1e6c55a2f17785ee6be361599e1c5ab28f0fb From: dpdklab@iol.unh.edu To: Test Report Cc: dpdk-test-reports@iol.unh.edu, Stephen Hemminger Content-Type: text/plain X-BeenThere: test-report@dpdk.org X-Mailman-Version: 2.1.29 Precedence: list List-Id: automatic DPDK test reports List-Unsubscribe: , List-Archive: List-Post: List-Help: List-Subscribe: , Errors-To: test-report-bounces@dpdk.org _Testing PASS_ Branch: dpdk-next-net d4d1e6c55a2f17785ee6be361599e1c5ab28f0fb --> testing pass Upstream job id: Generic-VM-DPDK-Compile-Meson#33228 Test environment and result as below: +---------------------+--------------------+-------------------+ | Environment | dpdk_meson_compile | dpdk_msvc_compile | +=====================+====================+===================+ | FreeBSD 13.4 | PASS | SKIPPED | +---------------------+--------------------+-------------------+ | FreeBSD 14.2 | PASS | SKIPPED | +---------------------+--------------------+-------------------+ | Windows Server 2022 | SKIPPED | PASS | +---------------------+--------------------+-------------------+ FreeBSD 13.4 Kernel: 13.4-RELEASE-p1 Compiler: clang 18.1.6 FreeBSD 14.2 Kernel: 14.2-RELEASE Compiler: clang 18.1.6 Windows Server 2022 Kernel: 10.0.20348.2031 Compiler: clang 15.0.7, gcc 14.1.0 (MinGW), and MSVC VS 19.39.33521 To view detailed results, visit: https://lab.dpdk.org/results/dashboard/tarballs/32539/ UNH-IOL DPDK Community Lab To manage your email subscriptions, visit: https://lab.dpdk.org/results/dashboard/preferences/subscriptions/