From mboxrd@z Thu Jan 1 00:00:00 1970 Return-Path: Received: from mails.dpdk.org (mails.dpdk.org [217.70.189.124]) by inbox.dpdk.org (Postfix) with ESMTP id 86E98461F4 for ; Tue, 11 Feb 2025 09:13:05 +0100 (CET) Received: from mails.dpdk.org (localhost [127.0.0.1]) by mails.dpdk.org (Postfix) with ESMTP id 6167840156; Tue, 11 Feb 2025 09:13:05 +0100 (CET) Received: from mail-pj1-f98.google.com (mail-pj1-f98.google.com [209.85.216.98]) by mails.dpdk.org (Postfix) with ESMTP id 69B8640150 for ; Tue, 11 Feb 2025 09:13:04 +0100 (CET) Received: by mail-pj1-f98.google.com with SMTP id 98e67ed59e1d1-2fa44590eebso5610578a91.3 for ; Tue, 11 Feb 2025 00:13:04 -0800 (PST) DKIM-Signature: v=1; a=rsa-sha256; c=relaxed/relaxed; d=iol.unh.edu; s=unh-iol; t=1739261583; x=1739866383; darn=dpdk.org; h=references:in-reply-to:cc:to:from:subject:message-id:date:from:to :cc:subject:date:message-id:reply-to; bh=fUD4faE7LluXqS/7rWcMVUtigBFtzD2pEg40W2jAD5g=; b=BHplU7glxeVEZnOKGlH/3m/GelR76pTvxhmxo5I86fpDL7oMfdbLcL6yVlR1WabGNv sX4w1ha/uy87A7MNRBY8dsivxnY9PMjKj22nG9Vrjt9InVRQ2eavVYxnuLRosN2feHGj CiaQf7IO9EvCAgBAI0MDy168uQ2lo6fdhW3bU= X-Google-DKIM-Signature: v=1; a=rsa-sha256; c=relaxed/relaxed; d=1e100.net; s=20230601; t=1739261583; x=1739866383; h=references:in-reply-to:cc:to:from:subject:message-id:date :x-gm-message-state:from:to:cc:subject:date:message-id:reply-to; bh=fUD4faE7LluXqS/7rWcMVUtigBFtzD2pEg40W2jAD5g=; b=OvGEY0xgJbfryWLJAsJWi9iDfhlRa4Ar1h6zSKOqna1CjKdjXEmTvRWdQFrdYGv8BR JsJkryyjXL4uqe+GMUgCkFt3sbFndFaJyAmahdT0AwmagH/Yn+TCQrRohQtWkGHlhd/H GgPDrkRptEgLRBculTWq58zb3i4qSd5jbyN5XP4J/O96CfDtWqtlhk9VZbO+HrACJPID TlhYDNSMNfXZqJxRtwliWC/9AW0B6oQ7XATihiFspByZIgNH7apZYtVqtLJdPQcPkH4d p+2hPyk9axIsRwhDB7sTBh5HeSeVFUv5od0+dpiOssaXH2T75NF6FlN1V9ZohpE9opkj Yhkw== X-Gm-Message-State: AOJu0YzunA7VK1RV7g29Oi2+24cwsL5jfAYqAKAhNV+rdy6LwLaKVERf fBomalD01AdX+G25LJFDdJeqVH/pnN4n07uU3lDpmv/wkZob5eiBEF0vks48zU/TiHkwIhEPsiQ mRsa2CEtwO2jxKeTlpMt9Cnxnc4EeOzYw5FxXZxYV X-Gm-Gg: ASbGncs/87c4wyiyc0Y/LqFtr1Ze8vVyNUmwC1UQSydOMkIDbZv17OoV4WGtDWtx4HL gpuvGMxTwK7nwE2wRe9yc79enuj4cjskR8JLA7W9YQZjNMtwzae/Wjn6lsDBqUaxJS2jlUvBQ7o 8yBH32DCiV3vZZm2xXjB4zGoD2DD2uWQKvQieZyup6ZAK3N2BQtNjP+IEb39WQf8aExdATlJtHG IsliN/Itb8cv+2sBvzbNK/ssxHPJN+xsyg3YpigUaG79Fidj3uol396ndxS/Kw/brl8ANir8V3j oDVY2D3yUaJGk2Xn9L4Ew5l9D3b4mA== X-Google-Smtp-Source: AGHT+IGUOMqoM8ew5HknVCS/yXnPFMs5NS78S/EhkbPGjGQ1cxjqOAX6ngi/fnzfIGlq/vofOwPmomnyBQkU X-Received: by 2002:a17:90b:4fc6:b0:2ee:db1a:2e3c with SMTP id 98e67ed59e1d1-2fa23f55112mr23527081a91.1.1739261583361; Tue, 11 Feb 2025 00:13:03 -0800 (PST) Received: from postal.iol.unh.edu (postal.iol.unh.edu. [132.177.123.84]) by smtp-relay.gmail.com with ESMTPS id 98e67ed59e1d1-2fa09b91dbfsm832744a91.15.2025.02.11.00.13.03 (version=TLS1_2 cipher=ECDHE-ECDSA-AES128-GCM-SHA256 bits=128/128); Tue, 11 Feb 2025 00:13:03 -0800 (PST) X-Relaying-Domain: iol.unh.edu Date: Tue, 11 Feb 2025 00:13:03 -0800 (PST) Message-ID: <67ab068f.170a0220.92225.be82SMTPIN_ADDED_MISSING@mx.google.com> Received: from [172.21.0.6] (unknown [172.18.0.240]) by postal.iol.unh.edu (Postfix) with ESMTP id 82A9C6052471; Tue, 11 Feb 2025 03:13:02 -0500 (EST) Subject: |SUCCESS| pw151289 [PATCH] drivers/net: signed/unsigned mismatch From: dpdklab@iol.unh.edu To: Test Report Cc: dpdk-test-reports@iol.unh.edu In-Reply-To: <1739222725-30747-1-git-send-email-andremue@linux.microsoft.com> References: <1739222725-30747-1-git-send-email-andremue@linux.microsoft.com> Content-Type: text/plain X-BeenThere: test-report@dpdk.org X-Mailman-Version: 2.1.29 Precedence: list List-Id: automatic DPDK test reports List-Unsubscribe: , List-Archive: List-Post: List-Help: List-Subscribe: , Errors-To: test-report-bounces@dpdk.org Test-Label: iol-unit-arm64-testing Test-Status: SUCCESS http://dpdk.org/patch/151289 _Testing PASS_ Submitter: Andre Muezerie Date: Monday, February 10 2025 21:25:25 DPDK git baseline: Repo:dpdk Branch: master CommitID:d4d1e6c55a2f17785ee6be361599e1c5ab28f0fb 151289 --> testing pass Upstream job id: Generic-Unit-Test-DPDK#313924 Test environment and result as below: +-----------------------------+----------------+--------------+---------------------------+------------------------------+ | Environment | dpdk_unit_test | lpm_autotest | cryptodev_sw_zuc_autotest | cryptodev_sw_snow3g_autotest | +=============================+================+==============+===========================+==============================+ | CentOS Stream 10 (ARM) | PASS | SKIPPED | SKIPPED | SKIPPED | +-----------------------------+----------------+--------------+---------------------------+------------------------------+ | CentOS Stream 9 (ARM) | PASS | SKIPPED | SKIPPED | SKIPPED | +-----------------------------+----------------+--------------+---------------------------+------------------------------+ | Debian 11 (Buster) (ARM) | PASS | SKIPPED | SKIPPED | SKIPPED | +-----------------------------+----------------+--------------+---------------------------+------------------------------+ | Debian 12 (arm) | PASS | SKIPPED | PASS | PASS | +-----------------------------+----------------+--------------+---------------------------+------------------------------+ | Fedora 40 (ARM Clang) | PASS | SKIPPED | SKIPPED | SKIPPED | +-----------------------------+----------------+--------------+---------------------------+------------------------------+ | Fedora 41 (ARM Clang) | PASS | SKIPPED | SKIPPED | SKIPPED | +-----------------------------+----------------+--------------+---------------------------+------------------------------+ | Fedora 40 (ARM) | PASS | SKIPPED | SKIPPED | SKIPPED | +-----------------------------+----------------+--------------+---------------------------+------------------------------+ | RHEL9 (ARM) | PASS | SKIPPED | SKIPPED | SKIPPED | +-----------------------------+----------------+--------------+---------------------------+------------------------------+ | Fedora 41 (ARM) | PASS | SKIPPED | SKIPPED | SKIPPED | +-----------------------------+----------------+--------------+---------------------------+------------------------------+ | Ubuntu 22.04 (ARM) | PASS | SKIPPED | SKIPPED | SKIPPED | +-----------------------------+----------------+--------------+---------------------------+------------------------------+ | Ubuntu 20.04 (ARM) | PASS | SKIPPED | SKIPPED | SKIPPED | +-----------------------------+----------------+--------------+---------------------------+------------------------------+ | Ubuntu 24.04 (ARM) | PASS | SKIPPED | SKIPPED | SKIPPED | +-----------------------------+----------------+--------------+---------------------------+------------------------------+ | 32-bit Ubuntu 22.04.4 (ARM) | PASS | SKIPPED | SKIPPED | SKIPPED | +-----------------------------+----------------+--------------+---------------------------+------------------------------+ | Ubuntu 20.04 ARM SVE | SKIPPED | PASS | SKIPPED | SKIPPED | +-----------------------------+----------------+--------------+---------------------------+------------------------------+ CentOS Stream 10 (ARM) Kernel: Depends on container host Compiler: gcc 14.2.1 20241104 (Red Hat 14.2.1-6) CentOS Stream 9 (ARM) Kernel: Depends on container host Compiler: gcc 11.5.0 20240719 (Red Hat 11.5.0-2) Debian 11 (Buster) (ARM) Kernel: Depends on container host Compiler: gcc (Debian 10.2.1-6) 10.2.1 20210110 Debian 12 (arm) Kernel: Depends on container host Compiler: gcc (Debian 12.2.0-14) 12.2.0 Fedora 40 (ARM Clang) Kernel: Depends on container host Compiler: clang 18.1.8 (Fedora 18.1.8-1.fc40) Fedora 41 (ARM Clang) Kernel: Depends on container host Compiler: clang 19.1.5 (Fedora 19.1.5-1.fc41) Fedora 40 (ARM) Kernel: Depends on container host Compiler: gcc 14.2.1 20240912 (Red Hat 14.2.1-3) RHEL9 (ARM) Kernel: Depends on container host Compiler: gcc 11.5.0 20240719 (Red Hat 11.5.0-2) Fedora 41 (ARM) Kernel: Depends on container host Compiler: gcc 14.2.1 20240912 (Red Hat 14.2.1-3) Ubuntu 22.04 (ARM) Kernel: Depends on container host Compiler: gcc (Ubuntu 11.4.0-1ubuntu1~22.04) 11.4.0 Ubuntu 20.04 (ARM) Kernel: Depends on container host Compiler: gcc (Ubuntu 9.4.0-1ubuntu1~20.04.2) 9.4.0 Ubuntu 24.04 (ARM) Kernel: Depends on container host Compiler: gcc (Ubuntu 13.3.0-6ubuntu2~24.04) 13.3.0 32-bit Ubuntu 22.04.4 (ARM) Kernel: 5.15.83+ aarch64 Compiler: gcc (Ubuntu 11.4.0-1ubuntu1~22.04) 11.4.0 Ubuntu 20.04 ARM SVE Kernel: Depends on container host Compiler: gcc (Ubuntu 10.5.0-1ubuntu1~20.04) 10.5.0 To view detailed results, visit: https://lab.dpdk.org/results/dashboard/patchsets/32553/ UNH-IOL DPDK Community Lab To manage your email subscriptions, visit: https://lab.dpdk.org/results/dashboard/preferences/subscriptions/