From mboxrd@z Thu Jan 1 00:00:00 1970 Return-Path: Received: from mails.dpdk.org (mails.dpdk.org [217.70.189.124]) by inbox.dpdk.org (Postfix) with ESMTP id 963F3461F4 for ; Tue, 11 Feb 2025 09:23:35 +0100 (CET) Received: from mails.dpdk.org (localhost [127.0.0.1]) by mails.dpdk.org (Postfix) with ESMTP id 92BBC40156; Tue, 11 Feb 2025 09:23:35 +0100 (CET) Received: from mail-qv1-f100.google.com (mail-qv1-f100.google.com [209.85.219.100]) by mails.dpdk.org (Postfix) with ESMTP id 5272C40150 for ; Tue, 11 Feb 2025 09:23:34 +0100 (CET) Received: by mail-qv1-f100.google.com with SMTP id 6a1803df08f44-6dd43aa1558so40695636d6.0 for ; Tue, 11 Feb 2025 00:23:34 -0800 (PST) DKIM-Signature: v=1; a=rsa-sha256; c=relaxed/relaxed; d=iol.unh.edu; s=unh-iol; t=1739262213; x=1739867013; darn=dpdk.org; h=cc:to:from:subject:message-id:date:from:to:cc:subject:date :message-id:reply-to; bh=Vfq6fm3jo3MzQP+6I5dimETY9N8qGSXAlQdYb9AKSlM=; b=c+vC7OMWYK4j/Lv3RS65iBFeC9PJW0bmCiuekdzIO+0+w9WMPV1XRv3egHuftlwQnW sn9QyZf4/63KTqQ1cgl8AhituenKF2XBa/3OXxk7wevEoD6v/U/ulNE+prNtz0E38qpj jAoGJo3NMcM9CZ/A7imVncI+Q3Jf5Xc9xSbyM= X-Google-DKIM-Signature: v=1; a=rsa-sha256; c=relaxed/relaxed; d=1e100.net; s=20230601; t=1739262213; x=1739867013; h=cc:to:from:subject:message-id:date:x-gm-message-state:from:to:cc :subject:date:message-id:reply-to; bh=Vfq6fm3jo3MzQP+6I5dimETY9N8qGSXAlQdYb9AKSlM=; b=oWj21ytVGYCAZDuAWJvltWxPPS8PNVJY1Dk6BZ94ECWxZBTd9XqpfGus21gHoFznqz dn7RKNppsYmQID3kxxnVczCUj1nk22ib9i8pJIzF8B8CYSPlBeEWom+AoNQQYu77A3qU qsAnw7bmMg+/Z89SiYUtvkpYz4MpZVdcDLCsgF096z/1uLRJZwzGJQacWMLJwJkGwhJn wCFDDyR0FHvYhyMDxeyF9TZvLWa5FjWv7jg0uS9quDzztYjrZK8in9iCVB/6Yj5Yiu9F IDsOWUEhhj8ws63dcfHYy26hgWlQ5kgqOOKSh/mh1BKmCM7G/HmTs9m0MfERLxn2kOak MWDA== X-Gm-Message-State: AOJu0Ywpys9xljcexFGjHLpaqyzd/wkWV9A6lBLy9iFFWoR57gpCLeyw tRH1gYkbO7WtORmip8xUPXhpd9X9cT8y8/wFUVoaKp7GAVA4Qb2pXMg7SFRuxEg2U2xHGKB2ccn CwcfUtH8O9y7b+HdQwbLfmJS1ON3UiUxic76zEza1VkX+Yt1f X-Gm-Gg: ASbGncvTtv8oo4onpkJfc9OaRxjpVKcJlE+gDRUP5B9cqhiow6Z0cVUpbqiPi/FtrWz 87I+DR8LcpbqdZrsMx2J2DMqAGJqbndphrFIvuz3TfbmlNWddLv6A8kywqEMoonPWd07rfI7aXK hW7PdF9L8KsaxUZw9SXfn++dnJAuDpFkiCwqo4/h3Fzed2QOKJgN+QjBj/yWOaNP/GpR4ASq3wW s78II+ltGK8bLb+Z8aEGXv90vTzYVu0ttuaeClhxvggmX2F/XpE+GsUasjUE45L0znSemyvyOHI EJGDxE4GCGGFLkai1zZwWPxfc7ovKIlLpQYuumJcqA== X-Google-Smtp-Source: AGHT+IG/K4uYTE2SkK2b0rQg5KBDxtPQzVYv+codDTq6ZdPbBGLrahXv+mCYEG4Lm8Uoid/0Vboket6QiUYq X-Received: by 2002:a05:6214:b6c:b0:6e1:f40c:b558 with SMTP id 6a1803df08f44-6e4678977a8mr37035216d6.44.1739262213717; Tue, 11 Feb 2025 00:23:33 -0800 (PST) Received: from postal.iol.unh.edu (postal.iol.unh.edu. [2606:4100:3880:1234::84]) by smtp-relay.gmail.com with ESMTPS id 6a1803df08f44-6e450d6fa38sm4781496d6.3.2025.02.11.00.23.33 (version=TLS1_2 cipher=ECDHE-ECDSA-AES128-GCM-SHA256 bits=128/128); Tue, 11 Feb 2025 00:23:33 -0800 (PST) X-Relaying-Domain: iol.unh.edu Date: Tue, 11 Feb 2025 00:23:33 -0800 (PST) Message-ID: <67ab0905.050a0220.ccca6.96acSMTPIN_ADDED_MISSING@mx.google.com> Received: from [172.21.0.5] (unknown [172.18.0.240]) by postal.iol.unh.edu (Postfix) with ESMTP id 69F036052471; Tue, 11 Feb 2025 03:23:33 -0500 (EST) Subject: |SUCCESS| [GIT MASTER] 7ce7d3341d7e21c2a81f2fea8e451681d7306d77 From: dpdklab@iol.unh.edu To: Test Report Cc: dpdk-test-reports@iol.unh.edu, Xueming Li , Christian Ehrhardt , Kevin Traynor , Luca Boccassi Content-Type: text/plain X-BeenThere: test-report@dpdk.org X-Mailman-Version: 2.1.29 Precedence: list List-Id: automatic DPDK test reports List-Unsubscribe: , List-Archive: List-Post: List-Help: List-Subscribe: , Errors-To: test-report-bounces@dpdk.org _Testing PASS_ Branch: tags/v22.11 7ce7d3341d7e21c2a81f2fea8e451681d7306d77 --> testing pass Upstream job id: Generic-DPDK-Compile-ABI#115765 Test environment and result as below: +-------------------+----------+ | Environment | abi_test | +===================+==========+ | CentOS Stream 9 | PASS | +-------------------+----------+ | CentOS Stream 10 | PASS | +-------------------+----------+ | Debian Bullseye | PASS | +-------------------+----------+ | Fedora 40 | PASS | +-------------------+----------+ | Debian 12 | PASS | +-------------------+----------+ | Fedora 41 | PASS | +-------------------+----------+ | Fedora 41 (Clang) | PASS | +-------------------+----------+ | openSUSE Leap 15 | PASS | +-------------------+----------+ | Fedora 40 (Clang) | PASS | +-------------------+----------+ | RHEL8 | PASS | +-------------------+----------+ | Ubuntu 22.04 | PASS | +-------------------+----------+ | RHEL9 | PASS | +-------------------+----------+ | Ubuntu 24.04 | PASS | +-------------------+----------+ CentOS Stream 9 Kernel: Depends on container host Compiler: gcc 11.5.0 20240719 (Red Hat 11.5.0-2) CentOS Stream 10 Kernel: Depends on container host Compiler: gcc 14.2.1 20241104 (Red Hat 14.2.1-6) Debian Bullseye Kernel: Depends on container host Compiler: gcc (Debian 10.2.1-6) 10.2.1 20210110 Fedora 40 Kernel: Depends on container host Compiler: gcc 14.2.1 20240912 (Red Hat 14.2.1-3) Debian 12 Kernel: Depends on container host Compiler: gcc (Debian 12.2.0-14) 12.2.0 Fedora 41 Kernel: Depends on container host Compiler: gcc 14.2.1 20240912 (Red Hat 14.2.1-3) Fedora 41 (Clang) Kernel: Depends on container host Compiler: clang 19.1.5 (Fedora 19.1.5-1.fc41) openSUSE Leap 15 Kernel: Depends on container host Compiler: gcc (SUSE Linux) 7.5.0 Fedora 40 (Clang) Kernel: Depends on container host Compiler: clang 18.1.8 (Fedora 18.1.8-1.fc40) RHEL8 Kernel: Depends on container host Compiler: gcc 8.5.0 20210514 (Red Hat 8.5.0-22) Ubuntu 22.04 Kernel: Depends on container host Compiler: gcc (Ubuntu 11.4.0-1ubuntu1~22.04) 11.4.0 RHEL9 Kernel: Depends on container host Compiler: gcc 11.5.0 20240719 (Red Hat 11.5.0-2) Ubuntu 24.04 Kernel: Depends on container host Compiler: gcc (Ubuntu 13.3.0-6ubuntu2~24.04) 13.3.0 To view detailed results, visit: https://lab.dpdk.org/results/dashboard/tarballs/32537/ UNH-IOL DPDK Community Lab To manage your email subscriptions, visit: https://lab.dpdk.org/results/dashboard/preferences/subscriptions/