From mboxrd@z Thu Jan 1 00:00:00 1970 Return-Path: Received: from mails.dpdk.org (mails.dpdk.org [217.70.189.124]) by inbox.dpdk.org (Postfix) with ESMTP id 52581461F4 for ; Tue, 11 Feb 2025 09:29:54 +0100 (CET) Received: from mails.dpdk.org (localhost [127.0.0.1]) by mails.dpdk.org (Postfix) with ESMTP id 2AE1A40156; Tue, 11 Feb 2025 09:29:54 +0100 (CET) Received: from mail-il1-f227.google.com (mail-il1-f227.google.com [209.85.166.227]) by mails.dpdk.org (Postfix) with ESMTP id EC10240150 for ; Tue, 11 Feb 2025 09:29:52 +0100 (CET) Received: by mail-il1-f227.google.com with SMTP id e9e14a558f8ab-3d150512bd5so8873555ab.3 for ; Tue, 11 Feb 2025 00:29:52 -0800 (PST) DKIM-Signature: v=1; a=rsa-sha256; c=relaxed/relaxed; d=iol.unh.edu; s=unh-iol; t=1739262592; x=1739867392; darn=dpdk.org; h=cc:to:from:subject:message-id:date:from:to:cc:subject:date :message-id:reply-to; bh=3VNcTuompJqQm5Q9yzhSYhVKVthnZz4XK/T9LHYmf2Y=; b=KxVtJ+Dsq/D2TryMa4+GfcgF9u0KBAGctDnZozbhnx44T4WYhYwNNGrbBdxwA+hN4z RknSEgDRRyRTt3LpXvit+rYh0U38N4A300xsV0re1pSI2wsrfxvD7RkvRSgIhb2S5bVc rm/aRJ53HCBO8wokaWiiEDZ7ppNRBCiQSClPM= X-Google-DKIM-Signature: v=1; a=rsa-sha256; c=relaxed/relaxed; d=1e100.net; s=20230601; t=1739262592; x=1739867392; h=cc:to:from:subject:message-id:date:x-gm-message-state:from:to:cc :subject:date:message-id:reply-to; bh=3VNcTuompJqQm5Q9yzhSYhVKVthnZz4XK/T9LHYmf2Y=; b=fJtTRNGfFAow70nl+tqEdejvZ5Hs7hZgduMqruacelx9jf6pZkwgKQhFfqQ5fgjT7P oHDCCkN/H/BpERG5NHR7u2oBnq+mFV73NF4YDXT2D8nAhpiVkab0dDkS4pTx+d+ifGcl gqTkSptbGmEHyfEPzlSXKAi4NPHMl2dmq2U+7Oj7rB0sMHAnzl9LAfdJ6SGk0DHmEFMc fJ/khXs1iV0XvweXK+CLHj2H1WBVB6YZ++eqp5oj3E5lU68A92kHB01LqwZBe1klFOjO 6eKAa4+zPJvGiEeL+Isz8Z6/173SNv3BEibPOGbSx5gQabzhuOsF0icXL2RXmhrdWOR7 pA8w== X-Gm-Message-State: AOJu0YxUyZCX3fy+Ocd8GwpbeD4hQK1lOCIgxB+u8tdT0AZ3gEaI7gWM RSLujK3NQCwfzQU9Q9WqxrwQUWB20tRw2L9zNZ4T2bMt02njcxZrX6J70lzVKd1S+Kprbxmucmc a8I61KxgqVYUKp+tHlGh/v0SKBku1UtmD15K3A+Jp X-Gm-Gg: ASbGncuRN0VQoC82BAA4hdWZaZzZIV75ppigrYriiubhaisIbyZDwr7vl/pysy9kKFa 7KlyS6k+A1NF0Rviz/IeRbddmWG4NQ92Yj8xCedSMOP70Jf4Ke1U15Y8VS7xTLOi681riysDFlu x9OYHq2z134xetIci3rMrHDfR58uLSg6pdO+uuFCb0N2gSO2ThfKMLAuIOLmCs16asXl+KOIr3W D34HLyP4ggPUSKHaEg3puH7/WNwxhQZx6dxBVj2ETNWQEZzB9owdItEVbB24hlo7wUCJgUyrGDT JEcm4W2Key9y/aHEB4IzAosGlEg6bA== X-Google-Smtp-Source: AGHT+IEL3HuhM4LeBlsKmVex1JbHo7SgPHFLPt2TQ3HARm3KhC3YRqoSB9hnGPKhYd9ukHL9I++Ol8YmYCAb X-Received: by 2002:a05:6e02:2163:b0:3d0:2331:f809 with SMTP id e9e14a558f8ab-3d13dcde9e4mr141547115ab.2.1739262592210; Tue, 11 Feb 2025 00:29:52 -0800 (PST) Received: from postal.iol.unh.edu (postal.iol.unh.edu. [132.177.123.84]) by smtp-relay.gmail.com with ESMTPS id e9e14a558f8ab-3d14cc8d906sm4797265ab.2.2025.02.11.00.29.52 (version=TLS1_2 cipher=ECDHE-ECDSA-AES128-GCM-SHA256 bits=128/128); Tue, 11 Feb 2025 00:29:52 -0800 (PST) X-Relaying-Domain: iol.unh.edu Date: Tue, 11 Feb 2025 00:29:52 -0800 (PST) Message-ID: <67ab0a80.050a0220.18168f.9e39SMTPIN_ADDED_MISSING@mx.google.com> Received: from [172.21.0.6] (unknown [172.18.0.240]) by postal.iol.unh.edu (Postfix) with ESMTP id 87E476052471; Tue, 11 Feb 2025 03:29:51 -0500 (EST) Subject: |SUCCESS| [GIT MASTER] d4d1e6c55a2f17785ee6be361599e1c5ab28f0fb From: dpdklab@iol.unh.edu To: Test Report Cc: dpdk-test-reports@iol.unh.edu, Stephen Hemminger Content-Type: text/plain X-BeenThere: test-report@dpdk.org X-Mailman-Version: 2.1.29 Precedence: list List-Id: automatic DPDK test reports List-Unsubscribe: , List-Archive: List-Post: List-Help: List-Subscribe: , Errors-To: test-report-bounces@dpdk.org _Testing PASS_ Branch: dpdk-next-net d4d1e6c55a2f17785ee6be361599e1c5ab28f0fb --> testing pass Upstream job id: Windows-Compile-DPDK-Native#26616 Test environment and result as below: +---------------------+--------------------+-------------------+-------------------------+ | Environment | dpdk_meson_compile | dpdk_msvc_compile | dpdk_llvm_clang_compile | +=====================+====================+===================+=========================+ | FreeBSD 13.4 | PASS | SKIPPED | SKIPPED | +---------------------+--------------------+-------------------+-------------------------+ | FreeBSD 14.2 | PASS | SKIPPED | SKIPPED | +---------------------+--------------------+-------------------+-------------------------+ | Windows Server 2022 | SKIPPED | PASS | PASS | +---------------------+--------------------+-------------------+-------------------------+ FreeBSD 13.4 Kernel: 13.4-RELEASE-p1 Compiler: clang 18.1.6 FreeBSD 14.2 Kernel: 14.2-RELEASE Compiler: clang 18.1.6 Windows Server 2022 Kernel: 10.0.20348.2031 Compiler: clang 15.0.7, gcc 14.1.0 (MinGW), and MSVC VS 19.39.33521 To view detailed results, visit: https://lab.dpdk.org/results/dashboard/tarballs/32539/ UNH-IOL DPDK Community Lab To manage your email subscriptions, visit: https://lab.dpdk.org/results/dashboard/preferences/subscriptions/