From mboxrd@z Thu Jan 1 00:00:00 1970 Return-Path: Received: from mails.dpdk.org (mails.dpdk.org [217.70.189.124]) by inbox.dpdk.org (Postfix) with ESMTP id C5729461F4 for ; Tue, 11 Feb 2025 09:34:53 +0100 (CET) Received: from mails.dpdk.org (localhost [127.0.0.1]) by mails.dpdk.org (Postfix) with ESMTP id A832D40156; Tue, 11 Feb 2025 09:34:53 +0100 (CET) Received: from mail-io1-f100.google.com (mail-io1-f100.google.com [209.85.166.100]) by mails.dpdk.org (Postfix) with ESMTP id 81A4140150 for ; Tue, 11 Feb 2025 09:34:52 +0100 (CET) Received: by mail-io1-f100.google.com with SMTP id ca18e2360f4ac-8552cc5777fso129930839f.1 for ; Tue, 11 Feb 2025 00:34:52 -0800 (PST) DKIM-Signature: v=1; a=rsa-sha256; c=relaxed/relaxed; d=iol.unh.edu; s=unh-iol; t=1739262892; x=1739867692; darn=dpdk.org; h=cc:to:from:subject:message-id:date:from:to:cc:subject:date :message-id:reply-to; bh=A67HcOZgj2hPd6h2GYvv2s3/SF1wo0wCkHkwT1+HtIs=; b=Ke3DdutmbyQGDyQNpBtk79uGEMQ+Wi7jfHJg8bxGGrJHdKKkbZEHB+u/CBZXDIKk4y FqQHt2nnllaX04KeMd5UVndTeU+0U+/DfvoBFzck88g6v5O867Zbiu6ht1LJ8ebaNACN V4DsQjSlVznvbZhMNwjcpAO3yCrm3eZaLgImU= X-Google-DKIM-Signature: v=1; a=rsa-sha256; c=relaxed/relaxed; d=1e100.net; s=20230601; t=1739262892; x=1739867692; h=cc:to:from:subject:message-id:date:x-gm-message-state:from:to:cc :subject:date:message-id:reply-to; bh=A67HcOZgj2hPd6h2GYvv2s3/SF1wo0wCkHkwT1+HtIs=; b=HyW/GvOWttutzQxaBiXCDqERxrTXIX/wYYLYQt970ov7r1rpsqs8psyHzEtuarGsQ/ 3Y66hDHSfUV2xgVLGtM9BAQk1wwPW0vHd/2Pp998Wy0s1XFDGtoIh/G3KBSzXT//sXKR DZxC/pu2Hg5FSFBx7z+i0zsnX4oo5cXNNHcYLlTvO0Mrusxo2P0iPrezdtxfHk84gJJj no6rAHN/0yIu9UdTbxE0rRd7cRFW+sjkXoT2vf5dJ3EGFvzB13bAHmIh7xLisyFsLING MaHbls54O8IEGwuqnru/VGhIiMDtaebpC6/mF3/hyjZE0Ydzh4RtHN3y4eA+U1lbz7mo 8kaA== X-Gm-Message-State: AOJu0Yy5r8nazBbeISrPGxquZo4xSyD9IYCN48JhDuB0loQsOCmXw0HD LmXgxdCxe1FMxYNyh0L+OuqK+KwyzPZY+Sy9yvBQGPFKNtMHeyz7ZC44XNWvxbN/BXgBCAnWmVo zUUypW/9ybBzefzhrQcLgrGGpWEP3ygbMa6fRbDHF X-Gm-Gg: ASbGncvkkwJuRJzyuvtT0DrEEoWyRgS6hPmvKrt4wTeG4uz+yl0Pmj5+X3+RN21UmBE h7wmbzpYmDMo79efHA1A1zy7AITM9Lj8KkCOBvkMnw8kk+ufbc6PTJeWs7I6GNgL/Z+5FsqE920 fNYai5XyQQ9ojlLWErU6ob2rLmL+VvKsnzNjUj46QnfPPVbtdt37OU8OPQN6FLmqID5tHjfJbxq 0i0Op77PO8tvwYCt7zS+95PjjRx1tUT+dw+/HsjTjuOJY9nweeUVQzrJwMwWv4BwZSLtgCokP4o I7qmx7KeAXGSQzSPt2t9+/+yIYfpfg== X-Google-Smtp-Source: AGHT+IELeWkLMugJuYKHROwJpwTva3YGlEXI2ngqqLfd+dOjVVK0/Gw1sKSLntP3UT12RWt2arJzNE5nLhmf X-Received: by 2002:a05:6602:610b:b0:855:2a16:86d3 with SMTP id ca18e2360f4ac-8552a168af5mr651309239f.7.1739262891805; Tue, 11 Feb 2025 00:34:51 -0800 (PST) Received: from postal.iol.unh.edu (postal.iol.unh.edu. [132.177.123.84]) by smtp-relay.gmail.com with ESMTPS id 8926c6da1cb9f-4ed091433b9sm95200173.36.2025.02.11.00.34.51 (version=TLS1_2 cipher=ECDHE-ECDSA-AES128-GCM-SHA256 bits=128/128); Tue, 11 Feb 2025 00:34:51 -0800 (PST) X-Relaying-Domain: iol.unh.edu Date: Tue, 11 Feb 2025 00:34:51 -0800 (PST) Message-ID: <67ab0bab.050a0220.121c0b.50c2SMTPIN_ADDED_MISSING@mx.google.com> Received: from [172.21.0.5] (unknown [172.18.0.240]) by postal.iol.unh.edu (Postfix) with ESMTP id 4982E6052471; Tue, 11 Feb 2025 03:34:51 -0500 (EST) Subject: |SUCCESS| [GIT MASTER] d4d1e6c55a2f17785ee6be361599e1c5ab28f0fb From: dpdklab@iol.unh.edu To: Test Report Cc: dpdk-test-reports@iol.unh.edu, Stephen Hemminger Content-Type: text/plain X-BeenThere: test-report@dpdk.org X-Mailman-Version: 2.1.29 Precedence: list List-Id: automatic DPDK test reports List-Unsubscribe: , List-Archive: List-Post: List-Help: List-Subscribe: , Errors-To: test-report-bounces@dpdk.org _Testing PASS_ Branch: dpdk-next-net d4d1e6c55a2f17785ee6be361599e1c5ab28f0fb --> testing pass Upstream job id: Windows-Compile-DPDK-Native#26617 Test environment and result as below: +---------------------+--------------------+-------------------+-------------------------+----------------------+ | Environment | dpdk_meson_compile | dpdk_msvc_compile | dpdk_llvm_clang_compile | dpdk_mingw64_compile | +=====================+====================+===================+=========================+======================+ | FreeBSD 13.4 | PASS | SKIPPED | SKIPPED | SKIPPED | +---------------------+--------------------+-------------------+-------------------------+----------------------+ | FreeBSD 14.2 | PASS | SKIPPED | SKIPPED | SKIPPED | +---------------------+--------------------+-------------------+-------------------------+----------------------+ | Windows Server 2022 | SKIPPED | PASS | PASS | PASS | +---------------------+--------------------+-------------------+-------------------------+----------------------+ FreeBSD 13.4 Kernel: 13.4-RELEASE-p1 Compiler: clang 18.1.6 FreeBSD 14.2 Kernel: 14.2-RELEASE Compiler: clang 18.1.6 Windows Server 2022 Kernel: 10.0.20348.2031 Compiler: clang 15.0.7, gcc 14.1.0 (MinGW), and MSVC VS 19.39.33521 To view detailed results, visit: https://lab.dpdk.org/results/dashboard/tarballs/32539/ UNH-IOL DPDK Community Lab To manage your email subscriptions, visit: https://lab.dpdk.org/results/dashboard/preferences/subscriptions/